BEGIN:VCALENDAR
VERSION:2.0
PRODID:-//Eagle Point Senior Living - ECPv6.11.2.1//NONSGML v1.0//EN
CALSCALE:GREGORIAN
METHOD:PUBLISH
X-WR-CALNAME:Eagle Point Senior Living
X-ORIGINAL-URL:https://eaglepointseniorliving.com
X-WR-CALDESC:Events for Eagle Point Senior Living
REFRESH-INTERVAL;VALUE=DURATION:PT1H
X-Robots-Tag:noindex
X-PUBLISHED-TTL:PT1H
BEGIN:VTIMEZONE
TZID:America/Chicago
BEGIN:DAYLIGHT
TZOFFSETFROM:-0600
TZOFFSETTO:-0500
TZNAME:CDT
DTSTART:20250309T080000
END:DAYLIGHT
BEGIN:STANDARD
TZOFFSETFROM:-0500
TZOFFSETTO:-0600
TZNAME:CST
DTSTART:20251102T070000
END:STANDARD
END:VTIMEZONE
BEGIN:VEVENT
DTSTART;TZID=America/Chicago:20250824T080000
DTEND;TZID=America/Chicago:20250824T090000
DTSTAMP:20260421T102612
CREATED:20250726T043927Z
LAST-MODIFIED:20250824T055502Z
UID:10001481-1756022400-1756026000@eaglepointseniorliving.com
SUMMARY:Morning Melodies
DESCRIPTION:
URL:https://eaglepointseniorliving.com/event-calendar/morning-melodies-103/
CATEGORIES:Memory Care
END:VEVENT
BEGIN:VEVENT
DTSTART;TZID=America/Chicago:20250824T100000
DTEND;TZID=America/Chicago:20250824T114500
DTSTAMP:20260421T102612
CREATED:20250728T043950Z
LAST-MODIFIED:20250824T055502Z
UID:10001514-1756029600-1756035900@eaglepointseniorliving.com
SUMMARY:Coloring and puzzles
DESCRIPTION:
URL:https://eaglepointseniorliving.com/event-calendar/coloring-and-puzzles-3/
CATEGORIES:Memory Care
END:VEVENT
BEGIN:VEVENT
DTSTART;TZID=America/Chicago:20250824T130000
DTEND;TZID=America/Chicago:20250824T140000
DTSTAMP:20260421T102612
CREATED:20250728T043950Z
LAST-MODIFIED:20250824T055502Z
UID:10001515-1756040400-1756044000@eaglepointseniorliving.com
SUMMARY:Travel to Kansas
DESCRIPTION:
URL:https://eaglepointseniorliving.com/event-calendar/travel-to-kansas/
CATEGORIES:Memory Care
END:VEVENT
BEGIN:VEVENT
DTSTART;TZID=America/Chicago:20250824T140000
DTEND;TZID=America/Chicago:20250824T143000
DTSTAMP:20260421T102612
CREATED:20250726T043927Z
LAST-MODIFIED:20250824T055502Z
UID:10001482-1756044000-1756045800@eaglepointseniorliving.com
SUMMARY:Exercise
DESCRIPTION:
URL:https://eaglepointseniorliving.com/event-calendar/exercise-15/
CATEGORIES:Memory Care
END:VEVENT
BEGIN:VEVENT
DTSTART;TZID=America/Chicago:20250824T143000
DTEND;TZID=America/Chicago:20250824T153000
DTSTAMP:20260421T102612
CREATED:20250728T043950Z
LAST-MODIFIED:20250824T055502Z
UID:10001516-1756045800-1756049400@eaglepointseniorliving.com
SUMMARY:Sunflower Art
DESCRIPTION:
URL:https://eaglepointseniorliving.com/event-calendar/sunflower-art/
CATEGORIES:Memory Care
END:VEVENT
END:VCALENDAR