BEGIN:VCALENDAR
VERSION:2.0
PRODID:-//Eagle Point Senior Living - ECPv6.11.2.1//NONSGML v1.0//EN
CALSCALE:GREGORIAN
METHOD:PUBLISH
X-ORIGINAL-URL:https://eaglepointseniorliving.com
X-WR-CALDESC:Events for Eagle Point Senior Living
REFRESH-INTERVAL;VALUE=DURATION:PT1H
X-Robots-Tag:noindex
X-PUBLISHED-TTL:PT1H
BEGIN:VTIMEZONE
TZID:America/Chicago
BEGIN:DAYLIGHT
TZOFFSETFROM:-0600
TZOFFSETTO:-0500
TZNAME:CDT
DTSTART:20250309T080000
END:DAYLIGHT
BEGIN:STANDARD
TZOFFSETFROM:-0500
TZOFFSETTO:-0600
TZNAME:CST
DTSTART:20251102T070000
END:STANDARD
END:VTIMEZONE
BEGIN:VEVENT
DTSTART;TZID=America/Chicago:20250822T080000
DTEND;TZID=America/Chicago:20250822T090000
DTSTAMP:20260421T103413
CREATED:20250724T044227Z
LAST-MODIFIED:20250822T055435Z
UID:10001458-1755849600-1755853200@eaglepointseniorliving.com
SUMMARY:Morning Melodies
DESCRIPTION:
URL:https://eaglepointseniorliving.com/event-calendar/morning-melodies-101/
CATEGORIES:Memory Care
END:VEVENT
BEGIN:VEVENT
DTSTART;TZID=America/Chicago:20250822T093000
DTEND;TZID=America/Chicago:20250822T100000
DTSTAMP:20260421T103413
CREATED:20250724T044227Z
LAST-MODIFIED:20250822T055435Z
UID:10001459-1755855000-1755856800@eaglepointseniorliving.com
SUMMARY:Morning Exercise
DESCRIPTION:
URL:https://eaglepointseniorliving.com/event-calendar/morning-exercise-58/
CATEGORIES:Memory Care
END:VEVENT
BEGIN:VEVENT
DTSTART;TZID=America/Chicago:20250822T100000
DTEND;TZID=America/Chicago:20250822T110000
DTSTAMP:20260421T103413
CREATED:20250724T044228Z
LAST-MODIFIED:20250822T055435Z
UID:10001460-1755856800-1755860400@eaglepointseniorliving.com
SUMMARY:Daily Spirit Spark
DESCRIPTION:Various spiritual topics and activities with Chaplain Peter.
URL:https://eaglepointseniorliving.com/event-calendar/daily-spirit-spark-37/
CATEGORIES:Memory Care
END:VEVENT
BEGIN:VEVENT
DTSTART;TZID=America/Chicago:20250822T120000
DTEND;TZID=America/Chicago:20250822T123000
DTSTAMP:20260421T103413
CREATED:20250724T044228Z
LAST-MODIFIED:20250822T055435Z
UID:10001461-1755864000-1755865800@eaglepointseniorliving.com
SUMMARY:Oshibori
DESCRIPTION:
URL:https://eaglepointseniorliving.com/event-calendar/oshibori-164/
CATEGORIES:Memory Care
END:VEVENT
END:VCALENDAR