BEGIN:VCALENDAR
VERSION:2.0
PRODID:-//Eagle Point Senior Living - ECPv6.11.2.1//NONSGML v1.0//EN
CALSCALE:GREGORIAN
METHOD:PUBLISH
X-ORIGINAL-URL:https://eaglepointseniorliving.com
X-WR-CALDESC:Events for Eagle Point Senior Living
REFRESH-INTERVAL;VALUE=DURATION:PT1H
X-Robots-Tag:noindex
X-PUBLISHED-TTL:PT1H
BEGIN:VTIMEZONE
TZID:America/Chicago
BEGIN:DAYLIGHT
TZOFFSETFROM:-0600
TZOFFSETTO:-0500
TZNAME:CDT
DTSTART:20250309T080000
END:DAYLIGHT
BEGIN:STANDARD
TZOFFSETFROM:-0500
TZOFFSETTO:-0600
TZNAME:CST
DTSTART:20251102T070000
END:STANDARD
END:VTIMEZONE
BEGIN:VEVENT
DTSTART;TZID=America/Chicago:20250820T080000
DTEND;TZID=America/Chicago:20250820T090000
DTSTAMP:20260421T103403
CREATED:20250722T043928Z
LAST-MODIFIED:20250820T052524Z
UID:10001431-1755676800-1755680400@eaglepointseniorliving.com
SUMMARY:Morning Melodies
DESCRIPTION:
URL:https://eaglepointseniorliving.com/event-calendar/morning-melodies-99/
CATEGORIES:Memory Care
END:VEVENT
BEGIN:VEVENT
DTSTART;TZID=America/Chicago:20250820T093000
DTEND;TZID=America/Chicago:20250820T100000
DTSTAMP:20260421T103403
CREATED:20250722T043928Z
LAST-MODIFIED:20250820T052524Z
UID:10001432-1755682200-1755684000@eaglepointseniorliving.com
SUMMARY:Morning Exercise
DESCRIPTION:
URL:https://eaglepointseniorliving.com/event-calendar/morning-exercise-57/
CATEGORIES:Memory Care
END:VEVENT
BEGIN:VEVENT
DTSTART;TZID=America/Chicago:20250820T100000
DTEND;TZID=America/Chicago:20250820T103000
DTSTAMP:20260421T103403
CREATED:20250722T043928Z
LAST-MODIFIED:20250820T052524Z
UID:10001433-1755684000-1755685800@eaglepointseniorliving.com
SUMMARY:Weekly Worship
DESCRIPTION:Christian worship service with communion led by Chaplain Peter.
URL:https://eaglepointseniorliving.com/event-calendar/weekly-worship-8/
CATEGORIES:Memory Care
END:VEVENT
BEGIN:VEVENT
DTSTART;TZID=America/Chicago:20250820T110000
DTEND;TZID=America/Chicago:20250820T113000
DTSTAMP:20260421T103403
CREATED:20250722T043928Z
LAST-MODIFIED:20250820T052524Z
UID:10001434-1755687600-1755689400@eaglepointseniorliving.com
SUMMARY:Resident Wednesday
DESCRIPTION:
URL:https://eaglepointseniorliving.com/event-calendar/resident-wednesday-15/
CATEGORIES:Memory Care
END:VEVENT
BEGIN:VEVENT
DTSTART;TZID=America/Chicago:20250820T120000
DTEND;TZID=America/Chicago:20250820T123000
DTSTAMP:20260421T103403
CREATED:20250722T043928Z
LAST-MODIFIED:20250820T052524Z
UID:10001435-1755691200-1755693000@eaglepointseniorliving.com
SUMMARY:Oshibori
DESCRIPTION:
URL:https://eaglepointseniorliving.com/event-calendar/oshibori-162/
CATEGORIES:Memory Care
END:VEVENT
BEGIN:VEVENT
DTSTART;TZID=America/Chicago:20250820T133000
DTEND;TZID=America/Chicago:20250820T143000
DTSTAMP:20260421T103403
CREATED:20250722T043928Z
LAST-MODIFIED:20250820T052524Z
UID:10001436-1755696600-1755700200@eaglepointseniorliving.com
SUMMARY:Outside on The Patio
DESCRIPTION:
URL:https://eaglepointseniorliving.com/event-calendar/outside-on-the-patio-36/
CATEGORIES:Memory Care
END:VEVENT
END:VCALENDAR