BEGIN:VCALENDAR
VERSION:2.0
PRODID:-//Eagle Point Senior Living - ECPv6.11.2.1//NONSGML v1.0//EN
CALSCALE:GREGORIAN
METHOD:PUBLISH
X-WR-CALNAME:Eagle Point Senior Living
X-ORIGINAL-URL:https://eaglepointseniorliving.com
X-WR-CALDESC:Events for Eagle Point Senior Living
REFRESH-INTERVAL;VALUE=DURATION:PT1H
X-Robots-Tag:noindex
X-PUBLISHED-TTL:PT1H
BEGIN:VTIMEZONE
TZID:America/Chicago
BEGIN:DAYLIGHT
TZOFFSETFROM:-0600
TZOFFSETTO:-0500
TZNAME:CDT
DTSTART:20250309T080000
END:DAYLIGHT
BEGIN:STANDARD
TZOFFSETFROM:-0500
TZOFFSETTO:-0600
TZNAME:CST
DTSTART:20251102T070000
END:STANDARD
END:VTIMEZONE
BEGIN:VEVENT
DTSTART;TZID=America/Chicago:20250806T080000
DTEND;TZID=America/Chicago:20250806T090000
DTSTAMP:20260421T103147
CREATED:20250708T032438Z
LAST-MODIFIED:20250806T043923Z
UID:10001211-1754467200-1754470800@eaglepointseniorliving.com
SUMMARY:Morning Melodies
DESCRIPTION:
URL:https://eaglepointseniorliving.com/event-calendar/morning-melodies-85/
CATEGORIES:Memory Care
END:VEVENT
BEGIN:VEVENT
DTSTART;TZID=America/Chicago:20250806T093000
DTEND;TZID=America/Chicago:20250806T100000
DTSTAMP:20260421T103147
CREATED:20250718T042438Z
LAST-MODIFIED:20250806T043923Z
UID:10001369-1754472600-1754474400@eaglepointseniorliving.com
SUMMARY:Morning Exercise
DESCRIPTION:
URL:https://eaglepointseniorliving.com/event-calendar/morning-exercise-45/
CATEGORIES:Memory Care
END:VEVENT
BEGIN:VEVENT
DTSTART;TZID=America/Chicago:20250806T100000
DTEND;TZID=America/Chicago:20250806T103000
DTSTAMP:20260421T103147
CREATED:20250708T032438Z
LAST-MODIFIED:20250806T043923Z
UID:10001213-1754474400-1754476200@eaglepointseniorliving.com
SUMMARY:Weekly Worship
DESCRIPTION:Christian worship service with communion led by Chaplain Peter.
URL:https://eaglepointseniorliving.com/event-calendar/weekly-worship-6/
CATEGORIES:Memory Care
END:VEVENT
BEGIN:VEVENT
DTSTART;TZID=America/Chicago:20250806T110000
DTEND;TZID=America/Chicago:20250806T113000
DTSTAMP:20260421T103147
CREATED:20250708T032438Z
LAST-MODIFIED:20250806T043923Z
UID:10001214-1754478000-1754479800@eaglepointseniorliving.com
SUMMARY:Resident Wednesday
DESCRIPTION:
URL:https://eaglepointseniorliving.com/event-calendar/resident-wednesday-13/
CATEGORIES:Memory Care
END:VEVENT
BEGIN:VEVENT
DTSTART;TZID=America/Chicago:20250806T120000
DTEND;TZID=America/Chicago:20250806T123000
DTSTAMP:20260421T103147
CREATED:20250708T032438Z
LAST-MODIFIED:20250806T043923Z
UID:10001215-1754481600-1754483400@eaglepointseniorliving.com
SUMMARY:Oshibori
DESCRIPTION:
URL:https://eaglepointseniorliving.com/event-calendar/oshibori-152/
CATEGORIES:Memory Care
END:VEVENT
BEGIN:VEVENT
DTSTART;TZID=America/Chicago:20250806T133000
DTEND;TZID=America/Chicago:20250806T143000
DTSTAMP:20260421T103147
CREATED:20250718T042438Z
LAST-MODIFIED:20250806T043923Z
UID:10001370-1754487000-1754490600@eaglepointseniorliving.com
SUMMARY:Afternoon Sunshine on The Patio
DESCRIPTION:
URL:https://eaglepointseniorliving.com/event-calendar/outside-on-the-patio-33/
CATEGORIES:Memory Care
END:VEVENT
BEGIN:VEVENT
DTSTART;TZID=America/Chicago:20250806T190000
DTEND;TZID=America/Chicago:20250806T200000
DTSTAMP:20260421T103147
CREATED:20250708T032439Z
LAST-MODIFIED:20250806T043923Z
UID:10001218-1754506800-1754510400@eaglepointseniorliving.com
SUMMARY:Snack Pass & Reminisce
DESCRIPTION:
URL:https://eaglepointseniorliving.com/event-calendar/snack-pass-reminisce-86/
CATEGORIES:Memory Care
END:VEVENT
END:VCALENDAR