BEGIN:VCALENDAR
VERSION:2.0
PRODID:-//Eagle Point Senior Living - ECPv6.11.2.1//NONSGML v1.0//EN
CALSCALE:GREGORIAN
METHOD:PUBLISH
X-WR-CALNAME:Eagle Point Senior Living
X-ORIGINAL-URL:https://eaglepointseniorliving.com
X-WR-CALDESC:Events for Eagle Point Senior Living
REFRESH-INTERVAL;VALUE=DURATION:PT1H
X-Robots-Tag:noindex
X-PUBLISHED-TTL:PT1H
BEGIN:VTIMEZONE
TZID:America/Chicago
BEGIN:DAYLIGHT
TZOFFSETFROM:-0600
TZOFFSETTO:-0500
TZNAME:CDT
DTSTART:20250309T080000
END:DAYLIGHT
BEGIN:STANDARD
TZOFFSETFROM:-0500
TZOFFSETTO:-0600
TZNAME:CST
DTSTART:20251102T070000
END:STANDARD
END:VTIMEZONE
BEGIN:VEVENT
DTSTART;TZID=America/Chicago:20250801T080000
DTEND;TZID=America/Chicago:20250801T090000
DTSTAMP:20260421T102453
CREATED:20250703T022442Z
LAST-MODIFIED:20250801T043925Z
UID:10001140-1754035200-1754038800@eaglepointseniorliving.com
SUMMARY:Morning Melodies
DESCRIPTION:
URL:https://eaglepointseniorliving.com/event-calendar/morning-melodies-80/
CATEGORIES:Memory Care
END:VEVENT
BEGIN:VEVENT
DTSTART;TZID=America/Chicago:20250801T093000
DTEND;TZID=America/Chicago:20250801T100000
DTSTAMP:20260421T102453
CREATED:20250718T042437Z
LAST-MODIFIED:20250801T043925Z
UID:10001367-1754040600-1754042400@eaglepointseniorliving.com
SUMMARY:Morning Sunshine on The Patio
DESCRIPTION:
URL:https://eaglepointseniorliving.com/event-calendar/morning-exercise-43/
CATEGORIES:Memory Care
END:VEVENT
BEGIN:VEVENT
DTSTART;TZID=America/Chicago:20250801T100000
DTEND;TZID=America/Chicago:20250801T110000
DTSTAMP:20260421T102453
CREATED:20250703T022442Z
LAST-MODIFIED:20250801T043925Z
UID:10001143-1754042400-1754046000@eaglepointseniorliving.com
SUMMARY:Daily Spirit Spark
DESCRIPTION:Various spiritual topics and activities with Chaplain Peter.
URL:https://eaglepointseniorliving.com/event-calendar/daily-spirit-spark-28/
CATEGORIES:Memory Care
END:VEVENT
BEGIN:VEVENT
DTSTART;TZID=America/Chicago:20250801T120000
DTEND;TZID=America/Chicago:20250801T123000
DTSTAMP:20260421T102453
CREATED:20250703T022442Z
LAST-MODIFIED:20250801T043925Z
UID:10001144-1754049600-1754051400@eaglepointseniorliving.com
SUMMARY:Oshibori
DESCRIPTION:
URL:https://eaglepointseniorliving.com/event-calendar/oshibori-149/
CATEGORIES:Memory Care
END:VEVENT
BEGIN:VEVENT
DTSTART;TZID=America/Chicago:20250801T190000
DTEND;TZID=America/Chicago:20250801T200000
DTSTAMP:20260421T102453
CREATED:20250703T022442Z
LAST-MODIFIED:20250801T043925Z
UID:10001145-1754074800-1754078400@eaglepointseniorliving.com
SUMMARY:Snack Pass & Reminisce
DESCRIPTION:
URL:https://eaglepointseniorliving.com/event-calendar/snack-pass-reminisce-81/
CATEGORIES:Memory Care
END:VEVENT
END:VCALENDAR