BEGIN:VCALENDAR
VERSION:2.0
PRODID:-//Eagle Point Senior Living - ECPv6.11.2.1//NONSGML v1.0//EN
CALSCALE:GREGORIAN
METHOD:PUBLISH
X-ORIGINAL-URL:https://eaglepointseniorliving.com
X-WR-CALDESC:Events for Eagle Point Senior Living
REFRESH-INTERVAL;VALUE=DURATION:PT1H
X-Robots-Tag:noindex
X-PUBLISHED-TTL:PT1H
BEGIN:VTIMEZONE
TZID:America/Chicago
BEGIN:DAYLIGHT
TZOFFSETFROM:-0600
TZOFFSETTO:-0500
TZNAME:CDT
DTSTART:20250309T080000
END:DAYLIGHT
BEGIN:STANDARD
TZOFFSETFROM:-0500
TZOFFSETTO:-0600
TZNAME:CST
DTSTART:20251102T070000
END:STANDARD
END:VTIMEZONE
BEGIN:VEVENT
DTSTART;TZID=America/Chicago:20250725T080000
DTEND;TZID=America/Chicago:20250725T090000
DTSTAMP:20260421T115254
CREATED:20250626T021008Z
LAST-MODIFIED:20250725T044055Z
UID:10001025-1753430400-1753434000@eaglepointseniorliving.com
SUMMARY:Morning Melodies
DESCRIPTION:
URL:https://eaglepointseniorliving.com/event-calendar/morning-melodies-73/
CATEGORIES:Memory Care
END:VEVENT
BEGIN:VEVENT
DTSTART;TZID=America/Chicago:20250725T093000
DTEND;TZID=America/Chicago:20250725T100000
DTSTAMP:20260421T115254
CREATED:20250719T044011Z
LAST-MODIFIED:20250725T044055Z
UID:10001389-1753435800-1753437600@eaglepointseniorliving.com
SUMMARY:Morning Exercise
DESCRIPTION:
URL:https://eaglepointseniorliving.com/event-calendar/morning-exercise-54/
CATEGORIES:Memory Care
END:VEVENT
BEGIN:VEVENT
DTSTART;TZID=America/Chicago:20250725T100000
DTEND;TZID=America/Chicago:20250725T110000
DTSTAMP:20260421T115254
CREATED:20250626T021008Z
LAST-MODIFIED:20250725T044055Z
UID:10001029-1753437600-1753441200@eaglepointseniorliving.com
SUMMARY:Music With Bobby Solberg
DESCRIPTION:
URL:https://eaglepointseniorliving.com/event-calendar/music-with-bobby-solberg/
CATEGORIES:Memory Care
END:VEVENT
BEGIN:VEVENT
DTSTART;TZID=America/Chicago:20250725T120000
DTEND;TZID=America/Chicago:20250725T123000
DTSTAMP:20260421T115254
CREATED:20250626T021008Z
LAST-MODIFIED:20250725T044055Z
UID:10001030-1753444800-1753446600@eaglepointseniorliving.com
SUMMARY:Oshibori
DESCRIPTION:
URL:https://eaglepointseniorliving.com/event-calendar/oshibori-144/
CATEGORIES:Memory Care
END:VEVENT
BEGIN:VEVENT
DTSTART;TZID=America/Chicago:20250725T190000
DTEND;TZID=America/Chicago:20250725T200000
DTSTAMP:20260421T115254
CREATED:20250626T021008Z
LAST-MODIFIED:20250725T044055Z
UID:10001032-1753470000-1753473600@eaglepointseniorliving.com
SUMMARY:Snack Pass & Reminisce
DESCRIPTION:
URL:https://eaglepointseniorliving.com/event-calendar/snack-pass-reminisce-74/
CATEGORIES:Memory Care
END:VEVENT
END:VCALENDAR