BEGIN:VCALENDAR
VERSION:2.0
PRODID:-//Eagle Point Senior Living - ECPv6.11.2.1//NONSGML v1.0//EN
CALSCALE:GREGORIAN
METHOD:PUBLISH
X-WR-CALNAME:Eagle Point Senior Living
X-ORIGINAL-URL:https://eaglepointseniorliving.com
X-WR-CALDESC:Events for Eagle Point Senior Living
REFRESH-INTERVAL;VALUE=DURATION:PT1H
X-Robots-Tag:noindex
X-PUBLISHED-TTL:PT1H
BEGIN:VTIMEZONE
TZID:America/Chicago
BEGIN:DAYLIGHT
TZOFFSETFROM:-0600
TZOFFSETTO:-0500
TZNAME:CDT
DTSTART:20250309T080000
END:DAYLIGHT
BEGIN:STANDARD
TZOFFSETFROM:-0500
TZOFFSETTO:-0600
TZNAME:CST
DTSTART:20251102T070000
END:STANDARD
END:VTIMEZONE
BEGIN:VEVENT
DTSTART;TZID=America/Chicago:20250722T080000
DTEND;TZID=America/Chicago:20250722T090000
DTSTAMP:20260421T115411
CREATED:20250623T020930Z
LAST-MODIFIED:20250722T043925Z
UID:10000969-1753171200-1753174800@eaglepointseniorliving.com
SUMMARY:Morning Melodies
DESCRIPTION:
URL:https://eaglepointseniorliving.com/event-calendar/morning-melodies-70/
CATEGORIES:Memory Care
END:VEVENT
BEGIN:VEVENT
DTSTART;TZID=America/Chicago:20250722T090000
DTEND;TZID=America/Chicago:20250722T093000
DTSTAMP:20260421T115411
CREATED:20250719T044010Z
LAST-MODIFIED:20250722T043925Z
UID:10001387-1753174800-1753176600@eaglepointseniorliving.com
SUMMARY:Morning Exercise
DESCRIPTION:
URL:https://eaglepointseniorliving.com/event-calendar/morning-exercise-52/
CATEGORIES:Memory Care
END:VEVENT
BEGIN:VEVENT
DTSTART;TZID=America/Chicago:20250722T093000
DTEND;TZID=America/Chicago:20250722T100000
DTSTAMP:20260421T115411
CREATED:20250710T032656Z
LAST-MODIFIED:20250722T043925Z
UID:10001251-1753176600-1753178400@eaglepointseniorliving.com
SUMMARY:News Currents
DESCRIPTION:
URL:https://eaglepointseniorliving.com/event-calendar/current-events-10/
CATEGORIES:Memory Care
END:VEVENT
BEGIN:VEVENT
DTSTART;TZID=America/Chicago:20250722T100000
DTEND;TZID=America/Chicago:20250722T110000
DTSTAMP:20260421T115411
CREATED:20250627T020927Z
LAST-MODIFIED:20250722T043925Z
UID:10001055-1753178400-1753182000@eaglepointseniorliving.com
SUMMARY:Daily Spirit Spark
DESCRIPTION:Various spiritual topics and activities with Chaplain Peter.
URL:https://eaglepointseniorliving.com/event-calendar/daily-spirit-spark-26/
CATEGORIES:Memory Care
END:VEVENT
BEGIN:VEVENT
DTSTART;TZID=America/Chicago:20250722T120000
DTEND;TZID=America/Chicago:20250722T123000
DTSTAMP:20260421T115411
CREATED:20250623T020930Z
LAST-MODIFIED:20250722T043925Z
UID:10000971-1753185600-1753187400@eaglepointseniorliving.com
SUMMARY:Oshibori
DESCRIPTION:
URL:https://eaglepointseniorliving.com/event-calendar/oshibori-141/
CATEGORIES:Memory Care
END:VEVENT
BEGIN:VEVENT
DTSTART;TZID=America/Chicago:20250722T133000
DTEND;TZID=America/Chicago:20250722T140000
DTSTAMP:20260421T115411
CREATED:20250623T020930Z
LAST-MODIFIED:20250722T043925Z
UID:10000975-1753191000-1753192800@eaglepointseniorliving.com
SUMMARY:Reminisce
DESCRIPTION:
URL:https://eaglepointseniorliving.com/event-calendar/reminisce-21/
CATEGORIES:Memory Care
END:VEVENT
BEGIN:VEVENT
DTSTART;TZID=America/Chicago:20250722T140000
DTEND;TZID=America/Chicago:20250722T143000
DTSTAMP:20260421T115411
CREATED:20250623T020930Z
LAST-MODIFIED:20250722T043925Z
UID:10000974-1753192800-1753194600@eaglepointseniorliving.com
SUMMARY:Hagar the Comfort Dog
DESCRIPTION:Hagar makes a stop to visit with everyone to bring comfort and joy!
URL:https://eaglepointseniorliving.com/event-calendar/hagar-the-comfort-dog-3/
CATEGORIES:Memory Care
END:VEVENT
BEGIN:VEVENT
DTSTART;TZID=America/Chicago:20250722T190000
DTEND;TZID=America/Chicago:20250722T200000
DTSTAMP:20260421T115411
CREATED:20250623T020930Z
LAST-MODIFIED:20250722T043925Z
UID:10000976-1753210800-1753214400@eaglepointseniorliving.com
SUMMARY:Snack Pass & Reminisce
DESCRIPTION:
URL:https://eaglepointseniorliving.com/event-calendar/snack-pass-reminisce-71/
CATEGORIES:Memory Care
END:VEVENT
END:VCALENDAR