BEGIN:VCALENDAR
VERSION:2.0
PRODID:-//Eagle Point Senior Living - ECPv6.11.2.1//NONSGML v1.0//EN
CALSCALE:GREGORIAN
METHOD:PUBLISH
X-WR-CALNAME:Eagle Point Senior Living
X-ORIGINAL-URL:https://eaglepointseniorliving.com
X-WR-CALDESC:Events for Eagle Point Senior Living
REFRESH-INTERVAL;VALUE=DURATION:PT1H
X-Robots-Tag:noindex
X-PUBLISHED-TTL:PT1H
BEGIN:VTIMEZONE
TZID:America/Chicago
BEGIN:DAYLIGHT
TZOFFSETFROM:-0600
TZOFFSETTO:-0500
TZNAME:CDT
DTSTART:20250309T080000
END:DAYLIGHT
BEGIN:STANDARD
TZOFFSETFROM:-0500
TZOFFSETTO:-0600
TZNAME:CST
DTSTART:20251102T070000
END:STANDARD
END:VTIMEZONE
BEGIN:VEVENT
DTSTART;TZID=America/Chicago:20250720T080000
DTEND;TZID=America/Chicago:20250720T090000
DTSTAMP:20260421T115410
CREATED:20250621T015456Z
LAST-MODIFIED:20250720T043925Z
UID:10000934-1752998400-1753002000@eaglepointseniorliving.com
SUMMARY:Morning Melodies
DESCRIPTION:
URL:https://eaglepointseniorliving.com/event-calendar/morning-melodies-68/
CATEGORIES:Memory Care
END:VEVENT
BEGIN:VEVENT
DTSTART;TZID=America/Chicago:20250720T100000
DTEND;TZID=America/Chicago:20250720T110000
DTSTAMP:20260421T115410
CREATED:20250621T015456Z
LAST-MODIFIED:20250720T043925Z
UID:10000935-1753005600-1753009200@eaglepointseniorliving.com
SUMMARY:Manicures
DESCRIPTION:
URL:https://eaglepointseniorliving.com/event-calendar/manicures-10/
CATEGORIES:Memory Care
END:VEVENT
BEGIN:VEVENT
DTSTART;TZID=America/Chicago:20250720T130000
DTEND;TZID=America/Chicago:20250720T140000
DTSTAMP:20260421T115410
CREATED:20250623T020930Z
LAST-MODIFIED:20250720T043925Z
UID:10000966-1753016400-1753020000@eaglepointseniorliving.com
SUMMARY:Travel to New Zealand
DESCRIPTION:
URL:https://eaglepointseniorliving.com/event-calendar/travel-to-new-zealand/
CATEGORIES:Memory Care
END:VEVENT
BEGIN:VEVENT
DTSTART;TZID=America/Chicago:20250720T140000
DTEND;TZID=America/Chicago:20250720T143000
DTSTAMP:20260421T115410
CREATED:20250621T015456Z
LAST-MODIFIED:20250720T043925Z
UID:10000936-1753020000-1753021800@eaglepointseniorliving.com
SUMMARY:Exercise
DESCRIPTION:
URL:https://eaglepointseniorliving.com/event-calendar/exercise-10/
CATEGORIES:Memory Care
END:VEVENT
BEGIN:VEVENT
DTSTART;TZID=America/Chicago:20250720T143000
DTEND;TZID=America/Chicago:20250720T153000
DTSTAMP:20260421T115410
CREATED:20250623T020930Z
LAST-MODIFIED:20250720T043925Z
UID:10000967-1753021800-1753025400@eaglepointseniorliving.com
SUMMARY:Outside Patio or Walk
DESCRIPTION:
URL:https://eaglepointseniorliving.com/event-calendar/outside-patio-or-walk/
CATEGORIES:Memory Care
END:VEVENT
BEGIN:VEVENT
DTSTART;TZID=America/Chicago:20250720T190000
DTEND;TZID=America/Chicago:20250720T200000
DTSTAMP:20260421T115410
CREATED:20250621T015456Z
LAST-MODIFIED:20250720T043925Z
UID:10000937-1753038000-1753041600@eaglepointseniorliving.com
SUMMARY:Snack Pass & Reminisce
DESCRIPTION:
URL:https://eaglepointseniorliving.com/event-calendar/snack-pass-reminisce-69/
CATEGORIES:Memory Care
END:VEVENT
END:VCALENDAR