BEGIN:VCALENDAR
VERSION:2.0
PRODID:-//Eagle Point Senior Living - ECPv6.11.2.1//NONSGML v1.0//EN
CALSCALE:GREGORIAN
METHOD:PUBLISH
X-WR-CALNAME:Eagle Point Senior Living
X-ORIGINAL-URL:https://eaglepointseniorliving.com
X-WR-CALDESC:Events for Eagle Point Senior Living
REFRESH-INTERVAL;VALUE=DURATION:PT1H
X-Robots-Tag:noindex
X-PUBLISHED-TTL:PT1H
BEGIN:VTIMEZONE
TZID:America/Chicago
BEGIN:DAYLIGHT
TZOFFSETFROM:-0600
TZOFFSETTO:-0500
TZNAME:CDT
DTSTART:20250309T080000
END:DAYLIGHT
BEGIN:STANDARD
TZOFFSETFROM:-0500
TZOFFSETTO:-0600
TZNAME:CST
DTSTART:20251102T070000
END:STANDARD
END:VTIMEZONE
BEGIN:VEVENT
DTSTART;TZID=America/Chicago:20250719T080000
DTEND;TZID=America/Chicago:20250719T090000
DTSTAMP:20260421T115445
CREATED:20250620T015428Z
LAST-MODIFIED:20250719T044012Z
UID:10000921-1752912000-1752915600@eaglepointseniorliving.com
SUMMARY:Morning Melodies
DESCRIPTION:
URL:https://eaglepointseniorliving.com/event-calendar/morning-melodies-67/
CATEGORIES:Memory Care
END:VEVENT
BEGIN:VEVENT
DTSTART;TZID=America/Chicago:20250719T090000
DTEND;TZID=America/Chicago:20250719T120000
DTSTAMP:20260421T115445
CREATED:20250620T015428Z
LAST-MODIFIED:20250719T044012Z
UID:10000922-1752915600-1752926400@eaglepointseniorliving.com
SUMMARY:Morning with Dawn
DESCRIPTION:
URL:https://eaglepointseniorliving.com/event-calendar/morning-with-dawn-3/
CATEGORIES:Memory Care
END:VEVENT
BEGIN:VEVENT
DTSTART;TZID=America/Chicago:20250719T140000
DTEND;TZID=America/Chicago:20250719T150000
DTSTAMP:20260421T115445
CREATED:20250620T015428Z
LAST-MODIFIED:20250719T044012Z
UID:10000923-1752933600-1752937200@eaglepointseniorliving.com
SUMMARY:Reminisce
DESCRIPTION:
URL:https://eaglepointseniorliving.com/event-calendar/reminisce-20/
CATEGORIES:Memory Care
END:VEVENT
BEGIN:VEVENT
DTSTART;TZID=America/Chicago:20250719T180000
DTEND;TZID=America/Chicago:20250719T190000
DTSTAMP:20260421T115445
CREATED:20250620T015428Z
LAST-MODIFIED:20250719T044012Z
UID:10000924-1752948000-1752951600@eaglepointseniorliving.com
SUMMARY:Movie & A Snack
DESCRIPTION:
URL:https://eaglepointseniorliving.com/event-calendar/movie-a-snack-10/
CATEGORIES:Memory Care
END:VEVENT
BEGIN:VEVENT
DTSTART;TZID=America/Chicago:20250719T190000
DTEND;TZID=America/Chicago:20250719T200000
DTSTAMP:20260421T115445
CREATED:20250620T015428Z
LAST-MODIFIED:20250719T044012Z
UID:10000925-1752951600-1752955200@eaglepointseniorliving.com
SUMMARY:Snack Pass & Reminisce
DESCRIPTION:
URL:https://eaglepointseniorliving.com/event-calendar/snack-pass-reminisce-68/
CATEGORIES:Memory Care
END:VEVENT
END:VCALENDAR