BEGIN:VCALENDAR
VERSION:2.0
PRODID:-//Eagle Point Senior Living - ECPv6.11.2.1//NONSGML v1.0//EN
CALSCALE:GREGORIAN
METHOD:PUBLISH
X-ORIGINAL-URL:https://eaglepointseniorliving.com
X-WR-CALDESC:Events for Eagle Point Senior Living
REFRESH-INTERVAL;VALUE=DURATION:PT1H
X-Robots-Tag:noindex
X-PUBLISHED-TTL:PT1H
BEGIN:VTIMEZONE
TZID:America/Chicago
BEGIN:DAYLIGHT
TZOFFSETFROM:-0600
TZOFFSETTO:-0500
TZNAME:CDT
DTSTART:20250309T080000
END:DAYLIGHT
BEGIN:STANDARD
TZOFFSETFROM:-0500
TZOFFSETTO:-0600
TZNAME:CST
DTSTART:20251102T070000
END:STANDARD
END:VTIMEZONE
BEGIN:VEVENT
DTSTART;TZID=America/Chicago:20250717T080000
DTEND;TZID=America/Chicago:20250717T090000
DTSTAMP:20260421T115214
CREATED:20250617T181103Z
LAST-MODIFIED:20250717T040954Z
UID:10000880-1752739200-1752742800@eaglepointseniorliving.com
SUMMARY:Morning Melodies
DESCRIPTION:
URL:https://eaglepointseniorliving.com/event-calendar/morning-melodies-65/
CATEGORIES:Memory Care
END:VEVENT
BEGIN:VEVENT
DTSTART;TZID=America/Chicago:20250717T093000
DTEND;TZID=America/Chicago:20250717T100000
DTSTAMP:20260421T115214
CREATED:20250710T032623Z
LAST-MODIFIED:20250717T040954Z
UID:10001248-1752744600-1752746400@eaglepointseniorliving.com
SUMMARY:News Currents
DESCRIPTION:
URL:https://eaglepointseniorliving.com/event-calendar/current-events-8/
CATEGORIES:Memory Care
END:VEVENT
BEGIN:VEVENT
DTSTART;TZID=America/Chicago:20250717T100000
DTEND;TZID=America/Chicago:20250717T110000
DTSTAMP:20260421T115214
CREATED:20250617T181103Z
LAST-MODIFIED:20250717T040954Z
UID:10000881-1752746400-1752750000@eaglepointseniorliving.com
SUMMARY:Daily Spirit Spark
DESCRIPTION:Various spiritual topics and activities with Chaplain Peter.
URL:https://eaglepointseniorliving.com/event-calendar/daily-spirit-spark-18/
CATEGORIES:Memory Care
END:VEVENT
BEGIN:VEVENT
DTSTART;TZID=America/Chicago:20250717T110000
DTEND;TZID=America/Chicago:20250717T114500
DTSTAMP:20260421T115214
CREATED:20250710T032623Z
LAST-MODIFIED:20250717T040954Z
UID:10001247-1752750000-1752752700@eaglepointseniorliving.com
SUMMARY:Today's Special is Dentistry Day
DESCRIPTION:
URL:https://eaglepointseniorliving.com/event-calendar/todays-special-is-dentistry-day/
CATEGORIES:Memory Care
END:VEVENT
BEGIN:VEVENT
DTSTART;TZID=America/Chicago:20250717T120000
DTEND;TZID=America/Chicago:20250717T123000
DTSTAMP:20260421T115214
CREATED:20250617T181103Z
LAST-MODIFIED:20250717T040954Z
UID:10000882-1752753600-1752755400@eaglepointseniorliving.com
SUMMARY:Oshibori
DESCRIPTION:
URL:https://eaglepointseniorliving.com/event-calendar/oshibori-138/
CATEGORIES:Memory Care
END:VEVENT
BEGIN:VEVENT
DTSTART;TZID=America/Chicago:20250717T133000
DTEND;TZID=America/Chicago:20250717T143000
DTSTAMP:20260421T115214
CREATED:20250710T032623Z
LAST-MODIFIED:20250717T040954Z
UID:10001249-1752759000-1752762600@eaglepointseniorliving.com
SUMMARY:Thursday Read Along -"The Knitting Tree"
DESCRIPTION:
URL:https://eaglepointseniorliving.com/event-calendar/current-events-9/
CATEGORIES:Memory Care
END:VEVENT
BEGIN:VEVENT
DTSTART;TZID=America/Chicago:20250717T180000
DTEND;TZID=America/Chicago:20250717T190000
DTSTAMP:20260421T115214
CREATED:20250623T020929Z
LAST-MODIFIED:20250717T040954Z
UID:10000965-1752775200-1752778800@eaglepointseniorliving.com
SUMMARY:Nature' Superhero- The Gecko
DESCRIPTION:
URL:https://eaglepointseniorliving.com/event-calendar/nature-superhero-the-gecko/
CATEGORIES:Memory Care
END:VEVENT
BEGIN:VEVENT
DTSTART;TZID=America/Chicago:20250717T190000
DTEND;TZID=America/Chicago:20250717T200000
DTSTAMP:20260421T115214
CREATED:20250618T002453Z
LAST-MODIFIED:20250717T040954Z
UID:10000896-1752778800-1752782400@eaglepointseniorliving.com
SUMMARY:Snack Pass & Reminisce
DESCRIPTION:
URL:https://eaglepointseniorliving.com/event-calendar/snack-pass-reminisce-66/
CATEGORIES:Memory Care
END:VEVENT
END:VCALENDAR