BEGIN:VCALENDAR
VERSION:2.0
PRODID:-//Eagle Point Senior Living - ECPv6.11.2.1//NONSGML v1.0//EN
CALSCALE:GREGORIAN
METHOD:PUBLISH
X-WR-CALNAME:Eagle Point Senior Living
X-ORIGINAL-URL:https://eaglepointseniorliving.com
X-WR-CALDESC:Events for Eagle Point Senior Living
REFRESH-INTERVAL;VALUE=DURATION:PT1H
X-Robots-Tag:noindex
X-PUBLISHED-TTL:PT1H
BEGIN:VTIMEZONE
TZID:America/Chicago
BEGIN:DAYLIGHT
TZOFFSETFROM:-0600
TZOFFSETTO:-0500
TZNAME:CDT
DTSTART:20250309T080000
END:DAYLIGHT
BEGIN:STANDARD
TZOFFSETFROM:-0500
TZOFFSETTO:-0600
TZNAME:CST
DTSTART:20251102T070000
END:STANDARD
END:VTIMEZONE
BEGIN:VEVENT
DTSTART;TZID=America/Chicago:20250708T080000
DTEND;TZID=America/Chicago:20250708T090000
DTSTAMP:20260421T114217
CREATED:20250608T175513Z
LAST-MODIFIED:20250708T032433Z
UID:10000727-1751961600-1751965200@eaglepointseniorliving.com
SUMMARY:Morning Melodies
DESCRIPTION:
URL:https://eaglepointseniorliving.com/event-calendar/morning-melodies-56/
CATEGORIES:Memory Care
END:VEVENT
BEGIN:VEVENT
DTSTART;TZID=America/Chicago:20250708T090000
DTEND;TZID=America/Chicago:20250708T093000
DTSTAMP:20260421T114217
CREATED:20250624T020945Z
LAST-MODIFIED:20250708T032433Z
UID:10000988-1751965200-1751967000@eaglepointseniorliving.com
SUMMARY:Morning Exercise
DESCRIPTION:
URL:https://eaglepointseniorliving.com/event-calendar/morning-exercise-7/
CATEGORIES:Memory Care
END:VEVENT
BEGIN:VEVENT
DTSTART;TZID=America/Chicago:20250708T093000
DTEND;TZID=America/Chicago:20250708T100000
DTSTAMP:20260421T114217
CREATED:20250627T020924Z
LAST-MODIFIED:20250708T032433Z
UID:10001044-1751967000-1751968800@eaglepointseniorliving.com
SUMMARY:National Day- Passport Day
DESCRIPTION:
URL:https://eaglepointseniorliving.com/event-calendar/national-day-calendar-national-blueberry-day/
CATEGORIES:Memory Care
END:VEVENT
BEGIN:VEVENT
DTSTART;TZID=America/Chicago:20250708T100000
DTEND;TZID=America/Chicago:20250708T110000
DTSTAMP:20260421T114217
CREATED:20250627T020924Z
LAST-MODIFIED:20250708T032433Z
UID:10001045-1751968800-1751972400@eaglepointseniorliving.com
SUMMARY:Daily Spirit Spark
DESCRIPTION:Various spiritual topics and activities with Chaplain Peter.
URL:https://eaglepointseniorliving.com/event-calendar/daily-spirit-spark-24/
CATEGORIES:Memory Care
END:VEVENT
BEGIN:VEVENT
DTSTART;TZID=America/Chicago:20250708T110000
DTEND;TZID=America/Chicago:20250708T114500
DTSTAMP:20260421T114217
CREATED:20250608T175513Z
LAST-MODIFIED:20250708T032433Z
UID:10000728-1751972400-1751975100@eaglepointseniorliving.com
SUMMARY:Current Events
DESCRIPTION:
URL:https://eaglepointseniorliving.com/event-calendar/jeopardy-8/
CATEGORIES:Memory Care
END:VEVENT
BEGIN:VEVENT
DTSTART;TZID=America/Chicago:20250708T120000
DTEND;TZID=America/Chicago:20250708T123000
DTSTAMP:20260421T114217
CREATED:20250617T181101Z
LAST-MODIFIED:20250708T032433Z
UID:10000864-1751976000-1751977800@eaglepointseniorliving.com
SUMMARY:Oshibori
DESCRIPTION:
URL:https://eaglepointseniorliving.com/event-calendar/oshibori-131/
CATEGORIES:Memory Care
END:VEVENT
BEGIN:VEVENT
DTSTART;TZID=America/Chicago:20250708T133000
DTEND;TZID=America/Chicago:20250708T143000
DTSTAMP:20260421T114217
CREATED:20250609T180929Z
LAST-MODIFIED:20250708T032433Z
UID:10000734-1751981400-1751985000@eaglepointseniorliving.com
SUMMARY:Outside on the Patio
DESCRIPTION:
URL:https://eaglepointseniorliving.com/event-calendar/outside-on-the-patio-16/
CATEGORIES:Memory Care
END:VEVENT
BEGIN:VEVENT
DTSTART;TZID=America/Chicago:20250708T150000
DTEND;TZID=America/Chicago:20250708T153000
DTSTAMP:20260421T114217
CREATED:20250609T180929Z
LAST-MODIFIED:20250708T032433Z
UID:10000735-1751986800-1751988600@eaglepointseniorliving.com
SUMMARY:Reminisce
DESCRIPTION:
URL:https://eaglepointseniorliving.com/event-calendar/reminisce-17/
CATEGORIES:Memory Care
END:VEVENT
BEGIN:VEVENT
DTSTART;TZID=America/Chicago:20250708T190000
DTEND;TZID=America/Chicago:20250708T200000
DTSTAMP:20260421T114217
CREATED:20250609T180930Z
LAST-MODIFIED:20250708T032433Z
UID:10000738-1752001200-1752004800@eaglepointseniorliving.com
SUMMARY:Snack Pass & Reminisce
DESCRIPTION:
URL:https://eaglepointseniorliving.com/event-calendar/snack-pass-reminisce-57/
CATEGORIES:Memory Care
END:VEVENT
END:VCALENDAR