BEGIN:VCALENDAR
VERSION:2.0
PRODID:-//Eagle Point Senior Living - ECPv6.11.2.1//NONSGML v1.0//EN
CALSCALE:GREGORIAN
METHOD:PUBLISH
X-WR-CALNAME:Eagle Point Senior Living
X-ORIGINAL-URL:https://eaglepointseniorliving.com
X-WR-CALDESC:Events for Eagle Point Senior Living
REFRESH-INTERVAL;VALUE=DURATION:PT1H
X-Robots-Tag:noindex
X-PUBLISHED-TTL:PT1H
BEGIN:VTIMEZONE
TZID:America/Chicago
BEGIN:DAYLIGHT
TZOFFSETFROM:-0600
TZOFFSETTO:-0500
TZNAME:CDT
DTSTART:20250309T080000
END:DAYLIGHT
BEGIN:STANDARD
TZOFFSETFROM:-0500
TZOFFSETTO:-0600
TZNAME:CST
DTSTART:20251102T070000
END:STANDARD
END:VTIMEZONE
BEGIN:VEVENT
DTSTART;TZID=America/Chicago:20250629T080000
DTEND;TZID=America/Chicago:20250629T090000
DTSTAMP:20260421T115410
CREATED:20250530T173940Z
LAST-MODIFIED:20250629T021007Z
UID:10000607-1751184000-1751187600@eaglepointseniorliving.com
SUMMARY:Morning Melodies
DESCRIPTION:
URL:https://eaglepointseniorliving.com/event-calendar/morning-melodies-47/
CATEGORIES:Memory Care
END:VEVENT
BEGIN:VEVENT
DTSTART;TZID=America/Chicago:20250629T100000
DTEND;TZID=America/Chicago:20250629T110000
DTSTAMP:20260421T115410
CREATED:20250530T173941Z
LAST-MODIFIED:20250629T021008Z
UID:10000608-1751191200-1751194800@eaglepointseniorliving.com
SUMMARY:Manicures
DESCRIPTION:
URL:https://eaglepointseniorliving.com/event-calendar/manicures-7/
CATEGORIES:Memory Care
END:VEVENT
BEGIN:VEVENT
DTSTART;TZID=America/Chicago:20250629T130000
DTEND;TZID=America/Chicago:20250629T133000
DTSTAMP:20260421T115410
CREATED:20250531T174021Z
LAST-MODIFIED:20250629T021008Z
UID:10000617-1751202000-1751203800@eaglepointseniorliving.com
SUMMARY:Daily Chronicle
DESCRIPTION:
URL:https://eaglepointseniorliving.com/event-calendar/daily-chronicle/
CATEGORIES:Memory Care
END:VEVENT
BEGIN:VEVENT
DTSTART;TZID=America/Chicago:20250629T133000
DTEND;TZID=America/Chicago:20250629T140000
DTSTAMP:20260421T115410
CREATED:20250531T174021Z
LAST-MODIFIED:20250629T021008Z
UID:10000618-1751203800-1751205600@eaglepointseniorliving.com
SUMMARY:Exercise
DESCRIPTION:
URL:https://eaglepointseniorliving.com/event-calendar/exercise-7/
CATEGORIES:Memory Care
END:VEVENT
BEGIN:VEVENT
DTSTART;TZID=America/Chicago:20250629T140000
DTEND;TZID=America/Chicago:20250629T150000
DTSTAMP:20260421T115410
CREATED:20250531T174021Z
LAST-MODIFIED:20250629T021008Z
UID:10000619-1751205600-1751209200@eaglepointseniorliving.com
SUMMARY:Outside Patio
DESCRIPTION:
URL:https://eaglepointseniorliving.com/event-calendar/outside-patio-3/
CATEGORIES:Memory Care
END:VEVENT
BEGIN:VEVENT
DTSTART;TZID=America/Chicago:20250629T150000
DTEND;TZID=America/Chicago:20250629T160000
DTSTAMP:20260421T115410
CREATED:20250531T174021Z
LAST-MODIFIED:20250629T021008Z
UID:10000620-1751209200-1751212800@eaglepointseniorliving.com
SUMMARY:Who am I?
DESCRIPTION:
URL:https://eaglepointseniorliving.com/event-calendar/who-am-i/
CATEGORIES:Memory Care
END:VEVENT
BEGIN:VEVENT
DTSTART;TZID=America/Chicago:20250629T190000
DTEND;TZID=America/Chicago:20250629T200000
DTSTAMP:20260421T115410
CREATED:20250531T174021Z
LAST-MODIFIED:20250629T021008Z
UID:10000622-1751223600-1751227200@eaglepointseniorliving.com
SUMMARY:Snack Pass & Reminisce
DESCRIPTION:
URL:https://eaglepointseniorliving.com/event-calendar/snack-pass-reminisce-48/
CATEGORIES:Memory Care
END:VEVENT
END:VCALENDAR