BEGIN:VCALENDAR
VERSION:2.0
PRODID:-//Eagle Point Senior Living - ECPv6.11.2.1//NONSGML v1.0//EN
CALSCALE:GREGORIAN
METHOD:PUBLISH
X-WR-CALNAME:Eagle Point Senior Living
X-ORIGINAL-URL:https://eaglepointseniorliving.com
X-WR-CALDESC:Events for Eagle Point Senior Living
REFRESH-INTERVAL;VALUE=DURATION:PT1H
X-Robots-Tag:noindex
X-PUBLISHED-TTL:PT1H
BEGIN:VTIMEZONE
TZID:America/Chicago
BEGIN:DAYLIGHT
TZOFFSETFROM:-0600
TZOFFSETTO:-0500
TZNAME:CDT
DTSTART:20250309T080000
END:DAYLIGHT
BEGIN:STANDARD
TZOFFSETFROM:-0500
TZOFFSETTO:-0600
TZNAME:CST
DTSTART:20251102T070000
END:STANDARD
END:VTIMEZONE
BEGIN:VEVENT
DTSTART;TZID=America/Chicago:20250626T080000
DTEND;TZID=America/Chicago:20250626T090000
DTSTAMP:20260421T131228
CREATED:20250527T172535Z
LAST-MODIFIED:20250626T021004Z
UID:10000566-1750924800-1750928400@eaglepointseniorliving.com
SUMMARY:Morning Melodies
DESCRIPTION:
URL:https://eaglepointseniorliving.com/event-calendar/morning-melodies-44/
CATEGORIES:Memory Care
END:VEVENT
BEGIN:VEVENT
DTSTART;TZID=America/Chicago:20250626T100000
DTEND;TZID=America/Chicago:20250626T110000
DTSTAMP:20260421T131228
CREATED:20250527T172535Z
LAST-MODIFIED:20250626T021004Z
UID:10000567-1750932000-1750935600@eaglepointseniorliving.com
SUMMARY:Daily Spirit Spark
DESCRIPTION:Various spiritual topics and activities with Chaplain Peter.
URL:https://eaglepointseniorliving.com/event-calendar/daily-spirit-spark-12/
CATEGORIES:Memory Care
END:VEVENT
BEGIN:VEVENT
DTSTART;TZID=America/Chicago:20250626T120000
DTEND;TZID=America/Chicago:20250626T123000
DTSTAMP:20260421T131228
CREATED:20250617T181059Z
LAST-MODIFIED:20250626T021004Z
UID:10000856-1750939200-1750941000@eaglepointseniorliving.com
SUMMARY:Oshibori
DESCRIPTION:
URL:https://eaglepointseniorliving.com/event-calendar/oshibori-123/
CATEGORIES:Memory Care
END:VEVENT
BEGIN:VEVENT
DTSTART;TZID=America/Chicago:20250626T130000
DTEND;TZID=America/Chicago:20250626T143000
DTSTAMP:20260421T131228
CREATED:20250528T172429Z
LAST-MODIFIED:20250626T021004Z
UID:10000576-1750942800-1750948200@eaglepointseniorliving.com
SUMMARY:Afternoon Drive
DESCRIPTION:
URL:https://eaglepointseniorliving.com/event-calendar/afternoon-drive-3/
CATEGORIES:Memory Care
END:VEVENT
BEGIN:VEVENT
DTSTART;TZID=America/Chicago:20250626T180000
DTEND;TZID=America/Chicago:20250626T190000
DTSTAMP:20260421T131228
CREATED:20250528T172429Z
LAST-MODIFIED:20250626T021004Z
UID:10000578-1750960800-1750964400@eaglepointseniorliving.com
SUMMARY:Yoga
DESCRIPTION:
URL:https://eaglepointseniorliving.com/event-calendar/yoga/
CATEGORIES:Memory Care
END:VEVENT
BEGIN:VEVENT
DTSTART;TZID=America/Chicago:20250626T190000
DTEND;TZID=America/Chicago:20250626T200000
DTSTAMP:20260421T131228
CREATED:20250528T172429Z
LAST-MODIFIED:20250626T021004Z
UID:10000579-1750964400-1750968000@eaglepointseniorliving.com
SUMMARY:Snack Pass & Reminisce
DESCRIPTION:
URL:https://eaglepointseniorliving.com/event-calendar/snack-pass-reminisce-45/
CATEGORIES:Memory Care
END:VEVENT
END:VCALENDAR