BEGIN:VCALENDAR
VERSION:2.0
PRODID:-//Eagle Point Senior Living - ECPv6.11.2.1//NONSGML v1.0//EN
CALSCALE:GREGORIAN
METHOD:PUBLISH
X-WR-CALNAME:Eagle Point Senior Living
X-ORIGINAL-URL:https://eaglepointseniorliving.com
X-WR-CALDESC:Events for Eagle Point Senior Living
REFRESH-INTERVAL;VALUE=DURATION:PT1H
X-Robots-Tag:noindex
X-PUBLISHED-TTL:PT1H
BEGIN:VTIMEZONE
TZID:America/Chicago
BEGIN:DAYLIGHT
TZOFFSETFROM:-0600
TZOFFSETTO:-0500
TZNAME:CDT
DTSTART:20250309T080000
END:DAYLIGHT
BEGIN:STANDARD
TZOFFSETFROM:-0500
TZOFFSETTO:-0600
TZNAME:CST
DTSTART:20251102T070000
END:STANDARD
END:VTIMEZONE
BEGIN:VEVENT
DTSTART;TZID=America/Chicago:20250527T080000
DTEND;TZID=America/Chicago:20250527T090000
DTSTAMP:20260421T161434
CREATED:20250513T170428Z
LAST-MODIFIED:20250526T172542Z
UID:10000101-1748332800-1748336400@eaglepointseniorliving.com
SUMMARY:Morning Melodies
DESCRIPTION:
URL:https://eaglepointseniorliving.com/event-calendar/morning-melodies-14/
CATEGORIES:Memory Care
END:VEVENT
BEGIN:VEVENT
DTSTART;TZID=America/Chicago:20250527T110000
DTEND;TZID=America/Chicago:20250527T120000
DTSTAMP:20260421T161434
CREATED:20250513T170428Z
LAST-MODIFIED:20250526T172542Z
UID:10000102-1748343600-1748347200@eaglepointseniorliving.com
SUMMARY:Jeopardy
DESCRIPTION:
URL:https://eaglepointseniorliving.com/event-calendar/jeopardy-2/
CATEGORIES:Memory Care
END:VEVENT
BEGIN:VEVENT
DTSTART;TZID=America/Chicago:20250527T120000
DTEND;TZID=America/Chicago:20250527T123000
DTSTAMP:20260421T161434
CREATED:20250513T170428Z
LAST-MODIFIED:20250527T172530Z
UID:10000103-1748347200-1748349000@eaglepointseniorliving.com
SUMMARY:Oshibori
DESCRIPTION:
URL:https://eaglepointseniorliving.com/event-calendar/oshibori-29/
CATEGORIES:Memory Care
END:VEVENT
BEGIN:VEVENT
DTSTART;TZID=America/Chicago:20250527T133000
DTEND;TZID=America/Chicago:20250527T143000
DTSTAMP:20260421T161434
CREATED:20250513T170428Z
LAST-MODIFIED:20250527T172530Z
UID:10000104-1748352600-1748356200@eaglepointseniorliving.com
SUMMARY:Outside on The Patio
DESCRIPTION:
URL:https://eaglepointseniorliving.com/event-calendar/walking-club-2/
CATEGORIES:Memory Care
END:VEVENT
BEGIN:VEVENT
DTSTART;TZID=America/Chicago:20250527T140000
DTEND;TZID=America/Chicago:20250527T143000
DTSTAMP:20260421T161434
CREATED:20250513T170428Z
LAST-MODIFIED:20250527T172530Z
UID:10000105-1748354400-1748356200@eaglepointseniorliving.com
SUMMARY:Hagar the Comfort Dog
DESCRIPTION:Hagar makes a stop to visit with everyone to bring comfort and joy!
URL:https://eaglepointseniorliving.com/event-calendar/hagar-the-comfort-dog/
CATEGORIES:Memory Care
END:VEVENT
BEGIN:VEVENT
DTSTART;TZID=America/Chicago:20250527T150000
DTEND;TZID=America/Chicago:20250527T153000
DTSTAMP:20260421T161434
CREATED:20250513T170428Z
LAST-MODIFIED:20250527T172530Z
UID:10000106-1748358000-1748359800@eaglepointseniorliving.com
SUMMARY:Reminisce
DESCRIPTION:
URL:https://eaglepointseniorliving.com/event-calendar/reminisce-5/
CATEGORIES:Memory Care
END:VEVENT
BEGIN:VEVENT
DTSTART;TZID=America/Chicago:20250527T170000
DTEND;TZID=America/Chicago:20250527T173000
DTSTAMP:20260421T161434
CREATED:20250513T170428Z
LAST-MODIFIED:20250527T172530Z
UID:10000107-1748365200-1748367000@eaglepointseniorliving.com
SUMMARY:Oshibori
DESCRIPTION:
URL:https://eaglepointseniorliving.com/event-calendar/oshibori-30/
CATEGORIES:Memory Care
END:VEVENT
BEGIN:VEVENT
DTSTART;TZID=America/Chicago:20250527T180000
DTEND;TZID=America/Chicago:20250527T190000
DTSTAMP:20260421T161434
CREATED:20250513T170428Z
LAST-MODIFIED:20250527T172530Z
UID:10000108-1748368800-1748372400@eaglepointseniorliving.com
SUMMARY:Bingo With Dawn
DESCRIPTION:
URL:https://eaglepointseniorliving.com/event-calendar/bingo-with-dawn-3/
CATEGORIES:Memory Care
END:VEVENT
BEGIN:VEVENT
DTSTART;TZID=America/Chicago:20250527T190000
DTEND;TZID=America/Chicago:20250527T200000
DTSTAMP:20260421T161434
CREATED:20250513T170428Z
LAST-MODIFIED:20250527T172530Z
UID:10000109-1748372400-1748376000@eaglepointseniorliving.com
SUMMARY:Snack Pass & Reminisce
DESCRIPTION:
URL:https://eaglepointseniorliving.com/event-calendar/snack-pass-reminisce-15/
CATEGORIES:Memory Care
END:VEVENT
END:VCALENDAR