BEGIN:VCALENDAR
VERSION:2.0
PRODID:-//Eagle Point Senior Living - ECPv6.11.2.1//NONSGML v1.0//EN
CALSCALE:GREGORIAN
METHOD:PUBLISH
X-ORIGINAL-URL:https://eaglepointseniorliving.com
X-WR-CALDESC:Events for Eagle Point Senior Living
REFRESH-INTERVAL;VALUE=DURATION:PT1H
X-Robots-Tag:noindex
X-PUBLISHED-TTL:PT1H
BEGIN:VTIMEZONE
TZID:America/Chicago
BEGIN:DAYLIGHT
TZOFFSETFROM:-0600
TZOFFSETTO:-0500
TZNAME:CDT
DTSTART:20250309T080000
END:DAYLIGHT
BEGIN:STANDARD
TZOFFSETFROM:-0500
TZOFFSETTO:-0600
TZNAME:CST
DTSTART:20251102T070000
END:STANDARD
END:VTIMEZONE
BEGIN:VEVENT
DTSTART;TZID=America/Chicago:20250517T080000
DTEND;TZID=America/Chicago:20250517T090000
DTSTAMP:20260421T145341
CREATED:20250513T170425Z
LAST-MODIFIED:20250516T171149Z
UID:10000031-1747468800-1747472400@eaglepointseniorliving.com
SUMMARY:Morning Melodies
DESCRIPTION:
URL:https://eaglepointseniorliving.com/event-calendar/morning-melodies-4/
CATEGORIES:Memory Care
END:VEVENT
BEGIN:VEVENT
DTSTART;TZID=America/Chicago:20250517T090000
DTEND;TZID=America/Chicago:20250517T120000
DTSTAMP:20260421T145341
CREATED:20250513T170425Z
LAST-MODIFIED:20250516T171149Z
UID:10000032-1747472400-1747483200@eaglepointseniorliving.com
SUMMARY:Morning with Staff
DESCRIPTION:
URL:https://eaglepointseniorliving.com/event-calendar/morning-with-grace/
CATEGORIES:Memory Care
END:VEVENT
BEGIN:VEVENT
DTSTART;TZID=America/Chicago:20250517T120000
DTEND;TZID=America/Chicago:20250517T123000
DTSTAMP:20260421T145341
CREATED:20250513T170425Z
LAST-MODIFIED:20250517T171149Z
UID:10000033-1747483200-1747485000@eaglepointseniorliving.com
SUMMARY:Oshibori
DESCRIPTION:
URL:https://eaglepointseniorliving.com/event-calendar/oshibori-9/
CATEGORIES:Memory Care
END:VEVENT
BEGIN:VEVENT
DTSTART;TZID=America/Chicago:20250517T140000
DTEND;TZID=America/Chicago:20250517T150000
DTSTAMP:20260421T145341
CREATED:20250513T170425Z
LAST-MODIFIED:20250517T171149Z
UID:10000034-1747490400-1747494000@eaglepointseniorliving.com
SUMMARY:Reminisce
DESCRIPTION:
URL:https://eaglepointseniorliving.com/event-calendar/reminisce-2/
CATEGORIES:Memory Care
END:VEVENT
BEGIN:VEVENT
DTSTART;TZID=America/Chicago:20250517T170000
DTEND;TZID=America/Chicago:20250517T173000
DTSTAMP:20260421T145341
CREATED:20250513T170425Z
LAST-MODIFIED:20250517T171149Z
UID:10000035-1747501200-1747503000@eaglepointseniorliving.com
SUMMARY:Oshibori
DESCRIPTION:
URL:https://eaglepointseniorliving.com/event-calendar/oshibori-10/
CATEGORIES:Memory Care
END:VEVENT
BEGIN:VEVENT
DTSTART;TZID=America/Chicago:20250517T180000
DTEND;TZID=America/Chicago:20250517T190000
DTSTAMP:20260421T145341
CREATED:20250513T170425Z
LAST-MODIFIED:20250517T171149Z
UID:10000036-1747504800-1747508400@eaglepointseniorliving.com
SUMMARY:Movie & A Snack
DESCRIPTION:
URL:https://eaglepointseniorliving.com/event-calendar/movie-a-snack/
CATEGORIES:Memory Care
END:VEVENT
BEGIN:VEVENT
DTSTART;TZID=America/Chicago:20250517T190000
DTEND;TZID=America/Chicago:20250517T200000
DTSTAMP:20260421T145341
CREATED:20250513T170426Z
LAST-MODIFIED:20250517T171149Z
UID:10000037-1747508400-1747512000@eaglepointseniorliving.com
SUMMARY:Snack Pass & Reminisce
DESCRIPTION:
URL:https://eaglepointseniorliving.com/event-calendar/snack-pass-reminisce-5/
CATEGORIES:Memory Care
END:VEVENT
END:VCALENDAR