BEGIN:VCALENDAR
VERSION:2.0
PRODID:-//Eagle Point Senior Living - ECPv6.11.2.1//NONSGML v1.0//EN
CALSCALE:GREGORIAN
METHOD:PUBLISH
X-WR-CALNAME:Eagle Point Senior Living
X-ORIGINAL-URL:https://eaglepointseniorliving.com
X-WR-CALDESC:Events for Eagle Point Senior Living
REFRESH-INTERVAL;VALUE=DURATION:PT1H
X-Robots-Tag:noindex
X-PUBLISHED-TTL:PT1H
BEGIN:VTIMEZONE
TZID:America/Chicago
BEGIN:DAYLIGHT
TZOFFSETFROM:-0600
TZOFFSETTO:-0500
TZNAME:CDT
DTSTART:20250309T080000
END:DAYLIGHT
BEGIN:STANDARD
TZOFFSETFROM:-0500
TZOFFSETTO:-0600
TZNAME:CST
DTSTART:20251102T070000
END:STANDARD
END:VTIMEZONE
BEGIN:VEVENT
DTSTART;TZID=America/Chicago:20250516T080000
DTEND;TZID=America/Chicago:20250516T090000
DTSTAMP:20260421T145022
CREATED:20250513T170425Z
LAST-MODIFIED:20250515T171038Z
UID:10000023-1747382400-1747386000@eaglepointseniorliving.com
SUMMARY:Morning Melodies
DESCRIPTION:
URL:https://eaglepointseniorliving.com/event-calendar/morning-melodies-3/
CATEGORIES:Memory Care
END:VEVENT
BEGIN:VEVENT
DTSTART;TZID=America/Chicago:20250516T094500
DTEND;TZID=America/Chicago:20250516T100000
DTSTAMP:20260421T145022
CREATED:20250513T170425Z
LAST-MODIFIED:20250515T171038Z
UID:10000024-1747388700-1747389600@eaglepointseniorliving.com
SUMMARY:Morning Stretch
DESCRIPTION:
URL:https://eaglepointseniorliving.com/event-calendar/morning-stretch-2/
CATEGORIES:Memory Care
END:VEVENT
BEGIN:VEVENT
DTSTART;TZID=America/Chicago:20250516T100000
DTEND;TZID=America/Chicago:20250516T110000
DTSTAMP:20260421T145022
CREATED:20250513T170425Z
LAST-MODIFIED:20250515T171038Z
UID:10000025-1747389600-1747393200@eaglepointseniorliving.com
SUMMARY:Daily Spirit Spark
DESCRIPTION:Various spiritual topics and activities with Chaplain Peter.
URL:https://eaglepointseniorliving.com/event-calendar/daily-spirit-spark-2/
CATEGORIES:Memory Care
END:VEVENT
BEGIN:VEVENT
DTSTART;TZID=America/Chicago:20250516T110000
DTEND;TZID=America/Chicago:20250516T114500
DTSTAMP:20260421T145022
CREATED:20250513T170425Z
LAST-MODIFIED:20250515T171038Z
UID:10000027-1747393200-1747395900@eaglepointseniorliving.com
SUMMARY:Grace's Creations
DESCRIPTION:
URL:https://eaglepointseniorliving.com/event-calendar/graces-crafting-corner-2/
CATEGORIES:Memory Care
END:VEVENT
BEGIN:VEVENT
DTSTART;TZID=America/Chicago:20250516T120000
DTEND;TZID=America/Chicago:20250516T123000
DTSTAMP:20260421T145022
CREATED:20250513T170425Z
LAST-MODIFIED:20250516T171149Z
UID:10000026-1747396800-1747398600@eaglepointseniorliving.com
SUMMARY:Oshibori
DESCRIPTION:
URL:https://eaglepointseniorliving.com/event-calendar/oshibori-7/
CATEGORIES:Memory Care
END:VEVENT
BEGIN:VEVENT
DTSTART;TZID=America/Chicago:20250516T170000
DTEND;TZID=America/Chicago:20250516T173000
DTSTAMP:20260421T145022
CREATED:20250513T170425Z
LAST-MODIFIED:20250516T171149Z
UID:10000028-1747414800-1747416600@eaglepointseniorliving.com
SUMMARY:Oshibori
DESCRIPTION:
URL:https://eaglepointseniorliving.com/event-calendar/oshibori-8/
CATEGORIES:Memory Care
END:VEVENT
BEGIN:VEVENT
DTSTART;TZID=America/Chicago:20250516T183000
DTEND;TZID=America/Chicago:20250516T223000
DTSTAMP:20260421T145022
CREATED:20250513T170425Z
LAST-MODIFIED:20250516T171149Z
UID:10000029-1747420200-1747434600@eaglepointseniorliving.com
SUMMARY:Friday Night Movie
DESCRIPTION:
URL:https://eaglepointseniorliving.com/event-calendar/friday-night-movie/
CATEGORIES:Memory Care
END:VEVENT
BEGIN:VEVENT
DTSTART;TZID=America/Chicago:20250516T190000
DTEND;TZID=America/Chicago:20250516T200000
DTSTAMP:20260421T145022
CREATED:20250513T170425Z
LAST-MODIFIED:20250516T171149Z
UID:10000030-1747422000-1747425600@eaglepointseniorliving.com
SUMMARY:Snack Pass & Reminisce
DESCRIPTION:
URL:https://eaglepointseniorliving.com/event-calendar/snack-pass-reminisce-4/
CATEGORIES:Memory Care
END:VEVENT
END:VCALENDAR