BEGIN:VCALENDAR
VERSION:2.0
PRODID:-//Eagle Point Senior Living - ECPv6.11.2.1//NONSGML v1.0//EN
CALSCALE:GREGORIAN
METHOD:PUBLISH
X-ORIGINAL-URL:https://eaglepointseniorliving.com
X-WR-CALDESC:Events for Eagle Point Senior Living
REFRESH-INTERVAL;VALUE=DURATION:PT1H
X-Robots-Tag:noindex
X-PUBLISHED-TTL:PT1H
BEGIN:VTIMEZONE
TZID:America/Chicago
BEGIN:DAYLIGHT
TZOFFSETFROM:-0600
TZOFFSETTO:-0500
TZNAME:CDT
DTSTART:20250309T080000
END:DAYLIGHT
BEGIN:STANDARD
TZOFFSETFROM:-0500
TZOFFSETTO:-0600
TZNAME:CST
DTSTART:20251102T070000
END:STANDARD
END:VTIMEZONE
BEGIN:VEVENT
DTSTART;TZID=America/Chicago:20250516T091500
DTEND;TZID=America/Chicago:20250516T094500
DTSTAMP:20260425T172742
CREATED:20250513T170654Z
LAST-MODIFIED:20250515T173941Z
UID:10000239-1747386900-1747388700@eaglepointseniorliving.com
SUMMARY:Daily Devotions
DESCRIPTION:Chaplain Peter will lead us in morning daily devotions\, Monday-Friday
URL:https://eaglepointseniorliving.com/event-calendar/daily-devotions-4/
LOCATION:Library
CATEGORIES:Assisted Living
END:VEVENT
BEGIN:VEVENT
DTSTART;TZID=America/Chicago:20250515T170000
DTEND;TZID=America/Chicago:20250515T180000
DTSTAMP:20260425T172742
CREATED:20250513T170654Z
LAST-MODIFIED:20250515T173941Z
UID:10000238-1747328400-1747332000@eaglepointseniorliving.com
SUMMARY:Dinner Out: Mark's Eastside
DESCRIPTION:Sign up required at the front desk. Max 12. Dawn will load the bus promptly at 4:45 PM and depart by 5:00 PM or earlier if everyone is ready.
URL:https://eaglepointseniorliving.com/event-calendar/dinner-out-marks-eastside/
LOCATION:Art Room
CATEGORIES:Assisted Living
END:VEVENT
BEGIN:VEVENT
DTSTART;TZID=America/Chicago:20250515T150000
DTEND;TZID=America/Chicago:20250515T160000
DTSTAMP:20260425T172742
CREATED:20250513T170654Z
LAST-MODIFIED:20250515T173941Z
UID:10000237-1747321200-1747324800@eaglepointseniorliving.com
SUMMARY:Sing-along
DESCRIPTION:A joyful\, interactive activity to sing familiar songs promoting social engagement\, memory recall\, and emotional well-being.
URL:https://eaglepointseniorliving.com/event-calendar/sing-along/
LOCATION:2nd Floor Lounge
CATEGORIES:Assisted Living
END:VEVENT
BEGIN:VEVENT
DTSTART;TZID=America/Chicago:20250515T143000
DTEND;TZID=America/Chicago:20250515T150000
DTSTAMP:20260425T172742
CREATED:20250513T170654Z
LAST-MODIFIED:20250515T173941Z
UID:10000236-1747319400-1747321200@eaglepointseniorliving.com
SUMMARY:Food Forum
DESCRIPTION:Residents are invited to share their concerns and comments for Culinary Directory Kiaya.
URL:https://eaglepointseniorliving.com/event-calendar/food-forum/
LOCATION:Art Room
CATEGORIES:Assisted Living
END:VEVENT
BEGIN:VEVENT
DTSTART;TZID=America/Chicago:20250515T104500
DTEND;TZID=America/Chicago:20250515T113000
DTSTAMP:20260425T172742
CREATED:20250513T170654Z
LAST-MODIFIED:20250514T172929Z
UID:10000235-1747305900-1747308600@eaglepointseniorliving.com
SUMMARY:Craft: Pastel Feathers
DESCRIPTION:Fun play with pastels!
URL:https://eaglepointseniorliving.com/event-calendar/craft-pastel-feathers/
LOCATION:Art Room
CATEGORIES:Assisted Living
END:VEVENT
BEGIN:VEVENT
DTSTART;TZID=America/Chicago:20250515T100000
DTEND;TZID=America/Chicago:20250515T110000
DTSTAMP:20260425T172742
CREATED:20250513T170654Z
LAST-MODIFIED:20250514T172929Z
UID:10000234-1747303200-1747306800@eaglepointseniorliving.com
SUMMARY:Catholic Mass
DESCRIPTION:Catholic Mass presided over by a priest.
URL:https://eaglepointseniorliving.com/event-calendar/catholic-mass/
LOCATION:Theater
CATEGORIES:Assisted Living
END:VEVENT
BEGIN:VEVENT
DTSTART;TZID=America/Chicago:20250515T091500
DTEND;TZID=America/Chicago:20250515T094500
DTSTAMP:20260425T172742
CREATED:20250513T170654Z
LAST-MODIFIED:20250514T172929Z
UID:10000233-1747300500-1747302300@eaglepointseniorliving.com
SUMMARY:Daily Devotions
DESCRIPTION:Chaplain Peter will lead us in morning daily devotions\, Monday-Friday
URL:https://eaglepointseniorliving.com/event-calendar/daily-devotions-3/
LOCATION:Library
CATEGORIES:Assisted Living
END:VEVENT
BEGIN:VEVENT
DTSTART;TZID=America/Chicago:20250514T150000
DTEND;TZID=America/Chicago:20250514T160000
DTSTAMP:20260425T172742
CREATED:20250513T170654Z
LAST-MODIFIED:20250513T170654Z
UID:10000221-1747234800-1747238400@eaglepointseniorliving.com
SUMMARY:Church Service with Chaplain Peter
DESCRIPTION:
URL:https://eaglepointseniorliving.com/event-calendar/church-service-with-chaplain-peter-2/
LOCATION:Theater
CATEGORIES:Assisted Living
END:VEVENT
BEGIN:VEVENT
DTSTART;TZID=America/Chicago:20250514T150000
DTEND;TZID=America/Chicago:20250514T160000
DTSTAMP:20260425T172742
CREATED:20250513T170654Z
LAST-MODIFIED:20250514T172929Z
UID:10000231-1747234800-1747238400@eaglepointseniorliving.com
SUMMARY:Church Service with Chaplain Peter
DESCRIPTION:
URL:https://eaglepointseniorliving.com/event-calendar/church-service-with-chaplain-peter/
LOCATION:Theater
CATEGORIES:Assisted Living
END:VEVENT
BEGIN:VEVENT
DTSTART;TZID=America/Chicago:20250514T150000
DTEND;TZID=America/Chicago:20250514T160000
DTSTAMP:20260425T172742
CREATED:20250513T170654Z
LAST-MODIFIED:20250514T172929Z
UID:10000232-1747234800-1747238400@eaglepointseniorliving.com
SUMMARY:Cribbage
DESCRIPTION:
URL:https://eaglepointseniorliving.com/event-calendar/cribbage/
LOCATION:Art Room
CATEGORIES:Assisted Living
END:VEVENT
BEGIN:VEVENT
DTSTART;TZID=America/Chicago:20250514T133000
DTEND;TZID=America/Chicago:20250514T143000
DTSTAMP:20260425T172742
CREATED:20250513T170654Z
LAST-MODIFIED:20250513T170654Z
UID:10000220-1747229400-1747233000@eaglepointseniorliving.com
SUMMARY:Speaker- Meteorologist Ryan Kudish from Storm team 5
DESCRIPTION:
URL:https://eaglepointseniorliving.com/event-calendar/speaker-meteorologist-ryan-kudish-from-storm-team-5-2/
LOCATION:Theater
CATEGORIES:Assisted Living
END:VEVENT
BEGIN:VEVENT
DTSTART;TZID=America/Chicago:20250514T133000
DTEND;TZID=America/Chicago:20250514T143000
DTSTAMP:20260425T172742
CREATED:20250513T170654Z
LAST-MODIFIED:20250514T172929Z
UID:10000230-1747229400-1747233000@eaglepointseniorliving.com
SUMMARY:Speaker- Meteorologist Ryan Kudish from Storm team 5
DESCRIPTION:
URL:https://eaglepointseniorliving.com/event-calendar/speaker-meteorologist-ryan-kudish-from-storm-team-5/
LOCATION:Theater
CATEGORIES:Assisted Living
END:VEVENT
BEGIN:VEVENT
DTSTART;TZID=America/Chicago:20250514T104500
DTEND;TZID=America/Chicago:20250514T113000
DTSTAMP:20260425T172742
CREATED:20250513T170654Z
LAST-MODIFIED:20250513T170654Z
UID:10000219-1747219500-1747222200@eaglepointseniorliving.com
SUMMARY:Wiser on Wednesday-May is Maytag Month
DESCRIPTION:
URL:https://eaglepointseniorliving.com/event-calendar/wiser-on-wednesday-may-is-maytag-month-2/
LOCATION:Art Room
CATEGORIES:Assisted Living
END:VEVENT
BEGIN:VEVENT
DTSTART;TZID=America/Chicago:20250514T104500
DTEND;TZID=America/Chicago:20250514T113000
DTSTAMP:20260425T172742
CREATED:20250513T170654Z
LAST-MODIFIED:20250513T170654Z
UID:10000229-1747219500-1747222200@eaglepointseniorliving.com
SUMMARY:Wiser on Wednesday-May is Maytag Month
DESCRIPTION:
URL:https://eaglepointseniorliving.com/event-calendar/wiser-on-wednesday-may-is-maytag-month/
LOCATION:Art Room
CATEGORIES:Assisted Living
END:VEVENT
BEGIN:VEVENT
DTSTART;TZID=America/Chicago:20250514T100000
DTEND;TZID=America/Chicago:20250514T103000
DTSTAMP:20260425T172742
CREATED:20250513T170654Z
LAST-MODIFIED:20250513T170654Z
UID:10000218-1747216800-1747218600@eaglepointseniorliving.com
SUMMARY:Exercise Class
DESCRIPTION:
URL:https://eaglepointseniorliving.com/event-calendar/exercise-class-2/
LOCATION:Wellness Room
CATEGORIES:Assisted Living
END:VEVENT
BEGIN:VEVENT
DTSTART;TZID=America/Chicago:20250514T100000
DTEND;TZID=America/Chicago:20250514T103000
DTSTAMP:20260425T172742
CREATED:20250513T170654Z
LAST-MODIFIED:20250513T170654Z
UID:10000228-1747216800-1747218600@eaglepointseniorliving.com
SUMMARY:Exercise Class
DESCRIPTION:
URL:https://eaglepointseniorliving.com/event-calendar/exercise-class/
LOCATION:Wellness Room
CATEGORIES:Assisted Living
END:VEVENT
BEGIN:VEVENT
DTSTART;TZID=America/Chicago:20250514T091500
DTEND;TZID=America/Chicago:20250514T094500
DTSTAMP:20260425T172742
CREATED:20250513T170654Z
LAST-MODIFIED:20250513T170654Z
UID:10000227-1747214100-1747215900@eaglepointseniorliving.com
SUMMARY:Daily Devotions
DESCRIPTION:Chaplain Peter will lead us in morning daily devotions\, Monday-Friday
URL:https://eaglepointseniorliving.com/event-calendar/daily-devotions/
LOCATION:Library
CATEGORIES:Assisted Living
END:VEVENT
BEGIN:VEVENT
DTSTART;TZID=America/Chicago:20250514T091500
DTEND;TZID=America/Chicago:20250514T094500
DTSTAMP:20260425T172742
CREATED:20250513T170654Z
LAST-MODIFIED:20250513T170654Z
UID:10000217-1747214100-1747215900@eaglepointseniorliving.com
SUMMARY:Daily Devotions
DESCRIPTION:Chaplain Peter will lead us in morning daily devotions\, Monday-Friday
URL:https://eaglepointseniorliving.com/event-calendar/daily-devotions-2/
LOCATION:Library
CATEGORIES:Assisted Living
END:VEVENT
BEGIN:VEVENT
DTSTART;TZID=America/Chicago:20250513T180000
DTEND;TZID=America/Chicago:20250513T183000
DTSTAMP:20260425T172742
CREATED:20250513T170654Z
LAST-MODIFIED:20250513T170654Z
UID:10000226-1747159200-1747161000@eaglepointseniorliving.com
SUMMARY:FIRE DRILL
DESCRIPTION:A fire drill will take place with alarm sounding at 6:00 PM. Residents stay in apartment or follow management instructions if in public location.
URL:https://eaglepointseniorliving.com/event-calendar/fire-drill/
LOCATION:Building
CATEGORIES:Assisted Living
END:VEVENT
BEGIN:VEVENT
DTSTART;TZID=America/Chicago:20250513T180000
DTEND;TZID=America/Chicago:20250513T183000
DTSTAMP:20260425T172742
CREATED:20250513T170654Z
LAST-MODIFIED:20250513T170654Z
UID:10000216-1747159200-1747161000@eaglepointseniorliving.com
SUMMARY:FIRE DRILL
DESCRIPTION:A fire drill will take place with alarm sounding at 6:00 PM. Residents stay in apartment or follow management instructions if in public location.
URL:https://eaglepointseniorliving.com/event-calendar/fire-drill-2/
LOCATION:Building
CATEGORIES:Assisted Living
END:VEVENT
BEGIN:VEVENT
DTSTART;TZID=America/Chicago:20250513T143000
DTEND;TZID=America/Chicago:20250513T153000
DTSTAMP:20260425T172742
CREATED:20250513T170654Z
LAST-MODIFIED:20250513T170654Z
UID:10000225-1747146600-1747150200@eaglepointseniorliving.com
SUMMARY:Jeopardy with Ginger
DESCRIPTION:
URL:https://eaglepointseniorliving.com/event-calendar/jeopardy-with-ginger/
LOCATION:Art Room
CATEGORIES:Assisted Living
END:VEVENT
BEGIN:VEVENT
DTSTART;TZID=America/Chicago:20250513T141500
DTEND;TZID=America/Chicago:20250513T163000
DTSTAMP:20260425T172742
CREATED:20250513T170654Z
LAST-MODIFIED:20250513T170654Z
UID:10000224-1747145700-1747153800@eaglepointseniorliving.com
SUMMARY:'AI Basics' at Lawrence University
DESCRIPTION:Registered attendees only! Meet in the lobby at 2:15 PM\, bus will leave at 2:30 PM for 3:00 PM program at the Warch Center on the Lawrence campus.
URL:https://eaglepointseniorliving.com/event-calendar/ai-basics-at-lawrence-university/
LOCATION:Lobby
CATEGORIES:Assisted Living
END:VEVENT
BEGIN:VEVENT
DTSTART;TZID=America/Chicago:20250513T140000
DTEND;TZID=America/Chicago:20250527T150000
DTSTAMP:20260425T172742
CREATED:20250514T171024Z
LAST-MODIFIED:20250527T180929Z
UID:10000373-1747144800-1748358000@eaglepointseniorliving.com
SUMMARY:Monday This Month We Celebrate
DESCRIPTION:
URL:https://eaglepointseniorliving.com/event-calendar/monday-this-month-we-celebrate/
LOCATION:Art Room
CATEGORIES:Assisted Living
END:VEVENT
BEGIN:VEVENT
DTSTART;TZID=America/Chicago:20250513T140000
DTEND;TZID=America/Chicago:20250513T143000
DTSTAMP:20260425T172742
CREATED:20250513T170653Z
LAST-MODIFIED:20250513T170654Z
UID:10000223-1747144800-1747146600@eaglepointseniorliving.com
SUMMARY:Smoothie Tuesdays
DESCRIPTION:Join us each Tuesday as we make fresh protein smoothies each week in the lobby at 2:00pm. Each week will be a different flavor!
URL:https://eaglepointseniorliving.com/event-calendar/smoothie-tuesdays/
LOCATION:Lobby
CATEGORIES:Assisted Living
END:VEVENT
BEGIN:VEVENT
DTSTART;TZID=America/Chicago:20250513T124500
DTEND;TZID=America/Chicago:20250513T140000
DTSTAMP:20260425T172742
CREATED:20250513T170653Z
LAST-MODIFIED:20250513T170654Z
UID:10000222-1747140300-1747144800@eaglepointseniorliving.com
SUMMARY:2025 Forklift Racing League
DESCRIPTION:Everyone is invited to join in the fun! You can watch\, try your hand at the forklift\, or cheer the team on.
URL:https://eaglepointseniorliving.com/event-calendar/2025-forklift-racing-league/
LOCATION:Wellness Room
CATEGORIES:Assisted Living
END:VEVENT
END:VCALENDAR