BEGIN:VCALENDAR
VERSION:2.0
PRODID:-//Eagle Point Senior Living - ECPv6.11.2.1//NONSGML v1.0//EN
CALSCALE:GREGORIAN
METHOD:PUBLISH
X-ORIGINAL-URL:https://eaglepointseniorliving.com
X-WR-CALDESC:Events for Eagle Point Senior Living
REFRESH-INTERVAL;VALUE=DURATION:PT1H
X-Robots-Tag:noindex
X-PUBLISHED-TTL:PT1H
BEGIN:VTIMEZONE
TZID:America/Chicago
BEGIN:DAYLIGHT
TZOFFSETFROM:-0600
TZOFFSETTO:-0500
TZNAME:CDT
DTSTART:20250309T080000
END:DAYLIGHT
BEGIN:STANDARD
TZOFFSETFROM:-0500
TZOFFSETTO:-0600
TZNAME:CST
DTSTART:20251102T070000
END:STANDARD
END:VTIMEZONE
BEGIN:VEVENT
DTSTART;TZID=America/Chicago:20250527T091500
DTEND;TZID=America/Chicago:20250527T094500
DTSTAMP:20260425T072801
CREATED:20250513T170656Z
LAST-MODIFIED:20250526T181046Z
UID:10000287-1748337300-1748339100@eaglepointseniorliving.com
SUMMARY:Daily Devotions
DESCRIPTION:Chaplain Peter will lead us in morning daily devotions\, Monday-Friday
URL:https://eaglepointseniorliving.com/event-calendar/daily-devotions-11/
LOCATION:Library
CATEGORIES:Assisted Living
END:VEVENT
BEGIN:VEVENT
DTSTART;TZID=America/Chicago:20250526T180000
DTEND;TZID=America/Chicago:20250526T200000
DTSTAMP:20260425T072801
CREATED:20250519T175444Z
LAST-MODIFIED:20250526T181046Z
UID:10000450-1748282400-1748289600@eaglepointseniorliving.com
SUMMARY:Monday Evening Movie-"Taking Chance"(DVD)
DESCRIPTION:
URL:https://eaglepointseniorliving.com/event-calendar/monday-evening-movie-taking-chancedvd/
LOCATION:Theater
CATEGORIES:Assisted Living
END:VEVENT
BEGIN:VEVENT
DTSTART;TZID=America/Chicago:20250526T153000
DTEND;TZID=America/Chicago:20250526T163000
DTSTAMP:20260425T072801
CREATED:20250514T171139Z
LAST-MODIFIED:20250526T181046Z
UID:10000386-1748273400-1748277000@eaglepointseniorliving.com
SUMMARY:Monday This Month We Celebrate-Appleton
DESCRIPTION:Lawesburgh on the east side\, Grand Chute on the west end and Appleton in the middle.\nThe three settlements were incorporated under the name of Appleton as a village in 1853\, and later as a city in 1857. Incorporated as a city on May 2\, 1857
URL:https://eaglepointseniorliving.com/event-calendar/monday-this-month-we-celebrate-2/
LOCATION:Art Room
CATEGORIES:Assisted Living
END:VEVENT
BEGIN:VEVENT
DTSTART;TZID=America/Chicago:20250526T140000
DTEND;TZID=America/Chicago:20250526T150000
DTSTAMP:20260425T072801
CREATED:20250514T171139Z
LAST-MODIFIED:20250526T181046Z
UID:10000385-1748268000-1748271600@eaglepointseniorliving.com
SUMMARY:Book Club Discussion-How To Raise an Elephant
DESCRIPTION:Weather permitting outdoor sitting
URL:https://eaglepointseniorliving.com/event-calendar/book-club-discussion-how-to-raise-an-elephant-2/
LOCATION:Art Room
CATEGORIES:Assisted Living
END:VEVENT
BEGIN:VEVENT
DTSTART;TZID=America/Chicago:20250526T130000
DTEND;TZID=America/Chicago:20250526T140000
DTSTAMP:20260425T072801
CREATED:20250519T175444Z
LAST-MODIFIED:20250526T181046Z
UID:10000449-1748264400-1748268000@eaglepointseniorliving.com
SUMMARY:Memorial Day Service
DESCRIPTION:
URL:https://eaglepointseniorliving.com/event-calendar/memorial-day-service/
LOCATION:Theater
CATEGORIES:Assisted Living
END:VEVENT
BEGIN:VEVENT
DTSTART;TZID=America/Chicago:20250526T130000
DTEND;TZID=America/Chicago:20250526T140000
DTSTAMP:20260425T072801
CREATED:20250513T170656Z
LAST-MODIFIED:20250518T175511Z
UID:10000286-1748264400-1748268000@eaglepointseniorliving.com
SUMMARY:Wii Bowling
DESCRIPTION:Allows user to mimic all the critical motions of bowling with a television screen.
URL:https://eaglepointseniorliving.com/event-calendar/wii-bowling-2/
LOCATION:Wellness Room
CATEGORIES:Assisted Living
END:VEVENT
BEGIN:VEVENT
DTSTART;TZID=America/Chicago:20250526T100000
DTEND;TZID=America/Chicago:20250526T103000
DTSTAMP:20260425T072801
CREATED:20250513T170656Z
LAST-MODIFIED:20250525T180959Z
UID:10000285-1748253600-1748255400@eaglepointseniorliving.com
SUMMARY:Weight Resistance Class
DESCRIPTION:A weight resistance class led by our resident Linda!
URL:https://eaglepointseniorliving.com/event-calendar/weight-resistance-class-4/
LOCATION:Wellness Room
CATEGORIES:Assisted Living
END:VEVENT
BEGIN:VEVENT
DTSTART;TZID=America/Chicago:20250526T091500
DTEND;TZID=America/Chicago:20250526T094500
DTSTAMP:20260425T072801
CREATED:20250513T170656Z
LAST-MODIFIED:20250515T173941Z
UID:10000284-1748250900-1748252700@eaglepointseniorliving.com
SUMMARY:Daily Devotions
DESCRIPTION:Chaplain Peter will lead us in morning daily devotions\, Monday-Friday
URL:https://eaglepointseniorliving.com/event-calendar/daily-devotions-10/
LOCATION:Library
CATEGORIES:Assisted Living
END:VEVENT
BEGIN:VEVENT
DTSTART;TZID=America/Chicago:20250525T150000
DTEND;TZID=America/Chicago:20250525T160000
DTSTAMP:20260425T072801
CREATED:20250513T170656Z
LAST-MODIFIED:20250525T180958Z
UID:10000283-1748185200-1748188800@eaglepointseniorliving.com
SUMMARY:Music by Tommy Winch
DESCRIPTION:
URL:https://eaglepointseniorliving.com/event-calendar/music-by-tommy-winch/
LOCATION:Lobby
CATEGORIES:Assisted Living
END:VEVENT
BEGIN:VEVENT
DTSTART;TZID=America/Chicago:20250525T091500
DTEND;TZID=America/Chicago:20250525T121500
DTSTAMP:20260425T072801
CREATED:20250513T170656Z
LAST-MODIFIED:20250524T180949Z
UID:10000282-1748164500-1748175300@eaglepointseniorliving.com
SUMMARY:Immanuel Lutheran Church- Live Stream
DESCRIPTION:On line viewing of Immanuel Ev. Lutheran Church\, Greenville\, WI.\nAll denominations are invited to attend
URL:https://eaglepointseniorliving.com/event-calendar/immanuel-lutheran-church-live-stream-2/
LOCATION:Theater
CATEGORIES:Assisted Living
END:VEVENT
BEGIN:VEVENT
DTSTART;TZID=America/Chicago:20250524T140000
DTEND;TZID=America/Chicago:20250524T150000
DTSTAMP:20260425T072801
CREATED:20250513T170656Z
LAST-MODIFIED:20250524T180949Z
UID:10000281-1748095200-1748098800@eaglepointseniorliving.com
SUMMARY:Resident Sheepshead
DESCRIPTION:
URL:https://eaglepointseniorliving.com/event-calendar/resident-sheepshead-2/
LOCATION:Game Room
CATEGORIES:Assisted Living
END:VEVENT
BEGIN:VEVENT
DTSTART;TZID=America/Chicago:20250524T130000
DTEND;TZID=America/Chicago:20250524T150000
DTSTAMP:20260425T072801
CREATED:20250513T170656Z
LAST-MODIFIED:20250524T180949Z
UID:10000280-1748091600-1748098800@eaglepointseniorliving.com
SUMMARY:Saturday Afternoon Movie-Resident DVD Choice
DESCRIPTION:
URL:https://eaglepointseniorliving.com/event-calendar/saturday-afternoon-movie/
LOCATION:Theater
CATEGORIES:Assisted Living
END:VEVENT
BEGIN:VEVENT
DTSTART;TZID=America/Chicago:20250524T093000
DTEND;TZID=America/Chicago:20250524T103000
DTSTAMP:20260425T072801
CREATED:20250513T170656Z
LAST-MODIFIED:20250523T181002Z
UID:10000279-1748079000-1748082600@eaglepointseniorliving.com
SUMMARY:Saturday Morning Chat and Coffee
DESCRIPTION:
URL:https://eaglepointseniorliving.com/event-calendar/saturday-morning-chat-and-coffee-2/
LOCATION:Lobby
CATEGORIES:Assisted Living
END:VEVENT
BEGIN:VEVENT
DTSTART;TZID=America/Chicago:20250523T150000
DTEND;TZID=America/Chicago:20250523T160000
DTSTAMP:20260425T072801
CREATED:20250516T173941Z
LAST-MODIFIED:20250523T181002Z
UID:10000414-1748012400-1748016000@eaglepointseniorliving.com
SUMMARY:CANCELED: Smithsonian Museums PT 2
DESCRIPTION:Learn more about The Castle\, The American Indian Museum\, The Portrait Museum\, and Anacostia Museum.
URL:https://eaglepointseniorliving.com/event-calendar/smithsonian-museums-pt-2/
LOCATION:Theater
CATEGORIES:Assisted Living
END:VEVENT
BEGIN:VEVENT
DTSTART;TZID=America/Chicago:20250523T140000
DTEND;TZID=America/Chicago:20250523T160000
DTSTAMP:20260425T072801
CREATED:20250523T181000Z
LAST-MODIFIED:20250523T181002Z
UID:10000508-1748008800-1748016000@eaglepointseniorliving.com
SUMMARY:Movie: Yesterday
DESCRIPTION:This movie is hilarious!!! A struggling musician realizes he’s the only person on Earth who can remember The Beatles after waking up in an alternate reality where they never existed.
URL:https://eaglepointseniorliving.com/event-calendar/movie-yesterday/
LOCATION:Theater
CATEGORIES:Assisted Living
END:VEVENT
BEGIN:VEVENT
DTSTART;TZID=America/Chicago:20250523T133000
DTEND;TZID=America/Chicago:20250523T150000
DTSTAMP:20260425T072801
CREATED:20250513T170656Z
LAST-MODIFIED:20250515T173940Z
UID:10000276-1748007000-1748012400@eaglepointseniorliving.com
SUMMARY:Trip to Appleton Public Library (Sign up at Front Desk)
DESCRIPTION:
URL:https://eaglepointseniorliving.com/event-calendar/trip-to-appleton-public-library-sign-up-at-front-desk/
LOCATION:Lobby
CATEGORIES:Assisted Living
END:VEVENT
BEGIN:VEVENT
DTSTART;TZID=America/Chicago:20250523T130000
DTEND;TZID=America/Chicago:20250523T143000
DTSTAMP:20260425T072801
CREATED:20250513T170656Z
LAST-MODIFIED:20250523T181001Z
UID:10000278-1748005200-1748010600@eaglepointseniorliving.com
SUMMARY:Bridge in the Art Room
DESCRIPTION:
URL:https://eaglepointseniorliving.com/event-calendar/bridge-in-the-art-room/
LOCATION:Art Room
CATEGORIES:Assisted Living
END:VEVENT
BEGIN:VEVENT
DTSTART;TZID=America/Chicago:20250523T130000
DTEND;TZID=America/Chicago:20250523T133000
DTSTAMP:20260425T072801
CREATED:20250513T170656Z
LAST-MODIFIED:20250523T181002Z
UID:10000277-1748005200-1748007000@eaglepointseniorliving.com
SUMMARY:Really Big Show
DESCRIPTION:
URL:https://eaglepointseniorliving.com/event-calendar/really-big-show-2/
LOCATION:Wellness Room
CATEGORIES:Assisted Living
END:VEVENT
BEGIN:VEVENT
DTSTART;TZID=America/Chicago:20250523T100000
DTEND;TZID=America/Chicago:20250523T110000
DTSTAMP:20260425T072801
CREATED:20250513T170656Z
LAST-MODIFIED:20250522T180931Z
UID:10000274-1747994400-1747998000@eaglepointseniorliving.com
SUMMARY:Vietnam Veterans of America-Memorial Day
DESCRIPTION:The Vietnam Veterans of America\, Chapter 351 and Associates will be making a visit to Eagle Point Senior Living for Memorial Day.
URL:https://eaglepointseniorliving.com/event-calendar/vietnam-veterans-of-america-memorial-day/
LOCATION:TH
CATEGORIES:Assisted Living
END:VEVENT
BEGIN:VEVENT
DTSTART;TZID=America/Chicago:20250523T091500
DTEND;TZID=America/Chicago:20250523T094500
DTSTAMP:20260425T072801
CREATED:20250513T170655Z
LAST-MODIFIED:20250515T173940Z
UID:10000273-1747991700-1747993500@eaglepointseniorliving.com
SUMMARY:Daily Devotions
DESCRIPTION:Chaplain Peter will lead us in morning daily devotions\, Monday-Friday
URL:https://eaglepointseniorliving.com/event-calendar/daily-devotions-9/
LOCATION:Library
CATEGORIES:Assisted Living
END:VEVENT
BEGIN:VEVENT
DTSTART;TZID=America/Chicago:20250523T090000
DTEND;TZID=America/Chicago:20250523T093000
DTSTAMP:20260425T072801
CREATED:20250513T170656Z
LAST-MODIFIED:20250522T180931Z
UID:10000275-1747990800-1747992600@eaglepointseniorliving.com
SUMMARY:NOTE EARLY: Weight Resistance Class
DESCRIPTION:A weight resistance class led by our resident Linda!
URL:https://eaglepointseniorliving.com/event-calendar/weight-resistance-class-3/
LOCATION:Wellness Room
CATEGORIES:Assisted Living
END:VEVENT
BEGIN:VEVENT
DTSTART;TZID=America/Chicago:20250522T180000
DTEND;TZID=America/Chicago:20250522T190000
DTSTAMP:20260425T072801
CREATED:20250513T170655Z
LAST-MODIFIED:20250522T180931Z
UID:10000272-1747936800-1747940400@eaglepointseniorliving.com
SUMMARY:Rescheduled Dinner to Mark's
DESCRIPTION:Sign-up is required at the front desk. Max 12. Dawn will load the bus promptly at 4:45 PM and depart by 5:00 PM or earlier if everyone is ready.
URL:https://eaglepointseniorliving.com/event-calendar/bingo/
LOCATION:Lobby
CATEGORIES:Assisted Living
END:VEVENT
BEGIN:VEVENT
DTSTART;TZID=America/Chicago:20250522T150000
DTEND;TZID=America/Chicago:20250522T160000
DTSTAMP:20260425T072801
CREATED:20250513T170655Z
LAST-MODIFIED:20250522T180931Z
UID:10000271-1747926000-1747929600@eaglepointseniorliving.com
SUMMARY:Sing-along
DESCRIPTION:A joyful\, interactive activity to sing familiar songs promoting social engagement\, memory recall\, and emotional well-being.
URL:https://eaglepointseniorliving.com/event-calendar/sing-along-2/
LOCATION:2nd Floor Lounge
CATEGORIES:Assisted Living
END:VEVENT
BEGIN:VEVENT
DTSTART;TZID=America/Chicago:20250522T140000
DTEND;TZID=America/Chicago:20250522T143000
DTSTAMP:20260425T072801
CREATED:20250513T170655Z
LAST-MODIFIED:20250522T180931Z
UID:10000270-1747922400-1747924200@eaglepointseniorliving.com
SUMMARY:Spark Performance:  Midway Party
DESCRIPTION:Spark participants\, let’s celebrate our wins and have a treat! If you’ve participated in any Spark Performance event\, please take part!
URL:https://eaglepointseniorliving.com/event-calendar/gentle-flow-easy-movement-for-everyone/
LOCATION:Wellness Room
CATEGORIES:Assisted Living
END:VEVENT
BEGIN:VEVENT
DTSTART;TZID=America/Chicago:20250522T130000
DTEND;TZID=America/Chicago:20250522T133000
DTSTAMP:20260425T072801
CREATED:20250516T173940Z
LAST-MODIFIED:20250522T180931Z
UID:10000413-1747918800-1747920600@eaglepointseniorliving.com
SUMMARY:Steps to Scoop Group Walk
DESCRIPTION:Attend the four 30-minute Steps to Scoop group walks to earn a Culver’s treat. If you miss one or just prefer walking inside\, use the punch card to log your indoor walks!
URL:https://eaglepointseniorliving.com/event-calendar/steps-to-scoop-group-walk/
LOCATION:Lobby
CATEGORIES:Assisted Living
END:VEVENT
BEGIN:VEVENT
DTSTART;TZID=America/Chicago:20250522T104500
DTEND;TZID=America/Chicago:20250522T113000
DTSTAMP:20260425T072801
CREATED:20250513T170655Z
LAST-MODIFIED:20250521T175516Z
UID:10000269-1747910700-1747913400@eaglepointseniorliving.com
SUMMARY:Craft: Coffee Filter Butterflies
DESCRIPTION:Crafts stimulate creativity\, dexterity\, and cognitive function while providing a sense of accomplishment and social interaction. Each craft can be tailored to accommodate varying levels of ability.
URL:https://eaglepointseniorliving.com/event-calendar/craft/
LOCATION:Art Room
CATEGORIES:Assisted Living
END:VEVENT
BEGIN:VEVENT
DTSTART;TZID=America/Chicago:20250522T100000
DTEND;TZID=America/Chicago:20250522T110000
DTSTAMP:20260425T072801
CREATED:20250513T170655Z
LAST-MODIFIED:20250521T175516Z
UID:10000268-1747908000-1747911600@eaglepointseniorliving.com
SUMMARY:Catholic Communion
DESCRIPTION:Corporate communion presided over by a deacon or layperson with hymns and rosary.
URL:https://eaglepointseniorliving.com/event-calendar/catholic-communion/
LOCATION:TH
CATEGORIES:Assisted Living
END:VEVENT
BEGIN:VEVENT
DTSTART;TZID=America/Chicago:20250522T091500
DTEND;TZID=America/Chicago:20250522T094500
DTSTAMP:20260425T072801
CREATED:20250513T170655Z
LAST-MODIFIED:20250515T173940Z
UID:10000267-1747905300-1747907100@eaglepointseniorliving.com
SUMMARY:Daily Devotions
DESCRIPTION:Chaplain Peter will lead us in morning daily devotions\, Monday-Friday
URL:https://eaglepointseniorliving.com/event-calendar/daily-devotions-8/
LOCATION:Library
CATEGORIES:Assisted Living
END:VEVENT
BEGIN:VEVENT
DTSTART;TZID=America/Chicago:20250521T150000
DTEND;TZID=America/Chicago:20250521T160000
DTSTAMP:20260425T072801
CREATED:20250513T170655Z
LAST-MODIFIED:20250515T173940Z
UID:10000265-1747839600-1747843200@eaglepointseniorliving.com
SUMMARY:Church Service with Chaplain Peter
DESCRIPTION:
URL:https://eaglepointseniorliving.com/event-calendar/church-service-with-chaplain-peter-3/
LOCATION:Theater
CATEGORIES:Assisted Living
END:VEVENT
BEGIN:VEVENT
DTSTART;TZID=America/Chicago:20250521T150000
DTEND;TZID=America/Chicago:20250521T160000
DTSTAMP:20260425T072801
CREATED:20250513T170655Z
LAST-MODIFIED:20250521T175516Z
UID:10000266-1747839600-1747843200@eaglepointseniorliving.com
SUMMARY:Cribbage
DESCRIPTION:
URL:https://eaglepointseniorliving.com/event-calendar/cribbage-2/
LOCATION:Art Room
CATEGORIES:Assisted Living
END:VEVENT
END:VCALENDAR