BEGIN:VCALENDAR
VERSION:2.0
PRODID:-//Eagle Point Senior Living - ECPv6.11.2.1//NONSGML v1.0//EN
CALSCALE:GREGORIAN
METHOD:PUBLISH
X-ORIGINAL-URL:https://eaglepointseniorliving.com
X-WR-CALDESC:Events for Eagle Point Senior Living
REFRESH-INTERVAL;VALUE=DURATION:PT1H
X-Robots-Tag:noindex
X-PUBLISHED-TTL:PT1H
BEGIN:VTIMEZONE
TZID:America/Chicago
BEGIN:DAYLIGHT
TZOFFSETFROM:-0600
TZOFFSETTO:-0500
TZNAME:CDT
DTSTART:20250309T080000
END:DAYLIGHT
BEGIN:STANDARD
TZOFFSETFROM:-0500
TZOFFSETTO:-0600
TZNAME:CST
DTSTART:20251102T070000
END:STANDARD
END:VTIMEZONE
BEGIN:VEVENT
DTSTART;TZID=America/Chicago:20250611T100000
DTEND;TZID=America/Chicago:20250611T103000
DTSTAMP:20260424T163136
CREATED:20250513T170659Z
LAST-MODIFIED:20250610T183924Z
UID:10000365-1749636000-1749637800@eaglepointseniorliving.com
SUMMARY:Exercise Class: Mix
DESCRIPTION:
URL:https://eaglepointseniorliving.com/event-calendar/exercise-class-6/
LOCATION:Wellness Room
CATEGORIES:Assisted Living
END:VEVENT
BEGIN:VEVENT
DTSTART;TZID=America/Chicago:20250611T091500
DTEND;TZID=America/Chicago:20250611T094500
DTSTAMP:20260424T163136
CREATED:20250513T170659Z
LAST-MODIFIED:20250610T183924Z
UID:10000364-1749633300-1749635100@eaglepointseniorliving.com
SUMMARY:Daily Devotions
DESCRIPTION:Chaplain Peter will lead us in morning daily devotions\, Monday-Friday
URL:https://eaglepointseniorliving.com/event-calendar/daily-devotions-22/
LOCATION:Library
CATEGORIES:Assisted Living
END:VEVENT
BEGIN:VEVENT
DTSTART;TZID=America/Chicago:20250610T174500
DTEND;TZID=America/Chicago:20250610T190000
DTSTAMP:20260424T163136
CREATED:20250606T181057Z
LAST-MODIFIED:20250610T183924Z
UID:10000703-1749577500-1749582000@eaglepointseniorliving.com
SUMMARY:Pierce Park Concert
DESCRIPTION:Sign up at the front desk! Be in the lobby by 5:45 PM\, bus will load and depart at 6:00 PM or earlier if all are gathered. Concert starts at 7:00 PM
URL:https://eaglepointseniorliving.com/event-calendar/pierce-park-concert/
LOCATION:Lobby
CATEGORIES:Assisted Living
END:VEVENT
BEGIN:VEVENT
DTSTART;TZID=America/Chicago:20250610T154500
DTEND;TZID=America/Chicago:20250610T163000
DTSTAMP:20260424T163136
CREATED:20250530T180924Z
LAST-MODIFIED:20250610T183924Z
UID:10000612-1749570300-1749573000@eaglepointseniorliving.com
SUMMARY:Bocce Ball (meet outside at Bocce Ball Court)
DESCRIPTION:
URL:https://eaglepointseniorliving.com/event-calendar/bocce-ball-meet-outside-at-bocce-ball-court-2/
LOCATION:Outside
CATEGORIES:Assisted Living
END:VEVENT
BEGIN:VEVENT
DTSTART;TZID=America/Chicago:20250610T143000
DTEND;TZID=America/Chicago:20250610T153000
DTSTAMP:20260424T163136
CREATED:20250513T170659Z
LAST-MODIFIED:20250610T183924Z
UID:10000362-1749565800-1749569400@eaglepointseniorliving.com
SUMMARY:Jeopardy with Brenda
DESCRIPTION:
URL:https://eaglepointseniorliving.com/event-calendar/jeopardy-with-ginger-3/
LOCATION:Art Room
CATEGORIES:Assisted Living
END:VEVENT
BEGIN:VEVENT
DTSTART;TZID=America/Chicago:20250610T140000
DTEND;TZID=America/Chicago:20250610T143000
DTSTAMP:20260424T163136
CREATED:20250513T170659Z
LAST-MODIFIED:20250610T183924Z
UID:10000361-1749564000-1749565800@eaglepointseniorliving.com
SUMMARY:Smoothie Tuesdays
DESCRIPTION:Join us each Tuesday as we make fresh protein smoothies each week in the lobby at 2:00pm. Each week will be a different flavor!
URL:https://eaglepointseniorliving.com/event-calendar/smoothie-tuesdays-5/
LOCATION:Lobby
CATEGORIES:Assisted Living
END:VEVENT
BEGIN:VEVENT
DTSTART;TZID=America/Chicago:20250610T124500
DTEND;TZID=America/Chicago:20250610T140000
DTSTAMP:20260424T163136
CREATED:20250513T170659Z
LAST-MODIFIED:20250610T183924Z
UID:10000360-1749559500-1749564000@eaglepointseniorliving.com
SUMMARY:2025 Forklift Racing League
DESCRIPTION:Everyone is invited to join in the fun! You can watch\, try your hand at the forklift\, or cheer the team on.
URL:https://eaglepointseniorliving.com/event-calendar/2025-forklift-racing-league-5/
LOCATION:Wellness Room
CATEGORIES:Assisted Living
END:VEVENT
BEGIN:VEVENT
DTSTART;TZID=America/Chicago:20250610T104500
DTEND;TZID=America/Chicago:20250610T114500
DTSTAMP:20260424T163136
CREATED:20250513T170659Z
LAST-MODIFIED:20250609T183924Z
UID:10000359-1749552300-1749555900@eaglepointseniorliving.com
SUMMARY:Thoughtful Theater Discussion: The Seventh Seal
DESCRIPTION:Discussion of Ingmar Bergman’s film “The Seventh Seal”.
URL:https://eaglepointseniorliving.com/event-calendar/thoughtful-theater-discussion-the-seventh-seal/
LOCATION:Theater
CATEGORIES:Assisted Living
END:VEVENT
BEGIN:VEVENT
DTSTART;TZID=America/Chicago:20250610T100000
DTEND;TZID=America/Chicago:20250610T103000
DTSTAMP:20260424T163136
CREATED:20250513T170659Z
LAST-MODIFIED:20250609T183924Z
UID:10000358-1749549600-1749551400@eaglepointseniorliving.com
SUMMARY:Steps to Scoop Group Walk
DESCRIPTION:Attend the four 30-minute Steps to Scoop group walks to earn a Culver’s treat. If you miss one or just prefer walking inside\, use the punch card to log your indoor walks!
URL:https://eaglepointseniorliving.com/event-calendar/exercise-fitness-mix-4/
LOCATION:Lobby
CATEGORIES:Assisted Living
END:VEVENT
BEGIN:VEVENT
DTSTART;TZID=America/Chicago:20250610T091500
DTEND;TZID=America/Chicago:20250610T094500
DTSTAMP:20260424T163136
CREATED:20250513T170659Z
LAST-MODIFIED:20250609T183924Z
UID:10000357-1749546900-1749548700@eaglepointseniorliving.com
SUMMARY:Daily Devotions
DESCRIPTION:Chaplain Peter will lead us in morning daily devotions\, Monday-Friday
URL:https://eaglepointseniorliving.com/event-calendar/daily-devotions-21/
LOCATION:Library
CATEGORIES:Assisted Living
END:VEVENT
BEGIN:VEVENT
DTSTART;TZID=America/Chicago:20250609T180000
DTEND;TZID=America/Chicago:20250609T200000
DTSTAMP:20260424T163136
CREATED:20250513T170659Z
LAST-MODIFIED:20250609T183924Z
UID:10000356-1749492000-1749499200@eaglepointseniorliving.com
SUMMARY:Thoughtful Theater: The Seventh Seal
DESCRIPTION:A knight he returns from the crusades to find his homeland ravaged by the plague.  Death soon comes for the knight\, who challenges death to a game of chess\, hoping he can survive long enough to do one meaningful act to prove his life had purpose.  Ingmar Bergman’s “The Seventh Seal” is considered one of the most influential films ever made.
URL:https://eaglepointseniorliving.com/event-calendar/thoughtful-theater-the-seventh-seal/
LOCATION:Theater
CATEGORIES:Assisted Living
END:VEVENT
BEGIN:VEVENT
DTSTART;TZID=America/Chicago:20250609T150000
DTEND;TZID=America/Chicago:20250609T160000
DTSTAMP:20260424T163136
CREATED:20250513T170659Z
LAST-MODIFIED:20250609T183924Z
UID:10000355-1749481200-1749484800@eaglepointseniorliving.com
SUMMARY:Dementia Presentation with Sarah Swant
DESCRIPTION:Sarah Swant from the Fox Valley Memory Project will be here to help us learn how to effectively communicate with friends or loved ones with dementia.
URL:https://eaglepointseniorliving.com/event-calendar/dementia-presentation-with-sarah-swant/
LOCATION:Theater
CATEGORIES:Assisted Living
END:VEVENT
BEGIN:VEVENT
DTSTART;TZID=America/Chicago:20250609T140000
DTEND;TZID=America/Chicago:20250609T150000
DTSTAMP:20260424T163136
CREATED:20250514T171310Z
LAST-MODIFIED:20250609T183924Z
UID:10000388-1749477600-1749481200@eaglepointseniorliving.com
SUMMARY:Monday This Month We Celebrate All Residents
DESCRIPTION:Have You Ever questions are fun prompts to get to know each other better and gain insight of you and your neighbors.
URL:https://eaglepointseniorliving.com/event-calendar/monday-this-month-we-celebrate-4/
LOCATION:Art Room
CATEGORIES:Assisted Living
END:VEVENT
BEGIN:VEVENT
DTSTART;TZID=America/Chicago:20250609T130000
DTEND;TZID=America/Chicago:20250609T140000
DTSTAMP:20260424T163136
CREATED:20250513T170659Z
LAST-MODIFIED:20250609T183924Z
UID:10000353-1749474000-1749477600@eaglepointseniorliving.com
SUMMARY:Encore Strings
DESCRIPTION:Enjoy the sounds of the beautiful 10-piece string ensemble!
URL:https://eaglepointseniorliving.com/event-calendar/encore-strings/
LOCATION:Lobby
CATEGORIES:Assisted Living
END:VEVENT
BEGIN:VEVENT
DTSTART;TZID=America/Chicago:20250609T100000
DTEND;TZID=America/Chicago:20250609T103000
DTSTAMP:20260424T163136
CREATED:20250513T170659Z
LAST-MODIFIED:20250608T183931Z
UID:10000352-1749463200-1749465000@eaglepointseniorliving.com
SUMMARY:Weight Resistance Class
DESCRIPTION:A weight resistance class led by our resident Linda!
URL:https://eaglepointseniorliving.com/event-calendar/weight-resistance-class-8/
LOCATION:Wellness Room
CATEGORIES:Assisted Living
END:VEVENT
BEGIN:VEVENT
DTSTART;TZID=America/Chicago:20250609T091500
DTEND;TZID=America/Chicago:20250609T094500
DTSTAMP:20260424T163136
CREATED:20250513T170659Z
LAST-MODIFIED:20250608T183931Z
UID:10000351-1749460500-1749462300@eaglepointseniorliving.com
SUMMARY:Daily Devotions
DESCRIPTION:Chaplain Peter will lead us in morning daily devotions\, Monday-Friday
URL:https://eaglepointseniorliving.com/event-calendar/daily-devotions-20/
LOCATION:Library
CATEGORIES:Assisted Living
END:VEVENT
BEGIN:VEVENT
DTSTART;TZID=America/Chicago:20250608T091500
DTEND;TZID=America/Chicago:20250608T121500
DTSTAMP:20260424T163136
CREATED:20250513T170659Z
LAST-MODIFIED:20250607T182444Z
UID:10000350-1749374100-1749384900@eaglepointseniorliving.com
SUMMARY:Immanuel Lutheran Church- Live Stream
DESCRIPTION:On line viewing of Immanuel Ev. Lutheran Church\, Greenville\, WI.\nAll denominations are invited to attend
URL:https://eaglepointseniorliving.com/event-calendar/immanuel-lutheran-church-live-stream-4/
LOCATION:Theater
CATEGORIES:Assisted Living
END:VEVENT
BEGIN:VEVENT
DTSTART;TZID=America/Chicago:20250607T140000
DTEND;TZID=America/Chicago:20250607T150000
DTSTAMP:20260424T163136
CREATED:20250513T170658Z
LAST-MODIFIED:20250607T182444Z
UID:10000349-1749304800-1749308400@eaglepointseniorliving.com
SUMMARY:Resident Sheepshead
DESCRIPTION:
URL:https://eaglepointseniorliving.com/event-calendar/resident-sheepshead-4/
LOCATION:Game Room
CATEGORIES:Assisted Living
END:VEVENT
BEGIN:VEVENT
DTSTART;TZID=America/Chicago:20250607T130000
DTEND;TZID=America/Chicago:20250607T150000
DTSTAMP:20260424T163136
CREATED:20250513T170658Z
LAST-MODIFIED:20250607T182444Z
UID:10000348-1749301200-1749308400@eaglepointseniorliving.com
SUMMARY:Saturday Afternoon Movie
DESCRIPTION:
URL:https://eaglepointseniorliving.com/event-calendar/saturday-afternoon-movie-3/
LOCATION:Theater
CATEGORIES:Assisted Living
END:VEVENT
BEGIN:VEVENT
DTSTART;TZID=America/Chicago:20250607T093000
DTEND;TZID=America/Chicago:20250607T103000
DTSTAMP:20260424T163136
CREATED:20250513T170658Z
LAST-MODIFIED:20250606T181059Z
UID:10000347-1749288600-1749292200@eaglepointseniorliving.com
SUMMARY:Saturday Morning Chat and Coffee
DESCRIPTION:
URL:https://eaglepointseniorliving.com/event-calendar/saturday-morning-chat-and-coffee-4/
LOCATION:Lobby
CATEGORIES:Assisted Living
END:VEVENT
BEGIN:VEVENT
DTSTART;VALUE=DATE:20250607
DTEND;VALUE=DATE:20250610
DTSTAMP:20260424T163136
CREATED:20250513T170659Z
LAST-MODIFIED:20250609T183924Z
UID:10000354-1749254400-1749513599@eaglepointseniorliving.com
SUMMARY:Eid-al-Adha
DESCRIPTION:This Islamic festival honors the willingness of Abraham to sacrifice his son as an act of obedience to God’s command.
URL:https://eaglepointseniorliving.com/event-calendar/eid-al-adha/
CATEGORIES:Assisted Living
END:VEVENT
BEGIN:VEVENT
DTSTART;TZID=America/Chicago:20250606T150000
DTEND;TZID=America/Chicago:20250606T160000
DTSTAMP:20260424T163136
CREATED:20250513T170658Z
LAST-MODIFIED:20250606T181059Z
UID:10000346-1749222000-1749225600@eaglepointseniorliving.com
SUMMARY:Happy Hour
DESCRIPTION:An opportunity to socialize with other community members.
URL:https://eaglepointseniorliving.com/event-calendar/happy-hour-with-music-by-steve-arnold/
LOCATION:Lobby
CATEGORIES:Assisted Living
END:VEVENT
BEGIN:VEVENT
DTSTART;TZID=America/Chicago:20250606T130000
DTEND;TZID=America/Chicago:20250606T143000
DTSTAMP:20260424T163136
CREATED:20250513T170658Z
LAST-MODIFIED:20250606T181059Z
UID:10000344-1749214800-1749220200@eaglepointseniorliving.com
SUMMARY:Bridge in the Art Room
DESCRIPTION:
URL:https://eaglepointseniorliving.com/event-calendar/bridge-in-the-art-room-2/
LOCATION:Art Room
CATEGORIES:Assisted Living
END:VEVENT
BEGIN:VEVENT
DTSTART;TZID=America/Chicago:20250606T130000
DTEND;TZID=America/Chicago:20250606T133000
DTSTAMP:20260424T163136
CREATED:20250513T170658Z
LAST-MODIFIED:20250606T181059Z
UID:10000345-1749214800-1749216600@eaglepointseniorliving.com
SUMMARY:Really Big Show
DESCRIPTION:
URL:https://eaglepointseniorliving.com/event-calendar/really-big-show-4/
LOCATION:Wellness Room
CATEGORIES:Assisted Living
END:VEVENT
BEGIN:VEVENT
DTSTART;TZID=America/Chicago:20250606T104500
DTEND;TZID=America/Chicago:20250606T113000
DTSTAMP:20260424T163136
CREATED:20250513T170658Z
LAST-MODIFIED:20250605T181044Z
UID:10000343-1749206700-1749209400@eaglepointseniorliving.com
SUMMARY:Friday Food Fun: Japan
DESCRIPTION:Enjoy some sweet and savory tasty snacks from Japan!
URL:https://eaglepointseniorliving.com/event-calendar/friday-food-fun-2/
LOCATION:Art Room
CATEGORIES:Assisted Living
END:VEVENT
BEGIN:VEVENT
DTSTART;TZID=America/Chicago:20250606T100000
DTEND;TZID=America/Chicago:20250606T110000
DTSTAMP:20260424T163136
CREATED:20250513T170658Z
LAST-MODIFIED:20250605T181044Z
UID:10000341-1749204000-1749207600@eaglepointseniorliving.com
SUMMARY:Dementia Support Group
DESCRIPTION:
URL:https://eaglepointseniorliving.com/event-calendar/dementia-support-group/
LOCATION:Theater
CATEGORIES:Assisted Living
END:VEVENT
BEGIN:VEVENT
DTSTART;TZID=America/Chicago:20250606T100000
DTEND;TZID=America/Chicago:20250606T103000
DTSTAMP:20260424T163136
CREATED:20250513T170658Z
LAST-MODIFIED:20250605T181044Z
UID:10000342-1749204000-1749205800@eaglepointseniorliving.com
SUMMARY:Weight Resistance Class
DESCRIPTION:A weight resistance class led by our resident Linda!
URL:https://eaglepointseniorliving.com/event-calendar/weight-resistance-class-7/
LOCATION:Wellness Room
CATEGORIES:Assisted Living
END:VEVENT
BEGIN:VEVENT
DTSTART;TZID=America/Chicago:20250606T091500
DTEND;TZID=America/Chicago:20250606T094500
DTSTAMP:20260424T163136
CREATED:20250513T170658Z
LAST-MODIFIED:20250605T181044Z
UID:10000340-1749201300-1749203100@eaglepointseniorliving.com
SUMMARY:Daily Devotions
DESCRIPTION:Chaplain Peter will lead us in morning daily devotions\, Monday-Friday
URL:https://eaglepointseniorliving.com/event-calendar/daily-devotions-19/
LOCATION:Library
CATEGORIES:Assisted Living
END:VEVENT
BEGIN:VEVENT
DTSTART;TZID=America/Chicago:20250605T180000
DTEND;TZID=America/Chicago:20250605T190000
DTSTAMP:20260424T163136
CREATED:20250515T173942Z
LAST-MODIFIED:20250605T181044Z
UID:10000401-1749146400-1749150000@eaglepointseniorliving.com
SUMMARY:Summer Concert Series: Still Cruisin'
DESCRIPTION:Everyone is welcome to join the summer fun concerts! Weather permitting\, Musicians will be playing along the riverfront just below the dining area windows. Come down to enjoy your favorite tunes.
URL:https://eaglepointseniorliving.com/event-calendar/summer-concert-series-still-cruisin/
LOCATION:Waterfront: Back of Building
CATEGORIES:Assisted Living
END:VEVENT
BEGIN:VEVENT
DTSTART;TZID=America/Chicago:20250605T180000
DTEND;TZID=America/Chicago:20250605T190000
DTSTAMP:20260424T163136
CREATED:20250513T170658Z
LAST-MODIFIED:20250514T172933Z
UID:10000339-1749146400-1749150000@eaglepointseniorliving.com
SUMMARY:Bingo
DESCRIPTION:Bingo is a fun\, low-pressure game that supports cognitive skills like memory\, attention\, and pattern recognition while encouraging social interaction and emotional well-being. Its adaptability makes it accessible for various ability levels\, offering joy\, routine\, and community.
URL:https://eaglepointseniorliving.com/event-calendar/bingo-3/
LOCATION:Art Room
CATEGORIES:Assisted Living
END:VEVENT
END:VCALENDAR