BEGIN:VCALENDAR
VERSION:2.0
PRODID:-//Eagle Point Senior Living - ECPv6.11.2.1//NONSGML v1.0//EN
CALSCALE:GREGORIAN
METHOD:PUBLISH
X-ORIGINAL-URL:https://eaglepointseniorliving.com
X-WR-CALDESC:Events for Eagle Point Senior Living
REFRESH-INTERVAL;VALUE=DURATION:PT1H
X-Robots-Tag:noindex
X-PUBLISHED-TTL:PT1H
BEGIN:VTIMEZONE
TZID:America/Chicago
BEGIN:DAYLIGHT
TZOFFSETFROM:-0600
TZOFFSETTO:-0500
TZNAME:CDT
DTSTART:20250309T080000
END:DAYLIGHT
BEGIN:STANDARD
TZOFFSETFROM:-0500
TZOFFSETTO:-0600
TZNAME:CST
DTSTART:20251102T070000
END:STANDARD
END:VTIMEZONE
BEGIN:VEVENT
DTSTART;TZID=America/Chicago:20250619T170000
DTEND;TZID=America/Chicago:20250619T190000
DTSTAMP:20260424T083548
CREATED:20250521T175519Z
LAST-MODIFIED:20250619T012441Z
UID:10000486-1750352400-1750359600@eaglepointseniorliving.com
SUMMARY:Outing to Dinner: Pullmans at Trolley Square
DESCRIPTION:Sign up required at the front desk. Max 12. Dawn will load the bus promptly at 4:45 PM and depart by 5:00 PM or earlier if everyone is ready.
URL:https://eaglepointseniorliving.com/event-calendar/outing-to-dinner-with-dawn/
LOCATION:Lobby
CATEGORIES:Assisted Living
END:VEVENT
BEGIN:VEVENT
DTSTART;TZID=America/Chicago:20250619T150000
DTEND;TZID=America/Chicago:20250619T160000
DTSTAMP:20260424T083548
CREATED:20250521T175519Z
LAST-MODIFIED:20250619T012441Z
UID:10000485-1750345200-1750348800@eaglepointseniorliving.com
SUMMARY:Sing-along
DESCRIPTION:A joyful\, interactive activity to sing familiar songs promoting social engagement\, memory recall\, and emotional well-being.
URL:https://eaglepointseniorliving.com/event-calendar/sing-along-5/
LOCATION:2nd Floor Lounge
CATEGORIES:Assisted Living
END:VEVENT
BEGIN:VEVENT
DTSTART;TZID=America/Chicago:20250619T143000
DTEND;TZID=America/Chicago:20250619T150000
DTSTAMP:20260424T083548
CREATED:20250521T175519Z
LAST-MODIFIED:20250619T012441Z
UID:10000484-1750343400-1750345200@eaglepointseniorliving.com
SUMMARY:Food Forum
DESCRIPTION:Residents are invited to share their concerns and comments for Culinary Directory Kiaya.
URL:https://eaglepointseniorliving.com/event-calendar/food-forum-2/
LOCATION:Art Room
CATEGORIES:Assisted Living
END:VEVENT
BEGIN:VEVENT
DTSTART;TZID=America/Chicago:20250619T130000
DTEND;TZID=America/Chicago:20250619T133000
DTSTAMP:20260424T083548
CREATED:20250613T183926Z
LAST-MODIFIED:20250619T012441Z
UID:10000808-1750338000-1750339800@eaglepointseniorliving.com
SUMMARY:Steps to Scoop Group Walk
DESCRIPTION:Attend the 30-minute Steps to Scoop group walks to earn a Culver’s treat. Use the punch card to log your individual walks. See Hailey or Christine for a Steps to Scoops card.
URL:https://eaglepointseniorliving.com/event-calendar/steps-to-scoop-group-walk-5/
LOCATION:Lobby
CATEGORIES:Assisted Living
END:VEVENT
BEGIN:VEVENT
DTSTART;TZID=America/Chicago:20250619T104500
DTEND;TZID=America/Chicago:20250619T113000
DTSTAMP:20260424T083548
CREATED:20250611T184007Z
LAST-MODIFIED:20250619T012441Z
UID:10000775-1750329900-1750332600@eaglepointseniorliving.com
SUMMARY:Adventure in Art: Found Poetry Pt 2
DESCRIPTION:NO EXPERIENCE NECESSARY!! An art exploration to stimulate creativity\, dexterity\, and cognitive function while providing a sense of accomplishment and social interaction. All activities can be tailored to accommodate varying levels of ability.
URL:https://eaglepointseniorliving.com/event-calendar/adventure-in-art/
LOCATION:Art Room
CATEGORIES:Assisted Living
END:VEVENT
BEGIN:VEVENT
DTSTART;TZID=America/Chicago:20250619T100000
DTEND;TZID=America/Chicago:20250619T110000
DTSTAMP:20260424T083548
CREATED:20250520T175457Z
LAST-MODIFIED:20250619T012441Z
UID:10000474-1750327200-1750330800@eaglepointseniorliving.com
SUMMARY:Catholic Mass
DESCRIPTION:Catholic Mass presided over by a priest.
URL:https://eaglepointseniorliving.com/event-calendar/catholic-mass-2/
LOCATION:Theater
CATEGORIES:Assisted Living
END:VEVENT
BEGIN:VEVENT
DTSTART;TZID=America/Chicago:20250619T091500
DTEND;TZID=America/Chicago:20250619T094500
DTSTAMP:20260424T083548
CREATED:20250520T175457Z
LAST-MODIFIED:20250619T012441Z
UID:10000473-1750324500-1750326300@eaglepointseniorliving.com
SUMMARY:Daily Devotions
DESCRIPTION:Chaplain Peter will lead us in morning daily devotions\, Monday-Friday
URL:https://eaglepointseniorliving.com/event-calendar/daily-devotions-28/
LOCATION:Library
CATEGORIES:Assisted Living
END:VEVENT
BEGIN:VEVENT
DTSTART;TZID=America/Chicago:20250618T150000
DTEND;TZID=America/Chicago:20250618T160000
DTSTAMP:20260424T083548
CREATED:20250520T175457Z
LAST-MODIFIED:20250618T012507Z
UID:10000471-1750258800-1750262400@eaglepointseniorliving.com
SUMMARY:Church Service with Chaplain Peter
DESCRIPTION:
URL:https://eaglepointseniorliving.com/event-calendar/church-service-with-chaplain-peter-7/
LOCATION:Theater
CATEGORIES:Assisted Living
END:VEVENT
BEGIN:VEVENT
DTSTART;TZID=America/Chicago:20250618T150000
DTEND;TZID=America/Chicago:20250618T160000
DTSTAMP:20260424T083548
CREATED:20250520T175457Z
LAST-MODIFIED:20250618T012507Z
UID:10000472-1750258800-1750262400@eaglepointseniorliving.com
SUMMARY:Cribbage
DESCRIPTION:
URL:https://eaglepointseniorliving.com/event-calendar/cribbage-6/
LOCATION:Art Room
CATEGORIES:Assisted Living
END:VEVENT
BEGIN:VEVENT
DTSTART;TZID=America/Chicago:20250618T140000
DTEND;TZID=America/Chicago:20250618T140000
DTSTAMP:20260424T083548
CREATED:20250617T181017Z
LAST-MODIFIED:20250618T012507Z
UID:10000833-1750255200-1750255200@eaglepointseniorliving.com
SUMMARY:Informational Meeting: Rawhide
DESCRIPTION:A quick informational meeting about the trip to Rawhide before “June in Review”! Please attend if you have any interest in touring Rawhide Youth Services facility and having lunch.
URL:https://eaglepointseniorliving.com/event-calendar/informational-meeting-rawhide/
LOCATION:Art Room
CATEGORIES:Assisted Living
END:VEVENT
BEGIN:VEVENT
DTSTART;TZID=America/Chicago:20250618T104500
DTEND;TZID=America/Chicago:20250618T120000
DTSTAMP:20260424T083548
CREATED:20250519T175448Z
LAST-MODIFIED:20250618T012507Z
UID:10000455-1750243500-1750248000@eaglepointseniorliving.com
SUMMARY:Wednesday Wandering:  J Springs Dairy Farm
DESCRIPTION:Sign up at the front desk. The farm was originally started in 1965 when John and Judy Springstroh purchased it. The farm is currently owned and operated by the same family; Judy is Sam’s grandmother\, while her daughters Tammy and Amber\, and Sam’s sister and father operate the dairy every day. Walker and Wheelchair accommodating.
URL:https://eaglepointseniorliving.com/event-calendar/wiser-on-wednesday-5/
LOCATION:Lobby
CATEGORIES:Assisted Living
END:VEVENT
BEGIN:VEVENT
DTSTART;TZID=America/Chicago:20250618T100000
DTEND;TZID=America/Chicago:20250618T103000
DTSTAMP:20260424T083548
CREATED:20250519T175448Z
LAST-MODIFIED:20250618T012507Z
UID:10000454-1750240800-1750242600@eaglepointseniorliving.com
SUMMARY:Exercise Class: Mix
DESCRIPTION:
URL:https://eaglepointseniorliving.com/event-calendar/exercise-class-mix/
LOCATION:Wellness Room
CATEGORIES:Assisted Living
END:VEVENT
BEGIN:VEVENT
DTSTART;TZID=America/Chicago:20250618T091500
DTEND;TZID=America/Chicago:20250618T094500
DTSTAMP:20260424T083548
CREATED:20250519T175448Z
LAST-MODIFIED:20250618T012507Z
UID:10000453-1750238100-1750239900@eaglepointseniorliving.com
SUMMARY:Daily Devotions
DESCRIPTION:Chaplain Peter will lead us in morning daily devotions\, Monday-Friday
URL:https://eaglepointseniorliving.com/event-calendar/daily-devotions-27/
LOCATION:Library
CATEGORIES:Assisted Living
END:VEVENT
BEGIN:VEVENT
DTSTART;TZID=America/Chicago:20250617T174500
DTEND;TZID=America/Chicago:20250617T190000
DTSTAMP:20260424T083548
CREATED:20250607T182445Z
LAST-MODIFIED:20250617T225651Z
UID:10000715-1750182300-1750186800@eaglepointseniorliving.com
SUMMARY:Pierce Park Concert
DESCRIPTION:Sign up at the front desk! Be in the lobby by 5:45 PM\, bus will load and depart at 6:00 PM or earlier if all are gathered. Concert starts at 7:00 PM
URL:https://eaglepointseniorliving.com/event-calendar/pierce-park-concert-2/
LOCATION:Lobby
CATEGORIES:Assisted Living
END:VEVENT
BEGIN:VEVENT
DTSTART;TZID=America/Chicago:20250617T154000
DTEND;TZID=America/Chicago:20250617T163000
DTSTAMP:20260424T083548
CREATED:20250613T183925Z
LAST-MODIFIED:20250617T212704Z
UID:10000806-1750174800-1750177800@eaglepointseniorliving.com
SUMMARY:How to Play Bocce Ball Tuesday Afternoon
DESCRIPTION:Bocce Ball History and Rules  Information 3:30-4:30 PM
URL:https://eaglepointseniorliving.com/event-calendar/how-to-play-bocce-ball/
LOCATION:Art Room
CATEGORIES:Assisted Living
END:VEVENT
BEGIN:VEVENT
DTSTART;TZID=America/Chicago:20250617T143000
DTEND;TZID=America/Chicago:20250617T153000
DTSTAMP:20260424T083548
CREATED:20250519T175448Z
LAST-MODIFIED:20250617T202605Z
UID:10000452-1750170600-1750174200@eaglepointseniorliving.com
SUMMARY:Jeopardy with Ginger
DESCRIPTION:
URL:https://eaglepointseniorliving.com/event-calendar/jeopardy-with-brenda-3/
LOCATION:Art Room
CATEGORIES:Assisted Living
END:VEVENT
BEGIN:VEVENT
DTSTART;TZID=America/Chicago:20250617T140000
DTEND;TZID=America/Chicago:20250617T143000
DTSTAMP:20260424T083548
CREATED:20250519T175448Z
LAST-MODIFIED:20250617T192703Z
UID:10000451-1750168800-1750170600@eaglepointseniorliving.com
SUMMARY:Smoothie Tuesdays
DESCRIPTION:Join us each Tuesday as we make fresh protein smoothies each week in the lobby at 2:00pm. Each week will be a different flavor!
URL:https://eaglepointseniorliving.com/event-calendar/smoothie-tuesdays-6/
LOCATION:Lobby
CATEGORIES:Assisted Living
END:VEVENT
BEGIN:VEVENT
DTSTART;TZID=America/Chicago:20250617T104500
DTEND;TZID=America/Chicago:20250617T111500
DTSTAMP:20260424T083548
CREATED:20250613T183925Z
LAST-MODIFIED:20250615T185430Z
UID:10000805-1750157100-1750158900@eaglepointseniorliving.com
SUMMARY:The Life Of: Johnny Cash
DESCRIPTION:Let’s explore who Johnny Cash was\, highlighting the key moments in his life and watch videos of his appearances.
URL:https://eaglepointseniorliving.com/event-calendar/the-life-of-johnny-cash/
LOCATION:Art Room
CATEGORIES:Assisted Living
END:VEVENT
BEGIN:VEVENT
DTSTART;TZID=America/Chicago:20250617T103000
DTEND;TZID=America/Chicago:20250617T113000
DTSTAMP:20260424T083548
CREATED:20250614T183944Z
LAST-MODIFIED:20250615T185429Z
UID:10000821-1750156200-1750159800@eaglepointseniorliving.com
SUMMARY:Craft: Clay Photo Holder PT 2 Paint!
DESCRIPTION:We will finish our air-dry photo holders! Bring your photo along (or recipe card) to try it out!
URL:https://eaglepointseniorliving.com/event-calendar/craft-clay-photo-holder-pt-2-paint/
LOCATION:Art Room
CATEGORIES:Assisted Living
END:VEVENT
BEGIN:VEVENT
DTSTART;TZID=America/Chicago:20250617T100000
DTEND;TZID=America/Chicago:20250617T103000
DTSTAMP:20260424T083548
CREATED:20250518T175514Z
LAST-MODIFIED:20250615T185431Z
UID:10000439-1750154400-1750156200@eaglepointseniorliving.com
SUMMARY:Steps to Scoops Walk
DESCRIPTION:Attend the 30-minute Steps to Scoop group walks to earn a Culver’s treat. Use the punch card to log your individual walks. See Hailey or Christine for a Steps to Scoops card.
URL:https://eaglepointseniorliving.com/event-calendar/exercise-fitness-mix-5/
LOCATION:Lobby
CATEGORIES:Assisted Living
END:VEVENT
BEGIN:VEVENT
DTSTART;TZID=America/Chicago:20250617T091500
DTEND;TZID=America/Chicago:20250617T094500
DTSTAMP:20260424T083548
CREATED:20250518T175514Z
LAST-MODIFIED:20250615T185431Z
UID:10000438-1750151700-1750153500@eaglepointseniorliving.com
SUMMARY:Daily Devotions
DESCRIPTION:Chaplain Peter will lead us in morning daily devotions\, Monday-Friday
URL:https://eaglepointseniorliving.com/event-calendar/daily-devotions-26/
LOCATION:Library
CATEGORIES:Assisted Living
END:VEVENT
BEGIN:VEVENT
DTSTART;TZID=America/Chicago:20250616T180000
DTEND;TZID=America/Chicago:20250616T200000
DTSTAMP:20260424T083548
CREATED:20250613T183925Z
LAST-MODIFIED:20250615T185431Z
UID:10000804-1750096800-1750104000@eaglepointseniorliving.com
SUMMARY:Monday Evening Movie-"Walk The Line"
DESCRIPTION:Walk the Line is a 2005 American biographical drama.  The film follows Cash’s early life\, his romance with the singer June Carter\, his ascent in the country music scene\, and his drug addiction. It stars Joaquin Phoenix as Cash\, Reese Witherspoon as Carter
URL:https://eaglepointseniorliving.com/event-calendar/monday-evening-movie-walk-the-line/
LOCATION:Theater
CATEGORIES:Assisted Living
END:VEVENT
BEGIN:VEVENT
DTSTART;TZID=America/Chicago:20250616T150000
DTEND;TZID=America/Chicago:20250616T160000
DTSTAMP:20260424T083548
CREATED:20250611T184006Z
LAST-MODIFIED:20250615T185431Z
UID:10000774-1750086000-1750089600@eaglepointseniorliving.com
SUMMARY:Bocce Ball
DESCRIPTION:No experience required! Meet out on the Bocce Ball court along the river/walking trail. If raining\, we will meet in the Wellness Room to play cornhole/bags.
URL:https://eaglepointseniorliving.com/event-calendar/bocce-ball/
LOCATION:Bocce Court
CATEGORIES:Assisted Living
END:VEVENT
BEGIN:VEVENT
DTSTART;TZID=America/Chicago:20250616T140000
DTEND;TZID=America/Chicago:20250616T150000
DTSTAMP:20260424T083548
CREATED:20250604T181046Z
LAST-MODIFIED:20250615T185431Z
UID:10000676-1750082400-1750086000@eaglepointseniorliving.com
SUMMARY:Monday This Month We Celebrate-You
DESCRIPTION:Join us as we talk about the building Eagle Point.
URL:https://eaglepointseniorliving.com/event-calendar/monday-this-month-we-celebrate-you/
CATEGORIES:Assisted Living
END:VEVENT
BEGIN:VEVENT
DTSTART;TZID=America/Chicago:20250616T133000
DTEND;TZID=America/Chicago:20250616T143000
DTSTAMP:20260424T083548
CREATED:20250518T175514Z
LAST-MODIFIED:20250615T185431Z
UID:10000434-1750080600-1750084200@eaglepointseniorliving.com
SUMMARY:Grocery Outing: Festival
DESCRIPTION:Sign up at the front desk. We need at least three to sign up to make the trip. Thank you!
URL:https://eaglepointseniorliving.com/event-calendar/grocery-outing-2/
LOCATION:Lobby
CATEGORIES:Assisted Living
END:VEVENT
BEGIN:VEVENT
DTSTART;TZID=America/Chicago:20250616T130000
DTEND;TZID=America/Chicago:20250616T140000
DTSTAMP:20260424T083548
CREATED:20250518T175514Z
LAST-MODIFIED:20250615T185431Z
UID:10000433-1750078800-1750082400@eaglepointseniorliving.com
SUMMARY:Knitting Interest Meeting
DESCRIPTION:Anyone with the slightest interest in knitting\, crochet\, or other fiber arts\, please join us to discuss the formation of a group to share skills and ideas.
URL:https://eaglepointseniorliving.com/event-calendar/wii-bowling-4/
LOCATION:Art Room
CATEGORIES:Assisted Living
END:VEVENT
BEGIN:VEVENT
DTSTART;TZID=America/Chicago:20250616T104500
DTEND;TZID=America/Chicago:20250616T111500
DTSTAMP:20260424T083548
CREATED:20250613T183925Z
LAST-MODIFIED:20250615T185431Z
UID:10000803-1750070700-1750072500@eaglepointseniorliving.com
SUMMARY:The Life Of: June Carter Cash
DESCRIPTION:Let’s explore who June Carter Cash was\, highlighting the key moments in her life and watch videos of her performing.
URL:https://eaglepointseniorliving.com/event-calendar/the-life-of-june-carter-cash/
LOCATION:Art Room
CATEGORIES:Assisted Living
END:VEVENT
BEGIN:VEVENT
DTSTART;TZID=America/Chicago:20250616T100000
DTEND;TZID=America/Chicago:20250616T103000
DTSTAMP:20260424T083548
CREATED:20250517T175430Z
LAST-MODIFIED:20250615T185431Z
UID:10000427-1750068000-1750069800@eaglepointseniorliving.com
SUMMARY:Weight Resistance Class
DESCRIPTION:A weight resistance class led by our resident Linda!
URL:https://eaglepointseniorliving.com/event-calendar/weight-resistance-class-10/
LOCATION:Wellness Room
CATEGORIES:Assisted Living
END:VEVENT
BEGIN:VEVENT
DTSTART;TZID=America/Chicago:20250616T091500
DTEND;TZID=America/Chicago:20250616T094500
DTSTAMP:20260424T083548
CREATED:20250517T175430Z
LAST-MODIFIED:20250615T185431Z
UID:10000426-1750065300-1750067100@eaglepointseniorliving.com
SUMMARY:Daily Devotions
DESCRIPTION:Chaplain Peter will lead us in morning daily devotions\, Monday-Friday
URL:https://eaglepointseniorliving.com/event-calendar/daily-devotions-25/
LOCATION:Library
CATEGORIES:Assisted Living
END:VEVENT
BEGIN:VEVENT
DTSTART;TZID=America/Chicago:20250615T091500
DTEND;TZID=America/Chicago:20250615T121500
DTSTAMP:20260424T083548
CREATED:20250516T173944Z
LAST-MODIFIED:20250614T183946Z
UID:10000420-1749978900-1749989700@eaglepointseniorliving.com
SUMMARY:Immanuel Lutheran Church- Live Stream
DESCRIPTION:On line viewing of Immanuel Ev. Lutheran Church\, Greenville\, WI.\nAll denominations are invited to attend
URL:https://eaglepointseniorliving.com/event-calendar/immanuel-lutheran-church-live-stream-5/
LOCATION:Theater
CATEGORIES:Assisted Living
END:VEVENT
END:VCALENDAR