BEGIN:VCALENDAR
VERSION:2.0
PRODID:-//Eagle Point Senior Living - ECPv6.11.2.1//NONSGML v1.0//EN
CALSCALE:GREGORIAN
METHOD:PUBLISH
X-WR-CALNAME:Eagle Point Senior Living
X-ORIGINAL-URL:https://eaglepointseniorliving.com
X-WR-CALDESC:Events for Eagle Point Senior Living
REFRESH-INTERVAL;VALUE=DURATION:PT1H
X-Robots-Tag:noindex
X-PUBLISHED-TTL:PT1H
BEGIN:VTIMEZONE
TZID:America/Chicago
BEGIN:DAYLIGHT
TZOFFSETFROM:-0600
TZOFFSETTO:-0500
TZNAME:CDT
DTSTART:20250309T080000
END:DAYLIGHT
BEGIN:STANDARD
TZOFFSETFROM:-0500
TZOFFSETTO:-0600
TZNAME:CST
DTSTART:20251102T070000
END:STANDARD
END:VTIMEZONE
BEGIN:VEVENT
DTSTART;TZID=America/Chicago:20250624T091500
DTEND;TZID=America/Chicago:20250624T094500
DTSTAMP:20260424T052142
CREATED:20250525T181042Z
LAST-MODIFIED:20250624T013943Z
UID:10000543-1750756500-1750758300@eaglepointseniorliving.com
SUMMARY:Daily Devotions
DESCRIPTION:Chaplain Peter will lead us in morning daily devotions\, Monday-Friday
URL:https://eaglepointseniorliving.com/event-calendar/daily-devotions-31/
LOCATION:Library
CATEGORIES:Assisted Living
END:VEVENT
BEGIN:VEVENT
DTSTART;TZID=America/Chicago:20250623T180000
DTEND;TZID=America/Chicago:20250623T200000
DTSTAMP:20260424T052142
CREATED:20250617T195632Z
LAST-MODIFIED:20250623T013930Z
UID:10000884-1750701600-1750708800@eaglepointseniorliving.com
SUMMARY:Monday Evening Movie-"The Blue Butterfly"
DESCRIPTION:DVD 2004 Canadian biographical adventure  A boy terminally ill with cancer\, whose final wish is to find the elusive blue morpho butterfly. William Hurt plays entomologist Alan Osborne\, who takes him to the jungles of Costa Rica to find the insect. 1 Hr 36 Mins
URL:https://eaglepointseniorliving.com/event-calendar/monday-evening-movie/
LOCATION:Theater
CATEGORIES:Assisted Living
END:VEVENT
BEGIN:VEVENT
DTSTART;TZID=America/Chicago:20250623T150000
DTEND;TZID=America/Chicago:20250623T160000
DTSTAMP:20260424T052142
CREATED:20250612T183928Z
LAST-MODIFIED:20250623T013930Z
UID:10000790-1750690800-1750694400@eaglepointseniorliving.com
SUMMARY:Game Time with Hailey
DESCRIPTION:Join Hailey in the Theater for a choice of your favorites: Apples to Apples or Family Feud!
URL:https://eaglepointseniorliving.com/event-calendar/game-time-with-hailey/
LOCATION:Art Room
CATEGORIES:Assisted Living
END:VEVENT
BEGIN:VEVENT
DTSTART;TZID=America/Chicago:20250623T140000
DTEND;TZID=America/Chicago:20250623T150000
DTSTAMP:20260424T052142
CREATED:20250525T181042Z
LAST-MODIFIED:20250623T013930Z
UID:10000541-1750687200-1750690800@eaglepointseniorliving.com
SUMMARY:Book Club Discussion-"The Daughter's of Yalta"
DESCRIPTION:
URL:https://eaglepointseniorliving.com/event-calendar/book-club-discussion/
LOCATION:Art Room
CATEGORIES:Assisted Living
END:VEVENT
BEGIN:VEVENT
DTSTART;TZID=America/Chicago:20250623T130000
DTEND;TZID=America/Chicago:20250623T140000
DTSTAMP:20260424T052142
CREATED:20250617T181018Z
LAST-MODIFIED:20250623T013930Z
UID:10000834-1750683600-1750687200@eaglepointseniorliving.com
SUMMARY:Knit Pickers Group-1st Floor Alcove
DESCRIPTION:All levels and abilities are invited to attend\, whether you want to work on your own project\, or work on one of the group projects! Knitting\, crochet\, or any type of fiber art included. Location: First floor alcove.
URL:https://eaglepointseniorliving.com/event-calendar/knit-pickers-group-1st-floor-alcove/
LOCATION:Alcove
CATEGORIES:Assisted Living
END:VEVENT
BEGIN:VEVENT
DTSTART;TZID=America/Chicago:20250623T130000
DTEND;TZID=America/Chicago:20250623T140000
DTSTAMP:20260424T052142
CREATED:20250524T180954Z
LAST-MODIFIED:20250623T013930Z
UID:10000522-1750683600-1750687200@eaglepointseniorliving.com
SUMMARY:Bocce Ball
DESCRIPTION:No experience required! Meet out on the Bocce Ball court along the river/walking trail. If raining\, we will meet in the Wellness Room to play cornhole/bags.
URL:https://eaglepointseniorliving.com/event-calendar/wii-bowling-5/
LOCATION:Bocce Court
CATEGORIES:Assisted Living
END:VEVENT
BEGIN:VEVENT
DTSTART;TZID=America/Chicago:20250623T104500
DTEND;TZID=America/Chicago:20250623T111500
DTSTAMP:20260424T052142
CREATED:20250621T012503Z
LAST-MODIFIED:20250623T013930Z
UID:10000926-1750675500-1750677300@eaglepointseniorliving.com
SUMMARY:Hailey's Favorites
DESCRIPTION:Come learn more about Hailey while she shares her favorite things!
URL:https://eaglepointseniorliving.com/event-calendar/haileys-favorites/
LOCATION:Art Room
CATEGORIES:Assisted Living
END:VEVENT
BEGIN:VEVENT
DTSTART;TZID=America/Chicago:20250623T100000
DTEND;TZID=America/Chicago:20250623T103000
DTSTAMP:20260424T052142
CREATED:20250524T180953Z
LAST-MODIFIED:20250623T013930Z
UID:10000521-1750672800-1750674600@eaglepointseniorliving.com
SUMMARY:Weight Resistance Class
DESCRIPTION:A weight resistance class led by our resident Linda!
URL:https://eaglepointseniorliving.com/event-calendar/weight-resistance-class-12/
LOCATION:Wellness Room
CATEGORIES:Assisted Living
END:VEVENT
BEGIN:VEVENT
DTSTART;TZID=America/Chicago:20250623T091500
DTEND;TZID=America/Chicago:20250623T094500
DTSTAMP:20260424T052142
CREATED:20250524T180953Z
LAST-MODIFIED:20250623T013930Z
UID:10000520-1750670100-1750671900@eaglepointseniorliving.com
SUMMARY:Daily Devotions
DESCRIPTION:Chaplain Peter will lead us in morning daily devotions\, Monday-Friday
URL:https://eaglepointseniorliving.com/event-calendar/daily-devotions-30/
LOCATION:Library
CATEGORIES:Assisted Living
END:VEVENT
BEGIN:VEVENT
DTSTART;TZID=America/Chicago:20250622T091500
DTEND;TZID=America/Chicago:20250622T121500
DTSTAMP:20260424T052142
CREATED:20250523T181005Z
LAST-MODIFIED:20250622T013952Z
UID:10000511-1750583700-1750594500@eaglepointseniorliving.com
SUMMARY:Immanuel Lutheran Church- Live Stream
DESCRIPTION:On line viewing of Immanuel Ev. Lutheran Church\, Greenville\, WI.\nAll denominations are invited to attend
URL:https://eaglepointseniorliving.com/event-calendar/immanuel-lutheran-church-live-stream-6/
LOCATION:Theater
CATEGORIES:Assisted Living
END:VEVENT
BEGIN:VEVENT
DTSTART;TZID=America/Chicago:20250621T150000
DTEND;TZID=America/Chicago:20250621T160000
DTSTAMP:20260424T052142
CREATED:20250523T181005Z
LAST-MODIFIED:20250621T012505Z
UID:10000510-1750518000-1750521600@eaglepointseniorliving.com
SUMMARY:Resident Sheepshead
DESCRIPTION:
URL:https://eaglepointseniorliving.com/event-calendar/resident-sheepshead-6/
LOCATION:Game Room
CATEGORIES:Assisted Living
END:VEVENT
BEGIN:VEVENT
DTSTART;TZID=America/Chicago:20250621T130000
DTEND;TZID=America/Chicago:20250621T150000
DTSTAMP:20260424T052142
CREATED:20250522T180935Z
LAST-MODIFIED:20250621T012505Z
UID:10000500-1750510800-1750518000@eaglepointseniorliving.com
SUMMARY:Saturday Afternoon Movie-"Dirty Dancing"
DESCRIPTION:DVD
URL:https://eaglepointseniorliving.com/event-calendar/saturday-afternoon-movie-5/
LOCATION:Theater
CATEGORIES:Assisted Living
END:VEVENT
BEGIN:VEVENT
DTSTART;TZID=America/Chicago:20250621T093000
DTEND;TZID=America/Chicago:20250621T103000
DTSTAMP:20260424T052142
CREATED:20250522T180935Z
LAST-MODIFIED:20250621T012505Z
UID:10000499-1750498200-1750501800@eaglepointseniorliving.com
SUMMARY:Saturday Morning Chat and Coffee
DESCRIPTION:
URL:https://eaglepointseniorliving.com/event-calendar/saturday-morning-chat-and-coffee-6/
LOCATION:Lobby
CATEGORIES:Assisted Living
END:VEVENT
BEGIN:VEVENT
DTSTART;TZID=America/Chicago:20250620T150000
DTEND;TZID=America/Chicago:20250620T160000
DTSTAMP:20260424T052142
CREATED:20250522T180935Z
LAST-MODIFIED:20250620T012516Z
UID:10000497-1750431600-1750435200@eaglepointseniorliving.com
SUMMARY:Happy Hour
DESCRIPTION:An opportunity for socialization with other community members.
URL:https://eaglepointseniorliving.com/event-calendar/happy-hour-2/
LOCATION:Lobby
CATEGORIES:Assisted Living
END:VEVENT
BEGIN:VEVENT
DTSTART;TZID=America/Chicago:20250620T130000
DTEND;TZID=America/Chicago:20250620T143000
DTSTAMP:20260424T052142
CREATED:20250522T180935Z
LAST-MODIFIED:20250620T012516Z
UID:10000496-1750424400-1750429800@eaglepointseniorliving.com
SUMMARY:Bridge in the Art Room
DESCRIPTION:For more information to join a table of 4 or to be a sub\, please contact Barb Lenz.
URL:https://eaglepointseniorliving.com/event-calendar/bridge-in-the-art-room-3/
LOCATION:Art Room
CATEGORIES:Assisted Living
END:VEVENT
BEGIN:VEVENT
DTSTART;TZID=America/Chicago:20250620T104500
DTEND;TZID=America/Chicago:20250620T113000
DTSTAMP:20260424T052142
CREATED:20250613T183926Z
LAST-MODIFIED:20250620T012516Z
UID:10000809-1750416300-1750419000@eaglepointseniorliving.com
SUMMARY:Friday Food Fun-June
DESCRIPTION:A Toast to TV Dad’s -Remember some famous dads and their\nbeverages of choice\, and then have fun with some related trivia and quiz questions\nJune Food Days
URL:https://eaglepointseniorliving.com/event-calendar/friday-food-fun-favorite-food-survey/
LOCATION:Art Room
CATEGORIES:Assisted Living
END:VEVENT
BEGIN:VEVENT
DTSTART;TZID=America/Chicago:20250620T103000
DTEND;TZID=America/Chicago:20250620T113000
DTSTAMP:20260424T052142
CREATED:20250522T180935Z
LAST-MODIFIED:20250620T012516Z
UID:10000498-1750415400-1750419000@eaglepointseniorliving.com
SUMMARY:Parkinson's Support Group
DESCRIPTION:The Parkinson’s support group provides emotional support and shared experiences\, helping individuals feel less isolated in their journey.
URL:https://eaglepointseniorliving.com/event-calendar/parkinsons-support-group/
LOCATION:Theater
CATEGORIES:Assisted Living
END:VEVENT
BEGIN:VEVENT
DTSTART;TZID=America/Chicago:20250620T100000
DTEND;TZID=America/Chicago:20250620T103000
DTSTAMP:20260424T052142
CREATED:20250521T175519Z
LAST-MODIFIED:20250620T012516Z
UID:10000488-1750413600-1750415400@eaglepointseniorliving.com
SUMMARY:Weight Resistance Class
DESCRIPTION:A weight resistance class led by our resident Linda!
URL:https://eaglepointseniorliving.com/event-calendar/weight-resistance-class-11/
LOCATION:Wellness Room
CATEGORIES:Assisted Living
END:VEVENT
BEGIN:VEVENT
DTSTART;TZID=America/Chicago:20250620T091500
DTEND;TZID=America/Chicago:20250620T094500
DTSTAMP:20260424T052142
CREATED:20250521T175519Z
LAST-MODIFIED:20250620T012516Z
UID:10000487-1750410900-1750412700@eaglepointseniorliving.com
SUMMARY:Daily Devotions
DESCRIPTION:Chaplain Peter will lead us in morning daily devotions\, Monday-Friday
URL:https://eaglepointseniorliving.com/event-calendar/daily-devotions-29/
LOCATION:Library
CATEGORIES:Assisted Living
END:VEVENT
BEGIN:VEVENT
DTSTART;TZID=America/Chicago:20250619T180000
DTEND;TZID=America/Chicago:20250619T190000
DTSTAMP:20260424T052142
CREATED:20250610T183925Z
LAST-MODIFIED:20250619T012441Z
UID:10000759-1750356000-1750359600@eaglepointseniorliving.com
SUMMARY:Sunshine Singers S'mores & Song
DESCRIPTION:The sunshine singers will bring us fun campfire songs and s’mores! Join us outside at the firepit for some treats and good songs!
URL:https://eaglepointseniorliving.com/event-calendar/sunshine-singers-smores-song/
LOCATION:Firepit Area
CATEGORIES:Assisted Living
END:VEVENT
BEGIN:VEVENT
DTSTART;TZID=America/Chicago:20250619T170000
DTEND;TZID=America/Chicago:20250619T190000
DTSTAMP:20260424T052142
CREATED:20250521T175519Z
LAST-MODIFIED:20250619T012441Z
UID:10000486-1750352400-1750359600@eaglepointseniorliving.com
SUMMARY:Outing to Dinner: Pullmans at Trolley Square
DESCRIPTION:Sign up required at the front desk. Max 12. Dawn will load the bus promptly at 4:45 PM and depart by 5:00 PM or earlier if everyone is ready.
URL:https://eaglepointseniorliving.com/event-calendar/outing-to-dinner-with-dawn/
LOCATION:Lobby
CATEGORIES:Assisted Living
END:VEVENT
BEGIN:VEVENT
DTSTART;TZID=America/Chicago:20250619T150000
DTEND;TZID=America/Chicago:20250619T160000
DTSTAMP:20260424T052142
CREATED:20250521T175519Z
LAST-MODIFIED:20250619T012441Z
UID:10000485-1750345200-1750348800@eaglepointseniorliving.com
SUMMARY:Sing-along
DESCRIPTION:A joyful\, interactive activity to sing familiar songs promoting social engagement\, memory recall\, and emotional well-being.
URL:https://eaglepointseniorliving.com/event-calendar/sing-along-5/
LOCATION:2nd Floor Lounge
CATEGORIES:Assisted Living
END:VEVENT
BEGIN:VEVENT
DTSTART;TZID=America/Chicago:20250619T143000
DTEND;TZID=America/Chicago:20250619T150000
DTSTAMP:20260424T052142
CREATED:20250521T175519Z
LAST-MODIFIED:20250619T012441Z
UID:10000484-1750343400-1750345200@eaglepointseniorliving.com
SUMMARY:Food Forum
DESCRIPTION:Residents are invited to share their concerns and comments for Culinary Directory Kiaya.
URL:https://eaglepointseniorliving.com/event-calendar/food-forum-2/
LOCATION:Art Room
CATEGORIES:Assisted Living
END:VEVENT
BEGIN:VEVENT
DTSTART;TZID=America/Chicago:20250619T130000
DTEND;TZID=America/Chicago:20250619T133000
DTSTAMP:20260424T052142
CREATED:20250613T183926Z
LAST-MODIFIED:20250619T012441Z
UID:10000808-1750338000-1750339800@eaglepointseniorliving.com
SUMMARY:Steps to Scoop Group Walk
DESCRIPTION:Attend the 30-minute Steps to Scoop group walks to earn a Culver’s treat. Use the punch card to log your individual walks. See Hailey or Christine for a Steps to Scoops card.
URL:https://eaglepointseniorliving.com/event-calendar/steps-to-scoop-group-walk-5/
LOCATION:Lobby
CATEGORIES:Assisted Living
END:VEVENT
BEGIN:VEVENT
DTSTART;TZID=America/Chicago:20250619T104500
DTEND;TZID=America/Chicago:20250619T113000
DTSTAMP:20260424T052142
CREATED:20250611T184007Z
LAST-MODIFIED:20250619T012441Z
UID:10000775-1750329900-1750332600@eaglepointseniorliving.com
SUMMARY:Adventure in Art: Found Poetry Pt 2
DESCRIPTION:NO EXPERIENCE NECESSARY!! An art exploration to stimulate creativity\, dexterity\, and cognitive function while providing a sense of accomplishment and social interaction. All activities can be tailored to accommodate varying levels of ability.
URL:https://eaglepointseniorliving.com/event-calendar/adventure-in-art/
LOCATION:Art Room
CATEGORIES:Assisted Living
END:VEVENT
BEGIN:VEVENT
DTSTART;TZID=America/Chicago:20250619T100000
DTEND;TZID=America/Chicago:20250619T110000
DTSTAMP:20260424T052142
CREATED:20250520T175457Z
LAST-MODIFIED:20250619T012441Z
UID:10000474-1750327200-1750330800@eaglepointseniorliving.com
SUMMARY:Catholic Mass
DESCRIPTION:Catholic Mass presided over by a priest.
URL:https://eaglepointseniorliving.com/event-calendar/catholic-mass-2/
LOCATION:Theater
CATEGORIES:Assisted Living
END:VEVENT
BEGIN:VEVENT
DTSTART;TZID=America/Chicago:20250619T091500
DTEND;TZID=America/Chicago:20250619T094500
DTSTAMP:20260424T052142
CREATED:20250520T175457Z
LAST-MODIFIED:20250619T012441Z
UID:10000473-1750324500-1750326300@eaglepointseniorliving.com
SUMMARY:Daily Devotions
DESCRIPTION:Chaplain Peter will lead us in morning daily devotions\, Monday-Friday
URL:https://eaglepointseniorliving.com/event-calendar/daily-devotions-28/
LOCATION:Library
CATEGORIES:Assisted Living
END:VEVENT
BEGIN:VEVENT
DTSTART;TZID=America/Chicago:20250618T150000
DTEND;TZID=America/Chicago:20250618T160000
DTSTAMP:20260424T052142
CREATED:20250520T175457Z
LAST-MODIFIED:20250618T012507Z
UID:10000471-1750258800-1750262400@eaglepointseniorliving.com
SUMMARY:Church Service with Chaplain Peter
DESCRIPTION:
URL:https://eaglepointseniorliving.com/event-calendar/church-service-with-chaplain-peter-7/
LOCATION:Theater
CATEGORIES:Assisted Living
END:VEVENT
BEGIN:VEVENT
DTSTART;TZID=America/Chicago:20250618T150000
DTEND;TZID=America/Chicago:20250618T160000
DTSTAMP:20260424T052142
CREATED:20250520T175457Z
LAST-MODIFIED:20250618T012507Z
UID:10000472-1750258800-1750262400@eaglepointseniorliving.com
SUMMARY:Cribbage
DESCRIPTION:
URL:https://eaglepointseniorliving.com/event-calendar/cribbage-6/
LOCATION:Art Room
CATEGORIES:Assisted Living
END:VEVENT
BEGIN:VEVENT
DTSTART;TZID=America/Chicago:20250618T140000
DTEND;TZID=America/Chicago:20250618T140000
DTSTAMP:20260424T052142
CREATED:20250617T181017Z
LAST-MODIFIED:20250618T012507Z
UID:10000833-1750255200-1750255200@eaglepointseniorliving.com
SUMMARY:Informational Meeting: Rawhide
DESCRIPTION:A quick informational meeting about the trip to Rawhide before “June in Review”! Please attend if you have any interest in touring Rawhide Youth Services facility and having lunch.
URL:https://eaglepointseniorliving.com/event-calendar/informational-meeting-rawhide/
LOCATION:Art Room
CATEGORIES:Assisted Living
END:VEVENT
END:VCALENDAR