BEGIN:VCALENDAR
VERSION:2.0
PRODID:-//Eagle Point Senior Living - ECPv6.11.2.1//NONSGML v1.0//EN
CALSCALE:GREGORIAN
METHOD:PUBLISH
X-ORIGINAL-URL:https://eaglepointseniorliving.com
X-WR-CALDESC:Events for Eagle Point Senior Living
REFRESH-INTERVAL;VALUE=DURATION:PT1H
X-Robots-Tag:noindex
X-PUBLISHED-TTL:PT1H
BEGIN:VTIMEZONE
TZID:America/Chicago
BEGIN:DAYLIGHT
TZOFFSETFROM:-0600
TZOFFSETTO:-0500
TZNAME:CDT
DTSTART:20250309T080000
END:DAYLIGHT
BEGIN:STANDARD
TZOFFSETFROM:-0500
TZOFFSETTO:-0600
TZNAME:CST
DTSTART:20251102T070000
END:STANDARD
END:VTIMEZONE
BEGIN:VEVENT
DTSTART;TZID=America/Chicago:20250630T091500
DTEND;TZID=America/Chicago:20250630T094500
DTSTAMP:20260424T002533
CREATED:20250531T180927Z
LAST-MODIFIED:20250630T022445Z
UID:10000625-1751274900-1751276700@eaglepointseniorliving.com
SUMMARY:Daily Devotions
DESCRIPTION:Chaplain Peter will lead us in morning daily devotions\, Monday-Friday
URL:https://eaglepointseniorliving.com/event-calendar/daily-devotions-35/
LOCATION:Library
CATEGORIES:Assisted Living
END:VEVENT
BEGIN:VEVENT
DTSTART;TZID=America/Chicago:20250629T091500
DTEND;TZID=America/Chicago:20250629T121500
DTSTAMP:20260424T002533
CREATED:20250530T180928Z
LAST-MODIFIED:20250629T022424Z
UID:10000616-1751188500-1751199300@eaglepointseniorliving.com
SUMMARY:Immanuel Lutheran Church- Live Stream
DESCRIPTION:On line viewing of Immanuel Ev. Lutheran Church\, Greenville\, WI.\nAll denominations are invited to attend
URL:https://eaglepointseniorliving.com/event-calendar/immanuel-lutheran-church-live-stream-7/
LOCATION:Theater
CATEGORIES:Assisted Living
END:VEVENT
BEGIN:VEVENT
DTSTART;TZID=America/Chicago:20250628T150000
DTEND;TZID=America/Chicago:20250628T160000
DTSTAMP:20260424T002533
CREATED:20250530T180928Z
LAST-MODIFIED:20250628T022446Z
UID:10000615-1751122800-1751126400@eaglepointseniorliving.com
SUMMARY:Resident Sheepshead
DESCRIPTION:
URL:https://eaglepointseniorliving.com/event-calendar/resident-sheepshead-7/
LOCATION:Game Room
CATEGORIES:Assisted Living
END:VEVENT
BEGIN:VEVENT
DTSTART;TZID=America/Chicago:20250628T130000
DTEND;TZID=America/Chicago:20250628T150000
DTSTAMP:20260424T002533
CREATED:20250529T180929Z
LAST-MODIFIED:20250628T022446Z
UID:10000602-1751115600-1751122800@eaglepointseniorliving.com
SUMMARY:Saturday Afternoon Movie-"Turner and Hooch"
DESCRIPTION:Saturday afternoon Comedy (DVD)\n1989 American buddy cop comedy film starring Tom Hanks and Beasley the Dog
URL:https://eaglepointseniorliving.com/event-calendar/saturday-afternoon-movie-6/
LOCATION:Theater
CATEGORIES:Assisted Living
END:VEVENT
BEGIN:VEVENT
DTSTART;TZID=America/Chicago:20250628T093000
DTEND;TZID=America/Chicago:20250628T103000
DTSTAMP:20260424T002533
CREATED:20250529T180929Z
LAST-MODIFIED:20250628T022446Z
UID:10000601-1751103000-1751106600@eaglepointseniorliving.com
SUMMARY:Saturday Morning Chat and Coffee
DESCRIPTION:
URL:https://eaglepointseniorliving.com/event-calendar/saturday-morning-chat-and-coffee-7/
LOCATION:Lobby
CATEGORIES:Assisted Living
END:VEVENT
BEGIN:VEVENT
DTSTART;TZID=America/Chicago:20250627T150000
DTEND;TZID=America/Chicago:20250627T160000
DTSTAMP:20260424T002533
CREATED:20250529T180929Z
LAST-MODIFIED:20250627T022539Z
UID:10000600-1751036400-1751040000@eaglepointseniorliving.com
SUMMARY:Music with Rob Molkness
DESCRIPTION:
URL:https://eaglepointseniorliving.com/event-calendar/music-with-rob-molkness/
LOCATION:Lobby
CATEGORIES:Assisted Living
END:VEVENT
BEGIN:VEVENT
DTSTART;TZID=America/Chicago:20250627T140000
DTEND;TZID=America/Chicago:20250627T150000
DTSTAMP:20260424T002533
CREATED:20250529T180929Z
LAST-MODIFIED:20250627T022539Z
UID:10000599-1751032800-1751036400@eaglepointseniorliving.com
SUMMARY:Living with Grief and Loss
DESCRIPTION:A semi-structured conversation about grief and loss\, led by Chaplain Peter.  Every month there will be topics for discussion or a short presentation\, as well as time for open discussion.
URL:https://eaglepointseniorliving.com/event-calendar/living-with-grief-and-loss/
LOCATION:Theater
CATEGORIES:Assisted Living
END:VEVENT
BEGIN:VEVENT
DTSTART;TZID=America/Chicago:20250627T130000
DTEND;TZID=America/Chicago:20250627T140000
DTSTAMP:20260424T002533
CREATED:20250613T183927Z
LAST-MODIFIED:20250627T022539Z
UID:10000812-1751029200-1751032800@eaglepointseniorliving.com
SUMMARY:Armchair Travel: New Zealand
DESCRIPTION:Learn about the North Island of New Zealand.
URL:https://eaglepointseniorliving.com/event-calendar/christine-program/
LOCATION:Theater
CATEGORIES:Assisted Living
END:VEVENT
BEGIN:VEVENT
DTSTART;TZID=America/Chicago:20250627T104500
DTEND;TZID=America/Chicago:20250627T114500
DTSTAMP:20260424T002533
CREATED:20250612T183929Z
LAST-MODIFIED:20250627T022539Z
UID:10000791-1751021100-1751024700@eaglepointseniorliving.com
SUMMARY:Trip to Appleton Public Library (Sign up at Front Desk)
DESCRIPTION:Join Brenda on Book Club Book returns to library for residents to spend time on own exploring the Appleton Public Library
URL:https://eaglepointseniorliving.com/event-calendar/trip-to-appleton-public-library-sign-up-at-front-desk-4/
LOCATION:Lobby
CATEGORIES:Assisted Living
END:VEVENT
BEGIN:VEVENT
DTSTART;TZID=America/Chicago:20250627T100000
DTEND;TZID=America/Chicago:20250627T103000
DTSTAMP:20260424T002533
CREATED:20250528T180950Z
LAST-MODIFIED:20250627T022539Z
UID:10000590-1751018400-1751020200@eaglepointseniorliving.com
SUMMARY:Weight Resistance Class
DESCRIPTION:A weight resistance class led by our resident Linda!
URL:https://eaglepointseniorliving.com/event-calendar/weight-resistance-class-13/
LOCATION:Wellness Room
CATEGORIES:Assisted Living
END:VEVENT
BEGIN:VEVENT
DTSTART;TZID=America/Chicago:20250627T091500
DTEND;TZID=America/Chicago:20250627T094500
DTSTAMP:20260424T002533
CREATED:20250528T180950Z
LAST-MODIFIED:20250627T022539Z
UID:10000589-1751015700-1751017500@eaglepointseniorliving.com
SUMMARY:Daily Devotions
DESCRIPTION:Chaplain Peter will lead us in morning daily devotions\, Monday-Friday
URL:https://eaglepointseniorliving.com/event-calendar/daily-devotions-34/
LOCATION:Library
CATEGORIES:Assisted Living
END:VEVENT
BEGIN:VEVENT
DTSTART;TZID=America/Chicago:20250626T180000
DTEND;TZID=America/Chicago:20250626T190000
DTSTAMP:20260424T002533
CREATED:20250528T180950Z
LAST-MODIFIED:20250626T015517Z
UID:10000588-1750960800-1750964400@eaglepointseniorliving.com
SUMMARY:Bingo
DESCRIPTION:Bingo is a fun\, low-pressure game that supports cognitive skills like memory\, attention\, and pattern recognition while encouraging social interaction and emotional well-being. Its adaptability makes it accessible for various ability levels\, offering joy\, routine\, and community.
URL:https://eaglepointseniorliving.com/event-calendar/bingo-5/
LOCATION:Art Room
CATEGORIES:Assisted Living
END:VEVENT
BEGIN:VEVENT
DTSTART;TZID=America/Chicago:20250626T150000
DTEND;TZID=America/Chicago:20250626T160000
DTSTAMP:20260424T002533
CREATED:20250528T180950Z
LAST-MODIFIED:20250626T015517Z
UID:10000587-1750950000-1750953600@eaglepointseniorliving.com
SUMMARY:Sing-along
DESCRIPTION:A joyful\, interactive activity to sing familiar songs promoting social engagement\, memory recall\, and emotional well-being.
URL:https://eaglepointseniorliving.com/event-calendar/sing-along-6/
LOCATION:2nd Floor Lounge
CATEGORIES:Assisted Living
END:VEVENT
BEGIN:VEVENT
DTSTART;TZID=America/Chicago:20250626T130000
DTEND;TZID=America/Chicago:20250626T133000
DTSTAMP:20260424T002533
CREATED:20250613T183927Z
LAST-MODIFIED:20250626T015517Z
UID:10000811-1750942800-1750944600@eaglepointseniorliving.com
SUMMARY:Steps to Scoop Group Walk
DESCRIPTION:Attend the 30-minute Steps to Scoop group walks to earn a Culver’s treat. Use the punch card to log your individual walks. See Hailey or Christine for a Steps to Scoops card.
URL:https://eaglepointseniorliving.com/event-calendar/steps-to-scoop-group-walk-6/
LOCATION:Lobby
CATEGORIES:Assisted Living
END:VEVENT
BEGIN:VEVENT
DTSTART;TZID=America/Chicago:20250626T104500
DTEND;TZID=America/Chicago:20250626T113000
DTSTAMP:20260424T002533
CREATED:20250617T202607Z
LAST-MODIFIED:20250626T015517Z
UID:10000889-1750934700-1750937400@eaglepointseniorliving.com
SUMMARY:Craft: 4th of July Polymer Jewelry
DESCRIPTION:All abilities welcome!! Crafts stimulate creativity\, dexterity\, and cognitive function while providing a sense of accomplishment and social interaction. Each craft can be tailored to accommodate varying levels of ability.
URL:https://eaglepointseniorliving.com/event-calendar/craft-8/
LOCATION:Art Room
CATEGORIES:Assisted Living
END:VEVENT
BEGIN:VEVENT
DTSTART;TZID=America/Chicago:20250626T100000
DTEND;TZID=America/Chicago:20250626T110000
DTSTAMP:20260424T002533
CREATED:20250527T180932Z
LAST-MODIFIED:20250626T015517Z
UID:10000574-1750932000-1750935600@eaglepointseniorliving.com
SUMMARY:Catholic Communion
DESCRIPTION:Corporate communion presided over by a deacon or layperson with hymns and rosary.
URL:https://eaglepointseniorliving.com/event-calendar/catholic-communion-5/
LOCATION:TH
CATEGORIES:Assisted Living
END:VEVENT
BEGIN:VEVENT
DTSTART;TZID=America/Chicago:20250626T091500
DTEND;TZID=America/Chicago:20250626T094500
DTSTAMP:20260424T002533
CREATED:20250527T180932Z
LAST-MODIFIED:20250626T015517Z
UID:10000573-1750929300-1750931100@eaglepointseniorliving.com
SUMMARY:Daily Devotions
DESCRIPTION:Chaplain Peter will lead us in morning daily devotions\, Monday-Friday
URL:https://eaglepointseniorliving.com/event-calendar/daily-devotions-33/
LOCATION:Library
CATEGORIES:Assisted Living
END:VEVENT
BEGIN:VEVENT
DTSTART;TZID=America/Chicago:20250625T150000
DTEND;TZID=America/Chicago:20250625T160000
DTSTAMP:20260424T002533
CREATED:20250527T180932Z
LAST-MODIFIED:20250625T015424Z
UID:10000572-1750863600-1750867200@eaglepointseniorliving.com
SUMMARY:Cribbage
DESCRIPTION:
URL:https://eaglepointseniorliving.com/event-calendar/cribbage-7/
LOCATION:Art Room
CATEGORIES:Assisted Living
END:VEVENT
BEGIN:VEVENT
DTSTART;TZID=America/Chicago:20250625T150000
DTEND;TZID=America/Chicago:20250625T160000
DTSTAMP:20260424T002533
CREATED:20250527T180932Z
LAST-MODIFIED:20250625T015424Z
UID:10000571-1750863600-1750867200@eaglepointseniorliving.com
SUMMARY:Church Service with Chaplain Peter
DESCRIPTION:
URL:https://eaglepointseniorliving.com/event-calendar/church-service-with-chaplain-peter-8/
LOCATION:Theater
CATEGORIES:Assisted Living
END:VEVENT
BEGIN:VEVENT
DTSTART;TZID=America/Chicago:20250625T133000
DTEND;TZID=America/Chicago:20250625T143000
DTSTAMP:20260424T002533
CREATED:20250527T180932Z
LAST-MODIFIED:20250625T015423Z
UID:10000569-1750858200-1750861800@eaglepointseniorliving.com
SUMMARY:Fox Talks: Maintaining Healthy Memory
DESCRIPTION:Dana Sickinger Doyen from Fox Rehab will talk about maintaining a healthy mind\, body and spirit as we age.
URL:https://eaglepointseniorliving.com/event-calendar/fox-talks-2/
LOCATION:Theater
CATEGORIES:Assisted Living
END:VEVENT
BEGIN:VEVENT
DTSTART;TZID=America/Chicago:20250625T104500
DTEND;TZID=America/Chicago:20250625T150000
DTSTAMP:20260424T002533
CREATED:20250613T183927Z
LAST-MODIFIED:20250625T015423Z
UID:10000810-1750848300-1750863600@eaglepointseniorliving.com
SUMMARY:Wander Wednesday: Rawhide Road Trip
DESCRIPTION:Those who have signed up for the trip\, please meet in the lobby at 10:45 AM. We will depart as soon as all are gathered. We will return approximately 2:30 PM.
URL:https://eaglepointseniorliving.com/event-calendar/wander-wednesday-rawhide-road-trip-info-meeting/
LOCATION:Lobby
CATEGORIES:Assisted Living
END:VEVENT
BEGIN:VEVENT
DTSTART;TZID=America/Chicago:20250625T104500
DTEND;TZID=America/Chicago:20250625T113000
DTSTAMP:20260424T002533
CREATED:20250621T012503Z
LAST-MODIFIED:20250625T015423Z
UID:10000928-1750848300-1750851000@eaglepointseniorliving.com
SUMMARY:Wiser on Wednesday-The Blue Butterfly
DESCRIPTION:The tenth rarest butterfly in the world is the Blue Morpho and Butterfly Trivia
URL:https://eaglepointseniorliving.com/event-calendar/wiser-on-wednesday-the-blue-butterfly/
LOCATION:Art Room
CATEGORIES:Assisted Living
END:VEVENT
BEGIN:VEVENT
DTSTART;TZID=America/Chicago:20250625T100000
DTEND;TZID=America/Chicago:20250625T103000
DTSTAMP:20260424T002533
CREATED:20250526T181050Z
LAST-MODIFIED:20250625T015423Z
UID:10000558-1750845600-1750847400@eaglepointseniorliving.com
SUMMARY:Exercise Class: Mix
DESCRIPTION:
URL:https://eaglepointseniorliving.com/event-calendar/exercise-class-mix-2/
LOCATION:Wellness Room
CATEGORIES:Assisted Living
END:VEVENT
BEGIN:VEVENT
DTSTART;TZID=America/Chicago:20250625T091500
DTEND;TZID=America/Chicago:20250625T094500
DTSTAMP:20260424T002533
CREATED:20250526T181050Z
LAST-MODIFIED:20250625T015423Z
UID:10000557-1750842900-1750844700@eaglepointseniorliving.com
SUMMARY:Daily Devotions
DESCRIPTION:Chaplain Peter will lead us in morning daily devotions\, Monday-Friday
URL:https://eaglepointseniorliving.com/event-calendar/daily-devotions-32/
LOCATION:Library
CATEGORIES:Assisted Living
END:VEVENT
BEGIN:VEVENT
DTSTART;TZID=America/Chicago:20250624T174500
DTEND;TZID=America/Chicago:20250624T190000
DTSTAMP:20260424T002533
CREATED:20250607T182446Z
LAST-MODIFIED:20250624T013943Z
UID:10000717-1750787100-1750791600@eaglepointseniorliving.com
SUMMARY:Pierce Park Concert
DESCRIPTION:Sign up at the front desk! Be in the lobby by 5:45 PM\, bus will load and depart at 6:00 PM or earlier if all are gathered. Concert starts at 7:00 PM
URL:https://eaglepointseniorliving.com/event-calendar/pierce-park-concert-3/
LOCATION:Lobby
CATEGORIES:Assisted Living
END:VEVENT
BEGIN:VEVENT
DTSTART;TZID=America/Chicago:20250624T153000
DTEND;TZID=America/Chicago:20250624T163000
DTSTAMP:20260424T002533
CREATED:20250621T012503Z
LAST-MODIFIED:20250624T013943Z
UID:10000927-1750779000-1750782600@eaglepointseniorliving.com
SUMMARY:Monday This Month We Celebrate-You
DESCRIPTION:Eagle Point Year in Review video and “Have you Ever” game
URL:https://eaglepointseniorliving.com/event-calendar/monday-this-month-we-celebrate-you-4/
LOCATION:Art Room
CATEGORIES:Assisted Living
END:VEVENT
BEGIN:VEVENT
DTSTART;TZID=America/Chicago:20250624T143000
DTEND;TZID=America/Chicago:20250624T153000
DTSTAMP:20260424T002533
CREATED:20250526T181050Z
LAST-MODIFIED:20250624T013943Z
UID:10000556-1750775400-1750779000@eaglepointseniorliving.com
SUMMARY:Jeopardy with Brenda
DESCRIPTION:
URL:https://eaglepointseniorliving.com/event-calendar/jeopardy-with-ginger-4/
LOCATION:Art Room
CATEGORIES:Assisted Living
END:VEVENT
BEGIN:VEVENT
DTSTART;TZID=America/Chicago:20250624T140000
DTEND;TZID=America/Chicago:20250624T143000
DTSTAMP:20260424T002533
CREATED:20250526T181050Z
LAST-MODIFIED:20250624T013943Z
UID:10000555-1750773600-1750775400@eaglepointseniorliving.com
SUMMARY:Smoothie Tuesdays
DESCRIPTION:Join us each Tuesday as we make fresh protein smoothies each week in the lobby at 2:00pm. Each week will be a different flavor!
URL:https://eaglepointseniorliving.com/event-calendar/smoothie-tuesdays-7/
LOCATION:Lobby
CATEGORIES:Assisted Living
END:VEVENT
BEGIN:VEVENT
DTSTART;TZID=America/Chicago:20250624T104500
DTEND;TZID=America/Chicago:20250624T111500
DTSTAMP:20260424T002533
CREATED:20250610T183926Z
LAST-MODIFIED:20250624T013943Z
UID:10000760-1750761900-1750763700@eaglepointseniorliving.com
SUMMARY:Wisconsin Wildflowers
DESCRIPTION:
URL:https://eaglepointseniorliving.com/event-calendar/wisconsin-wildflowers/
LOCATION:Art Room
CATEGORIES:Assisted Living
END:VEVENT
BEGIN:VEVENT
DTSTART;TZID=America/Chicago:20250624T100000
DTEND;TZID=America/Chicago:20250624T103000
DTSTAMP:20260424T002533
CREATED:20250525T181043Z
LAST-MODIFIED:20250624T013943Z
UID:10000544-1750759200-1750761000@eaglepointseniorliving.com
SUMMARY:Steps to Scoops Group Walk
DESCRIPTION:Attend the 30-minute Steps to Scoop group walks to earn a Culver’s treat. Use the punch card to log your individual walks. See Hailey or Christine for a Steps to Scoops card.
URL:https://eaglepointseniorliving.com/event-calendar/exercise-fitness-mix-6/
LOCATION:Lobby
CATEGORIES:Assisted Living
END:VEVENT
END:VCALENDAR