BEGIN:VCALENDAR
VERSION:2.0
PRODID:-//Eagle Point Senior Living - ECPv6.11.2.1//NONSGML v1.0//EN
CALSCALE:GREGORIAN
METHOD:PUBLISH
X-WR-CALNAME:Eagle Point Senior Living
X-ORIGINAL-URL:https://eaglepointseniorliving.com
X-WR-CALDESC:Events for Eagle Point Senior Living
REFRESH-INTERVAL;VALUE=DURATION:PT1H
X-Robots-Tag:noindex
X-PUBLISHED-TTL:PT1H
BEGIN:VTIMEZONE
TZID:America/Chicago
BEGIN:DAYLIGHT
TZOFFSETFROM:-0600
TZOFFSETTO:-0500
TZNAME:CDT
DTSTART:20250309T080000
END:DAYLIGHT
BEGIN:STANDARD
TZOFFSETFROM:-0500
TZOFFSETTO:-0600
TZNAME:CST
DTSTART:20251102T070000
END:STANDARD
END:VTIMEZONE
BEGIN:VEVENT
DTSTART;TZID=America/Chicago:20250715T100000
DTEND;TZID=America/Chicago:20250715T103000
DTSTAMP:20260423T112230
CREATED:20250615T185434Z
LAST-MODIFIED:20250715T032425Z
UID:10000832-1752573600-1752575400@eaglepointseniorliving.com
SUMMARY:Walk Group
DESCRIPTION:Meet in the lobby and come walk outside as a group!
URL:https://eaglepointseniorliving.com/event-calendar/exercise-fitness-mix-9/
LOCATION:Lobby
CATEGORIES:Assisted Living
END:VEVENT
BEGIN:VEVENT
DTSTART;TZID=America/Chicago:20250715T091500
DTEND;TZID=America/Chicago:20250715T094500
DTSTAMP:20260423T112230
CREATED:20250615T185434Z
LAST-MODIFIED:20250715T032425Z
UID:10000831-1752570900-1752572700@eaglepointseniorliving.com
SUMMARY:Daily Devotions
DESCRIPTION:Chaplain Peter will lead us in morning daily devotions\, Monday-Friday
URL:https://eaglepointseniorliving.com/event-calendar/daily-devotions-45/
LOCATION:Library
CATEGORIES:Assisted Living
END:VEVENT
BEGIN:VEVENT
DTSTART;TZID=America/Chicago:20250714T180000
DTEND;TZID=America/Chicago:20250714T200000
DTSTAMP:20260423T112230
CREATED:20250621T012507Z
LAST-MODIFIED:20250714T032423Z
UID:10000931-1752516000-1752523200@eaglepointseniorliving.com
SUMMARY:Monday Evening Movie-"One Week"
DESCRIPTION:A 2008 Canadian drama film (Prime)\nJackson plays Ben Tyler\, who has been diagnosed with cancer. Requiring immediate treatment\, he instead decides to take a motorcycle trip from Toronto across Canada to Vancouver Island\nBeautiful Canadian scenery
URL:https://eaglepointseniorliving.com/event-calendar/monday-evening-movie-5/
LOCATION:Theater
CATEGORIES:Assisted Living
END:VEVENT
BEGIN:VEVENT
DTSTART;TZID=America/Chicago:20250714T150000
DTEND;TZID=America/Chicago:20250714T160000
DTSTAMP:20260423T112230
CREATED:20250708T030941Z
LAST-MODIFIED:20250714T032423Z
UID:10001199-1752505200-1752508800@eaglepointseniorliving.com
SUMMARY:Canadian Games-Trivial Pursuit
DESCRIPTION:The game was created on December 15\, 1979\, in Niagara on the Lake\, Ontario\, by Canadians Chris Haney\, a photo editor for Montreal’s The Gazette\, and Scott Abbott\, a sports editor for The Canadian Press. After finding pieces of their Scrabble game missing\, they decided to create their own game.
URL:https://eaglepointseniorliving.com/event-calendar/canadian-games-trivial-pursuit/
LOCATION:Art Room
CATEGORIES:Assisted Living
END:VEVENT
BEGIN:VEVENT
DTSTART;TZID=America/Chicago:20250714T140000
DTEND;TZID=America/Chicago:20250714T150000
DTSTAMP:20260423T112230
CREATED:20250617T181022Z
LAST-MODIFIED:20250714T032423Z
UID:10000836-1752501600-1752505200@eaglepointseniorliving.com
SUMMARY:Fork Farms Presentation w/ Steve Tyink
DESCRIPTION:Learn more about a local company\, Fork Farms\, and the innovative garden called a Flex Farm being used in schools\, hospitals\, and community centers across 43 states and nine countries. The Flex Farm is an innovative way to grow fresh food and teach the science behind how food grows.
URL:https://eaglepointseniorliving.com/event-calendar/fork-farms-presentation-w-steve-tyink-2/
LOCATION:Theater
CATEGORIES:Assisted Living
END:VEVENT
BEGIN:VEVENT
DTSTART;TZID=America/Chicago:20250714T130000
DTEND;TZID=America/Chicago:20250714T140000
DTSTAMP:20260423T112230
CREATED:20250617T192709Z
LAST-MODIFIED:20250714T032423Z
UID:10000883-1752498000-1752501600@eaglepointseniorliving.com
SUMMARY:Knit Pickers Group: First Floor Alcove
DESCRIPTION:All levels and abilities are invited to attend\, whether you want to work on your own project\, or work on one of the group projects! Knitting\, crochet\, or any type of fiber art included. Location: First floor alcove.
URL:https://eaglepointseniorliving.com/event-calendar/knit-pickers-group-first-floor-alcove/
LOCATION:1st Floor Alcove
CATEGORIES:Assisted Living
END:VEVENT
BEGIN:VEVENT
DTSTART;TZID=America/Chicago:20250714T130000
DTEND;TZID=America/Chicago:20250714T140000
DTSTAMP:20260423T112230
CREATED:20250614T183949Z
LAST-MODIFIED:20250714T032423Z
UID:10000825-1752498000-1752501600@eaglepointseniorliving.com
SUMMARY:Bocce Ball
DESCRIPTION:Meet outside on the Bocce Ball courts OR if it’s raining come down to the Wellness Room to play corn hole/bags.
URL:https://eaglepointseniorliving.com/event-calendar/bocce-ball-3/
LOCATION:Wellness Room
CATEGORIES:Assisted Living
END:VEVENT
BEGIN:VEVENT
DTSTART;TZID=America/Chicago:20250714T104500
DTEND;TZID=America/Chicago:20250714T113000
DTSTAMP:20260423T112230
CREATED:20250701T024013Z
LAST-MODIFIED:20250714T032423Z
UID:10001114-1752489900-1752492600@eaglepointseniorliving.com
SUMMARY:Purple University: AI in Education and Medicine
DESCRIPTION:Come every Monday in July at 10:45am to watch videos and learn\, and take a quiz at the end to see what you’ve learned! This week is about AI in education and medicine.
URL:https://eaglepointseniorliving.com/event-calendar/purple-university-well-being-2/
LOCATION:Art Room
CATEGORIES:Assisted Living
END:VEVENT
BEGIN:VEVENT
DTSTART;TZID=America/Chicago:20250714T100000
DTEND;TZID=America/Chicago:20250714T103000
DTSTAMP:20260423T112230
CREATED:20250614T183949Z
LAST-MODIFIED:20250714T032423Z
UID:10000824-1752487200-1752489000@eaglepointseniorliving.com
SUMMARY:Weight Resistance Class
DESCRIPTION:A weight resistance class led by our resident Linda!
URL:https://eaglepointseniorliving.com/event-calendar/weight-resistance-class-18/
LOCATION:Wellness Room
CATEGORIES:Assisted Living
END:VEVENT
BEGIN:VEVENT
DTSTART;TZID=America/Chicago:20250714T091500
DTEND;TZID=America/Chicago:20250714T094500
DTSTAMP:20260423T112230
CREATED:20250614T183949Z
LAST-MODIFIED:20250714T032423Z
UID:10000823-1752484500-1752486300@eaglepointseniorliving.com
SUMMARY:Daily Devotions
DESCRIPTION:Chaplain Peter will lead us in morning daily devotions\, Monday-Friday
URL:https://eaglepointseniorliving.com/event-calendar/daily-devotions-44/
LOCATION:Library
CATEGORIES:Assisted Living
END:VEVENT
BEGIN:VEVENT
DTSTART;TZID=America/Chicago:20250713T130000
DTEND;TZID=America/Chicago:20250713T140000
DTSTAMP:20260423T112230
CREATED:20250709T030936Z
LAST-MODIFIED:20250713T032503Z
UID:10001220-1752411600-1752415200@eaglepointseniorliving.com
SUMMARY:Grip Games Practice
DESCRIPTION:Everyone is welcome to join in the fun as we practice for our Grip Games competition! There are many roles to fill\, and all abilities are welcome!
URL:https://eaglepointseniorliving.com/event-calendar/grip-games-practice/
LOCATION:Wellness Room
CATEGORIES:Assisted Living
END:VEVENT
BEGIN:VEVENT
DTSTART;TZID=America/Chicago:20250713T130000
DTEND;TZID=America/Chicago:20250713T140000
DTSTAMP:20260423T112230
CREATED:20250703T023950Z
LAST-MODIFIED:20250713T032503Z
UID:10001148-1752411600-1752415200@eaglepointseniorliving.com
SUMMARY:9 Card "Golf" Game
DESCRIPTION:Come check out this fun card game! Setup: Each player is dealt 9 cards face down\, arranged in a 3×3 grid. Players can look at two of their cards. Objective: The goal is to have the lowest score at the end of the game\, which is played over multiple rounds. Pat will help you learn if interested!
URL:https://eaglepointseniorliving.com/event-calendar/9-card-golf-game-2/
LOCATION:Game Room
CATEGORIES:Assisted Living
END:VEVENT
BEGIN:VEVENT
DTSTART;TZID=America/Chicago:20250713T091500
DTEND;TZID=America/Chicago:20250713T121500
DTSTAMP:20260423T112230
CREATED:20250613T183930Z
LAST-MODIFIED:20250713T032503Z
UID:10000817-1752398100-1752408900@eaglepointseniorliving.com
SUMMARY:Immanuel Lutheran Church- Live Stream
DESCRIPTION:On line viewing of Immanuel Ev. Lutheran Church\, Greenville\, WI.\nAll denominations are invited to attend
URL:https://eaglepointseniorliving.com/event-calendar/immanuel-lutheran-church-live-stream-9/
LOCATION:Theater
CATEGORIES:Assisted Living
END:VEVENT
BEGIN:VEVENT
DTSTART;TZID=America/Chicago:20250712T150000
DTEND;TZID=America/Chicago:20250712T160000
DTSTAMP:20260423T112230
CREATED:20250613T183930Z
LAST-MODIFIED:20250712T032516Z
UID:10000816-1752332400-1752336000@eaglepointseniorliving.com
SUMMARY:Resident Sheepshead
DESCRIPTION:
URL:https://eaglepointseniorliving.com/event-calendar/resident-sheepshead-9/
LOCATION:Game Room
CATEGORIES:Assisted Living
END:VEVENT
BEGIN:VEVENT
DTSTART;TZID=America/Chicago:20250712T130000
DTEND;TZID=America/Chicago:20250712T150000
DTSTAMP:20260423T112230
CREATED:20250612T183932Z
LAST-MODIFIED:20250712T032516Z
UID:10000796-1752325200-1752332400@eaglepointseniorliving.com
SUMMARY:Saturday Afternoon Movie-Miss Potter
DESCRIPTION:Based on the life of children’s author and illustrator Beatrix Potter\, and combines stories from her own life with animated sequences featuring characters from her stories\, such as Peter Rabbit.\nHelen Beatrix Heelis was (Born 28 July 1866 – 22 December 1943)\, usually known as Beatrix Potter\nEP DVD
URL:https://eaglepointseniorliving.com/event-calendar/saturday-afternoon-movie-8/
LOCATION:Theater
CATEGORIES:Assisted Living
END:VEVENT
BEGIN:VEVENT
DTSTART;TZID=America/Chicago:20250712T100000
DTEND;TZID=America/Chicago:20250712T110000
DTSTAMP:20260423T112230
CREATED:20250711T032502Z
LAST-MODIFIED:20250712T032516Z
UID:10001267-1752314400-1752318000@eaglepointseniorliving.com
SUMMARY:Lawrence University Students
DESCRIPTION:Join the students from Lawrence music camp in a delightful recital!
URL:https://eaglepointseniorliving.com/event-calendar/lawrence-university-students/
LOCATION:Lobby
CATEGORIES:Assisted Living
END:VEVENT
BEGIN:VEVENT
DTSTART;TZID=America/Chicago:20250712T093000
DTEND;TZID=America/Chicago:20250712T103000
DTSTAMP:20260423T112230
CREATED:20250612T183932Z
LAST-MODIFIED:20250712T032516Z
UID:10000795-1752312600-1752316200@eaglepointseniorliving.com
SUMMARY:Saturday Morning Chat and Coffee
DESCRIPTION:
URL:https://eaglepointseniorliving.com/event-calendar/saturday-morning-chat-and-coffee-9/
LOCATION:Lobby
CATEGORIES:Assisted Living
END:VEVENT
BEGIN:VEVENT
DTSTART;TZID=America/Chicago:20250711T140000
DTEND;TZID=America/Chicago:20250711T150000
DTSTAMP:20260423T112230
CREATED:20250620T012518Z
LAST-MODIFIED:20250711T032502Z
UID:10000917-1752242400-1752246000@eaglepointseniorliving.com
SUMMARY:Ice Cream Truck: Treats for all!
DESCRIPTION:Free ice cream for all compliments of Eagle Court! After our fund sing-along with Arlie we will enjoy a treat from the mobile ice cream truck parked outside Eagle Point! All are welcome!
URL:https://eaglepointseniorliving.com/event-calendar/ice-cream-truck-treats-for-all/
LOCATION:Front of Building
CATEGORIES:Assisted Living
END:VEVENT
BEGIN:VEVENT
DTSTART;TZID=America/Chicago:20250711T130000
DTEND;TZID=America/Chicago:20250711T140000
DTSTAMP:20260423T112230
CREATED:20250620T012518Z
LAST-MODIFIED:20250711T032502Z
UID:10000916-1752238800-1752242400@eaglepointseniorliving.com
SUMMARY:Arlie Schneider sing-along
DESCRIPTION:Join Arlie and his wonderful singers for an hour of joyous singing. Afterwards we will have the ice cream truck located just outside the building for a yummy treat for all!
URL:https://eaglepointseniorliving.com/event-calendar/arlie-schneider-sing-along/
LOCATION:Lobby
CATEGORIES:Assisted Living
END:VEVENT
BEGIN:VEVENT
DTSTART;TZID=America/Chicago:20250711T104500
DTEND;TZID=America/Chicago:20250711T113000
DTSTAMP:20260423T112230
CREATED:20250627T021034Z
LAST-MODIFIED:20250711T032502Z
UID:10001062-1752230700-1752233400@eaglepointseniorliving.com
SUMMARY:Take a trip to New York City with Kylie!
DESCRIPTION:Christmas in July! Join Kylie as she takes us on a tour of New York City. She will show us all of the highlights of her trip\, which was a gift for graduating from college. Learn more about Kylie and this magnificent trip!
URL:https://eaglepointseniorliving.com/event-calendar/take-a-trip-to-new-york-with-kylie/
LOCATION:Art Room
CATEGORIES:Assisted Living
END:VEVENT
BEGIN:VEVENT
DTSTART;TZID=America/Chicago:20250711T100000
DTEND;TZID=America/Chicago:20250711T103000
DTSTAMP:20260423T112230
CREATED:20250611T184011Z
LAST-MODIFIED:20250711T032502Z
UID:10000783-1752228000-1752229800@eaglepointseniorliving.com
SUMMARY:Weight Resistance Class
DESCRIPTION:A weight resistance class led by our resident Linda!
URL:https://eaglepointseniorliving.com/event-calendar/weight-resistance-class-17/
LOCATION:Wellness Room
CATEGORIES:Assisted Living
END:VEVENT
BEGIN:VEVENT
DTSTART;TZID=America/Chicago:20250711T091500
DTEND;TZID=America/Chicago:20250711T094500
DTSTAMP:20260423T112230
CREATED:20250611T184011Z
LAST-MODIFIED:20250711T032502Z
UID:10000782-1752225300-1752227100@eaglepointseniorliving.com
SUMMARY:Daily Devotions
DESCRIPTION:Chaplain Peter will lead us in morning daily devotions\, Monday-Friday
URL:https://eaglepointseniorliving.com/event-calendar/daily-devotions-43/
LOCATION:Library
CATEGORIES:Assisted Living
END:VEVENT
BEGIN:VEVENT
DTSTART;TZID=America/Chicago:20250710T150000
DTEND;TZID=America/Chicago:20250710T160000
DTSTAMP:20260423T112230
CREATED:20250611T184011Z
LAST-MODIFIED:20250710T032536Z
UID:10000781-1752159600-1752163200@eaglepointseniorliving.com
SUMMARY:Sing-along
DESCRIPTION:A joyful\, interactive activity to sing familiar songs promoting social engagement\, memory recall\, and emotional well-being.
URL:https://eaglepointseniorliving.com/event-calendar/sing-along-8/
LOCATION:2nd Floor Lounge
CATEGORIES:Assisted Living
END:VEVENT
BEGIN:VEVENT
DTSTART;TZID=America/Chicago:20250710T140000
DTEND;TZID=America/Chicago:20250710T150000
DTSTAMP:20260423T112230
CREATED:20250622T013957Z
LAST-MODIFIED:20250710T032536Z
UID:10000938-1752156000-1752159600@eaglepointseniorliving.com
SUMMARY:Lifelong Learning- Adventures of Benjamin Franklin
DESCRIPTION:
URL:https://eaglepointseniorliving.com/event-calendar/lifelong-learning-adventures-of-benjamin-franklin-2/
LOCATION:Theater
CATEGORIES:Assisted Living
END:VEVENT
BEGIN:VEVENT
DTSTART;TZID=America/Chicago:20250710T130000
DTEND;TZID=America/Chicago:20250710T133000
DTSTAMP:20260423T112230
CREATED:20250613T183930Z
LAST-MODIFIED:20250710T032536Z
UID:10000814-1752152400-1752154200@eaglepointseniorliving.com
SUMMARY:Steps to Scoop Group Walk
DESCRIPTION:Attend the 30-minute Steps to Scoop group walks to earn a Culver’s treat. Use the punch card to log your individual walks. See Hailey or Christine for a Steps to Scoops card.
URL:https://eaglepointseniorliving.com/event-calendar/steps-to-scoop-group-walk-8/
LOCATION:Lobby
CATEGORIES:Assisted Living
END:VEVENT
BEGIN:VEVENT
DTSTART;TZID=America/Chicago:20250710T104500
DTEND;TZID=America/Chicago:20250710T113000
DTSTAMP:20260423T112230
CREATED:20250617T202609Z
LAST-MODIFIED:20250710T032536Z
UID:10000891-1752144300-1752147000@eaglepointseniorliving.com
SUMMARY:Craft: Painted leaf print: butterfly
DESCRIPTION:All abilities welcome!! Crafts stimulate creativity\, dexterity\, and cognitive function while providing a sense of accomplishment and social interaction. Each craft can be tailored to accommodate varying levels of ability.
URL:https://eaglepointseniorliving.com/event-calendar/craft-10/
LOCATION:Art Room
CATEGORIES:Assisted Living
END:VEVENT
BEGIN:VEVENT
DTSTART;TZID=America/Chicago:20250710T103000
DTEND;TZID=America/Chicago:20250710T111500
DTSTAMP:20260423T112230
CREATED:20250610T183929Z
LAST-MODIFIED:20250710T032536Z
UID:10000765-1752143400-1752146100@eaglepointseniorliving.com
SUMMARY:CANCELED: Empowered by Movement
DESCRIPTION:Empowered by Movement will return August 14th. Experience the joy and fun of movement\, improve balance and coordination\, and boost your confidence through movement!
URL:https://eaglepointseniorliving.com/event-calendar/empowered-by-movement-2/
LOCATION:Wellness Room
CATEGORIES:Assisted Living
END:VEVENT
BEGIN:VEVENT
DTSTART;TZID=America/Chicago:20250710T100000
DTEND;TZID=America/Chicago:20250710T110000
DTSTAMP:20260423T112230
CREATED:20250610T183929Z
LAST-MODIFIED:20250710T032536Z
UID:10000764-1752141600-1752145200@eaglepointseniorliving.com
SUMMARY:Catholic Communion
DESCRIPTION:Corporate communion presided over by a deacon or layperson with hymns and rosary.
URL:https://eaglepointseniorliving.com/event-calendar/catholic-communion-7/
LOCATION:TH
CATEGORIES:Assisted Living
END:VEVENT
BEGIN:VEVENT
DTSTART;TZID=America/Chicago:20250710T091500
DTEND;TZID=America/Chicago:20250710T094500
DTSTAMP:20260423T112230
CREATED:20250610T183929Z
LAST-MODIFIED:20250710T032535Z
UID:10000763-1752138900-1752140700@eaglepointseniorliving.com
SUMMARY:Daily Devotions
DESCRIPTION:Chaplain Peter will lead us in morning daily devotions\, Monday-Friday
URL:https://eaglepointseniorliving.com/event-calendar/daily-devotions-42/
LOCATION:Library
CATEGORIES:Assisted Living
END:VEVENT
BEGIN:VEVENT
DTSTART;TZID=America/Chicago:20250709T150000
DTEND;TZID=America/Chicago:20250709T160000
DTSTAMP:20260423T112230
CREATED:20250610T183929Z
LAST-MODIFIED:20250709T030936Z
UID:10000762-1752073200-1752076800@eaglepointseniorliving.com
SUMMARY:Cribbage
DESCRIPTION:
URL:https://eaglepointseniorliving.com/event-calendar/cribbage-9/
LOCATION:Art Room
CATEGORIES:Assisted Living
END:VEVENT
END:VCALENDAR