BEGIN:VCALENDAR
VERSION:2.0
PRODID:-//Eagle Point Senior Living - ECPv6.11.2.1//NONSGML v1.0//EN
CALSCALE:GREGORIAN
METHOD:PUBLISH
X-WR-CALNAME:Eagle Point Senior Living
X-ORIGINAL-URL:https://eaglepointseniorliving.com
X-WR-CALDESC:Events for Eagle Point Senior Living
REFRESH-INTERVAL;VALUE=DURATION:PT1H
X-Robots-Tag:noindex
X-PUBLISHED-TTL:PT1H
BEGIN:VTIMEZONE
TZID:America/Chicago
BEGIN:DAYLIGHT
TZOFFSETFROM:-0600
TZOFFSETTO:-0500
TZNAME:CDT
DTSTART:20250309T080000
END:DAYLIGHT
BEGIN:STANDARD
TZOFFSETFROM:-0500
TZOFFSETTO:-0600
TZNAME:CST
DTSTART:20251102T070000
END:STANDARD
END:VTIMEZONE
BEGIN:VEVENT
DTSTART;TZID=America/Chicago:20250719T150000
DTEND;TZID=America/Chicago:20250719T160000
DTSTAMP:20260423T062952
CREATED:20250620T012520Z
LAST-MODIFIED:20250719T041022Z
UID:10000920-1752937200-1752940800@eaglepointseniorliving.com
SUMMARY:Resident Sheepshead
DESCRIPTION:
URL:https://eaglepointseniorliving.com/event-calendar/resident-sheepshead-10/
LOCATION:Game Room
CATEGORIES:Assisted Living
END:VEVENT
BEGIN:VEVENT
DTSTART;TZID=America/Chicago:20250719T130000
DTEND;TZID=America/Chicago:20250719T150000
DTSTAMP:20260423T062952
CREATED:20250620T012520Z
LAST-MODIFIED:20250719T041022Z
UID:10000919-1752930000-1752937200@eaglepointseniorliving.com
SUMMARY:Saturday Afternoon Movie-"Canadian Bacon"
DESCRIPTION:Canadian Bacon is a 1995 comedy film\nIt tells the story of a struggling President who is persuaded by his confidants to fight with Canada when a local sheriff and his friends get involved.
URL:https://eaglepointseniorliving.com/event-calendar/saturday-afternoon-movie-9/
LOCATION:Theater
CATEGORIES:Assisted Living
END:VEVENT
BEGIN:VEVENT
DTSTART;TZID=America/Chicago:20250719T093000
DTEND;TZID=America/Chicago:20250719T103000
DTSTAMP:20260423T062952
CREATED:20250620T012520Z
LAST-MODIFIED:20250719T041022Z
UID:10000918-1752917400-1752921000@eaglepointseniorliving.com
SUMMARY:Saturday Morning Chat and Coffee
DESCRIPTION:
URL:https://eaglepointseniorliving.com/event-calendar/saturday-morning-chat-and-coffee-10/
LOCATION:Lobby
CATEGORIES:Assisted Living
END:VEVENT
BEGIN:VEVENT
DTSTART;TZID=America/Chicago:20250718T150000
DTEND;TZID=America/Chicago:20250718T160000
DTSTAMP:20260423T062952
CREATED:20250619T012445Z
LAST-MODIFIED:20250718T040930Z
UID:10000904-1752850800-1752854400@eaglepointseniorliving.com
SUMMARY:Happy Hour with Musical Guest Dusty Vinyl
DESCRIPTION:Dusty Vinyl is duo Keith Krisher and Jessi Jobe. They will share folk music\, old country\, and Americana tunes!
URL:https://eaglepointseniorliving.com/event-calendar/happy-hour-4/
LOCATION:Lobby
CATEGORIES:Assisted Living
END:VEVENT
BEGIN:VEVENT
DTSTART;TZID=America/Chicago:20250718T140000
DTEND;TZID=America/Chicago:20250718T150000
DTSTAMP:20260423T062952
CREATED:20250621T012508Z
LAST-MODIFIED:20250718T040930Z
UID:10000932-1752847200-1752850800@eaglepointseniorliving.com
SUMMARY:Gentlemen's Coffee and Conversation
DESCRIPTION:Join Chaplain Peter for men’s conversation over coffee and treats.
URL:https://eaglepointseniorliving.com/event-calendar/gentlemens-coffee-and-conversation/
LOCATION:Library
CATEGORIES:Assisted Living
END:VEVENT
BEGIN:VEVENT
DTSTART;TZID=America/Chicago:20250718T130000
DTEND;TZID=America/Chicago:20250718T143000
DTSTAMP:20260423T062952
CREATED:20250619T012445Z
LAST-MODIFIED:20250718T040930Z
UID:10000903-1752843600-1752849000@eaglepointseniorliving.com
SUMMARY:Bridge in the Art Room
DESCRIPTION:For more information to join a table of 4 or to be a sub\, please contact Barb Lenz.
URL:https://eaglepointseniorliving.com/event-calendar/bridge-in-the-art-room-5/
LOCATION:Art Room
CATEGORIES:Assisted Living
END:VEVENT
BEGIN:VEVENT
DTSTART;TZID=America/Chicago:20250718T130000
DTEND;TZID=America/Chicago:20250718T140000
DTSTAMP:20260423T062952
CREATED:20250708T030942Z
LAST-MODIFIED:20250718T040930Z
UID:10001200-1752843600-1752847200@eaglepointseniorliving.com
SUMMARY:Lifespark Games: Really Big Show
DESCRIPTION:Don’t miss the Lifespark Games Really Big Show\, where we reveal the scores and standings for all participating communities. It’s a fun way to celebrate everyone’s hard work\, cheer on your peers\, and see how our team stacks up!
URL:https://eaglepointseniorliving.com/event-calendar/lifespark-games-really-big-show/
LOCATION:Wellness Room
CATEGORIES:Assisted Living
END:VEVENT
BEGIN:VEVENT
DTSTART;TZID=America/Chicago:20250718T103000
DTEND;TZID=America/Chicago:20250718T113000
DTSTAMP:20260423T062952
CREATED:20250619T012445Z
LAST-MODIFIED:20250718T040930Z
UID:10000901-1752834600-1752838200@eaglepointseniorliving.com
SUMMARY:Parkinson's Support Group
DESCRIPTION:The Parkinson’s support group provides emotional support and shared experiences\, helping individuals feel less isolated in their journey.
URL:https://eaglepointseniorliving.com/event-calendar/parkinsons-support-group-2/
LOCATION:Theater
CATEGORIES:Assisted Living
END:VEVENT
BEGIN:VEVENT
DTSTART;TZID=America/Chicago:20250718T100000
DTEND;TZID=America/Chicago:20250718T103000
DTSTAMP:20260423T062952
CREATED:20250619T012445Z
LAST-MODIFIED:20250718T040930Z
UID:10000900-1752832800-1752834600@eaglepointseniorliving.com
SUMMARY:Weight Resistance Class
DESCRIPTION:A weight resistance class led by our resident Linda!
URL:https://eaglepointseniorliving.com/event-calendar/weight-resistance-class-19/
LOCATION:Wellness Room
CATEGORIES:Assisted Living
END:VEVENT
BEGIN:VEVENT
DTSTART;TZID=America/Chicago:20250718T091500
DTEND;TZID=America/Chicago:20250718T094500
DTSTAMP:20260423T062952
CREATED:20250619T012444Z
LAST-MODIFIED:20250718T040930Z
UID:10000899-1752830100-1752831900@eaglepointseniorliving.com
SUMMARY:Daily Devotions
DESCRIPTION:Chaplain Peter will lead us in morning daily devotions\, Monday-Friday
URL:https://eaglepointseniorliving.com/event-calendar/daily-devotions-48/
LOCATION:Library
CATEGORIES:Assisted Living
END:VEVENT
BEGIN:VEVENT
DTSTART;TZID=America/Chicago:20250717T160000
DTEND;TZID=America/Chicago:20250717T180000
DTSTAMP:20260423T062952
CREATED:20250617T222629Z
LAST-MODIFIED:20250717T035431Z
UID:10000895-1752768000-1752775200@eaglepointseniorliving.com
SUMMARY:Outing to Dick & Joan's
DESCRIPTION:NOTE early time!!! Sign up required at the front desk. Max 11. Dawn will load the bus promptly at 3:50 PM and depart by 4:00 PM or earlier if everyone is ready. Dick & Joan’s does not take reservations\, so we need to be early!
URL:https://eaglepointseniorliving.com/event-calendar/outing-to-dick-joans/
LOCATION:Lobby
CATEGORIES:Assisted Living
END:VEVENT
BEGIN:VEVENT
DTSTART;TZID=America/Chicago:20250717T150000
DTEND;TZID=America/Chicago:20250717T160000
DTSTAMP:20260423T062952
CREATED:20250617T202610Z
LAST-MODIFIED:20250717T035431Z
UID:10000893-1752764400-1752768000@eaglepointseniorliving.com
SUMMARY:Sing-along
DESCRIPTION:A joyful\, interactive activity to sing familiar songs promoting social engagement\, memory recall\, and emotional well-being.
URL:https://eaglepointseniorliving.com/event-calendar/sing-along-9/
LOCATION:2nd Floor Lounge
CATEGORIES:Assisted Living
END:VEVENT
BEGIN:VEVENT
DTSTART;TZID=America/Chicago:20250717T143000
DTEND;TZID=America/Chicago:20250717T150000
DTSTAMP:20260423T062952
CREATED:20250617T195636Z
LAST-MODIFIED:20250717T035431Z
UID:10000888-1752762600-1752764400@eaglepointseniorliving.com
SUMMARY:Food Forum
DESCRIPTION:Residents are invited to share their concerns and comments for Culinary Directory Kiaya.
URL:https://eaglepointseniorliving.com/event-calendar/food-forum-3/
LOCATION:Art Room
CATEGORIES:Assisted Living
END:VEVENT
BEGIN:VEVENT
DTSTART;TZID=America/Chicago:20250717T130000
DTEND;TZID=America/Chicago:20250717T140000
DTSTAMP:20260423T062952
CREATED:20250617T181023Z
LAST-MODIFIED:20250717T035431Z
UID:10000850-1752757200-1752760800@eaglepointseniorliving.com
SUMMARY:Travel Through Europe with Kylie
DESCRIPTION:
URL:https://eaglepointseniorliving.com/event-calendar/the-science-of-happiness-3/
LOCATION:Art Room
CATEGORIES:Assisted Living
END:VEVENT
BEGIN:VEVENT
DTSTART;TZID=America/Chicago:20250717T104500
DTEND;TZID=America/Chicago:20250717T113000
DTSTAMP:20260423T062952
CREATED:20250617T202610Z
LAST-MODIFIED:20250717T035430Z
UID:10000892-1752749100-1752751800@eaglepointseniorliving.com
SUMMARY:Craft: 5-minute Flowers
DESCRIPTION:All abilities welcome!! Crafts stimulate creativity\, dexterity\, and cognitive function while providing a sense of accomplishment and social interaction. Each craft can be tailored to accommodate varying levels of ability.
URL:https://eaglepointseniorliving.com/event-calendar/craft-11/
LOCATION:Art Room
CATEGORIES:Assisted Living
END:VEVENT
BEGIN:VEVENT
DTSTART;TZID=America/Chicago:20250717T103000
DTEND;TZID=America/Chicago:20250717T110000
DTSTAMP:20260423T062952
CREATED:20250711T032503Z
LAST-MODIFIED:20250717T035430Z
UID:10001269-1752748200-1752750000@eaglepointseniorliving.com
SUMMARY:Walk Group
DESCRIPTION:Meet in the lobby and come walk outside as a group!
URL:https://eaglepointseniorliving.com/event-calendar/walk-group/
LOCATION:Lobby
CATEGORIES:Assisted Living
END:VEVENT
BEGIN:VEVENT
DTSTART;TZID=America/Chicago:20250717T100000
DTEND;TZID=America/Chicago:20250717T110000
DTSTAMP:20260423T062952
CREATED:20250617T181023Z
LAST-MODIFIED:20250717T035430Z
UID:10000847-1752746400-1752750000@eaglepointseniorliving.com
SUMMARY:Catholic Mass
DESCRIPTION:Catholic Mass presided over by a priest.
URL:https://eaglepointseniorliving.com/event-calendar/catholic-mass-3/
LOCATION:Theater
CATEGORIES:Assisted Living
END:VEVENT
BEGIN:VEVENT
DTSTART;TZID=America/Chicago:20250717T091500
DTEND;TZID=America/Chicago:20250717T094500
DTSTAMP:20260423T062952
CREATED:20250617T181023Z
LAST-MODIFIED:20250717T035430Z
UID:10000846-1752743700-1752745500@eaglepointseniorliving.com
SUMMARY:Daily Devotions
DESCRIPTION:Chaplain Peter will lead us in morning daily devotions\, Monday-Friday
URL:https://eaglepointseniorliving.com/event-calendar/daily-devotions-47/
LOCATION:Library
CATEGORIES:Assisted Living
END:VEVENT
BEGIN:VEVENT
DTSTART;TZID=America/Chicago:20250716T150000
DTEND;TZID=America/Chicago:20250716T160000
DTSTAMP:20260423T062952
CREATED:20250617T181023Z
LAST-MODIFIED:20250716T033958Z
UID:10000844-1752678000-1752681600@eaglepointseniorliving.com
SUMMARY:Church Service with Chaplain Peter
DESCRIPTION:
URL:https://eaglepointseniorliving.com/event-calendar/church-service-with-chaplain-peter-11/
LOCATION:Theater
CATEGORIES:Assisted Living
END:VEVENT
BEGIN:VEVENT
DTSTART;TZID=America/Chicago:20250716T150000
DTEND;TZID=America/Chicago:20250716T160000
DTSTAMP:20260423T062952
CREATED:20250617T181023Z
LAST-MODIFIED:20250716T033958Z
UID:10000845-1752678000-1752681600@eaglepointseniorliving.com
SUMMARY:Cribbage
DESCRIPTION:
URL:https://eaglepointseniorliving.com/event-calendar/cribbage-10/
LOCATION:Art Room
CATEGORIES:Assisted Living
END:VEVENT
BEGIN:VEVENT
DTSTART;TZID=America/Chicago:20250716T143000
DTEND;TZID=America/Chicago:20250716T153000
DTSTAMP:20260423T062952
CREATED:20250712T032516Z
LAST-MODIFIED:20250716T033958Z
UID:10001282-1752676200-1752679800@eaglepointseniorliving.com
SUMMARY:Comedy Time
DESCRIPTION:
URL:https://eaglepointseniorliving.com/event-calendar/comedy-time/
LOCATION:Art Room
CATEGORIES:Assisted Living
END:VEVENT
BEGIN:VEVENT
DTSTART;TZID=America/Chicago:20250716T130000
DTEND;TZID=America/Chicago:20250716T140000
DTSTAMP:20260423T062952
CREATED:20250702T024030Z
LAST-MODIFIED:20250716T033958Z
UID:10001132-1752670800-1752674400@eaglepointseniorliving.com
SUMMARY:Current Events
DESCRIPTION:Join us for Current Events to stay mentally stimulated and socially connected—it’s a great way to engage in meaningful conversations and connect with others. Staying informed not only enhances critical thinking but also contributes to overall quality of life.
URL:https://eaglepointseniorliving.com/event-calendar/current-events-2/
LOCATION:Theater
CATEGORIES:Assisted Living
END:VEVENT
BEGIN:VEVENT
DTSTART;TZID=America/Chicago:20250716T104500
DTEND;TZID=America/Chicago:20250716T113000
DTSTAMP:20260423T062952
CREATED:20250703T023950Z
LAST-MODIFIED:20250716T033958Z
UID:10001149-1752662700-1752665400@eaglepointseniorliving.com
SUMMARY:Location of the Month-Canadian Musicians and Artists
DESCRIPTION:
URL:https://eaglepointseniorliving.com/event-calendar/location-of-the-month-canadian-musicians-and-artists/
LOCATION:Art Room
CATEGORIES:Assisted Living
END:VEVENT
BEGIN:VEVENT
DTSTART;TZID=America/Chicago:20250716T100000
DTEND;TZID=America/Chicago:20250716T103000
DTSTAMP:20260423T062952
CREATED:20250617T181023Z
LAST-MODIFIED:20250716T033958Z
UID:10000841-1752660000-1752661800@eaglepointseniorliving.com
SUMMARY:Exercise Class: Mix
DESCRIPTION:
URL:https://eaglepointseniorliving.com/event-calendar/exercise-class-mix-5/
LOCATION:Wellness Room
CATEGORIES:Assisted Living
END:VEVENT
BEGIN:VEVENT
DTSTART;TZID=America/Chicago:20250716T091500
DTEND;TZID=America/Chicago:20250716T094500
DTSTAMP:20260423T062952
CREATED:20250617T181022Z
LAST-MODIFIED:20250716T033958Z
UID:10000840-1752657300-1752659100@eaglepointseniorliving.com
SUMMARY:Daily Devotions
DESCRIPTION:Chaplain Peter will lead us in morning daily devotions\, Monday-Friday
URL:https://eaglepointseniorliving.com/event-calendar/daily-devotions-46/
LOCATION:Library
CATEGORIES:Assisted Living
END:VEVENT
BEGIN:VEVENT
DTSTART;TZID=America/Chicago:20250715T174500
DTEND;TZID=America/Chicago:20250715T190000
DTSTAMP:20260423T062952
CREATED:20250617T181022Z
LAST-MODIFIED:20250715T032425Z
UID:10000839-1752601500-1752606000@eaglepointseniorliving.com
SUMMARY:Pierce Park Concert
DESCRIPTION:Sign up at the front desk! Be in the lobby by 5:45 PM\, bus will load and depart at 6:00 PM or earlier if all are gathered. Concert starts at 7:00 PM
URL:https://eaglepointseniorliving.com/event-calendar/pierce-park-concert-6/
LOCATION:Lobby
CATEGORIES:Assisted Living
END:VEVENT
BEGIN:VEVENT
DTSTART;TZID=America/Chicago:20250715T143000
DTEND;TZID=America/Chicago:20250715T153000
DTSTAMP:20260423T062952
CREATED:20250617T181022Z
LAST-MODIFIED:20250715T032425Z
UID:10000838-1752589800-1752593400@eaglepointseniorliving.com
SUMMARY:Jeopardy with Ginger
DESCRIPTION:
URL:https://eaglepointseniorliving.com/event-calendar/jeopardy-with-ginger-7/
LOCATION:Art Room
CATEGORIES:Assisted Living
END:VEVENT
BEGIN:VEVENT
DTSTART;TZID=America/Chicago:20250715T140000
DTEND;TZID=America/Chicago:20250715T143000
DTSTAMP:20260423T062952
CREATED:20250617T181022Z
LAST-MODIFIED:20250715T032425Z
UID:10000837-1752588000-1752589800@eaglepointseniorliving.com
SUMMARY:Smoothie Tuesdays
DESCRIPTION:Join us each Tuesday as we make fresh protein smoothies each week in the lobby at 2:00pm. Each week will be a different flavor!
URL:https://eaglepointseniorliving.com/event-calendar/smoothie-tuesdays-10/
LOCATION:Lobby
CATEGORIES:Assisted Living
END:VEVENT
BEGIN:VEVENT
DTSTART;TZID=America/Chicago:20250715T130000
DTEND;TZID=America/Chicago:20250715T140000
DTSTAMP:20260423T062952
CREATED:20250619T012444Z
LAST-MODIFIED:20250715T032425Z
UID:10000898-1752584400-1752588000@eaglepointseniorliving.com
SUMMARY:Grip Games
DESCRIPTION:Work with your teammates to improve your grip strength which is linked to greater independence and improved overall health.
URL:https://eaglepointseniorliving.com/event-calendar/grip-games/
LOCATION:Wellness Room
CATEGORIES:Assisted Living
END:VEVENT
BEGIN:VEVENT
DTSTART;TZID=America/Chicago:20250715T104500
DTEND;TZID=America/Chicago:20250715T113000
DTSTAMP:20260423T062952
CREATED:20250711T032502Z
LAST-MODIFIED:20250715T032425Z
UID:10001268-1752576300-1752579000@eaglepointseniorliving.com
SUMMARY:Game Time with Hailey
DESCRIPTION:Join Hailey to play Apples to Apples!
URL:https://eaglepointseniorliving.com/event-calendar/game-time-with-hailey-2/
LOCATION:Art Room
CATEGORIES:Assisted Living
END:VEVENT
END:VCALENDAR