BEGIN:VCALENDAR
VERSION:2.0
PRODID:-//Eagle Point Senior Living - ECPv6.11.2.1//NONSGML v1.0//EN
CALSCALE:GREGORIAN
METHOD:PUBLISH
X-WR-CALNAME:Eagle Point Senior Living
X-ORIGINAL-URL:https://eaglepointseniorliving.com
X-WR-CALDESC:Events for Eagle Point Senior Living
REFRESH-INTERVAL;VALUE=DURATION:PT1H
X-Robots-Tag:noindex
X-PUBLISHED-TTL:PT1H
BEGIN:VTIMEZONE
TZID:America/Chicago
BEGIN:DAYLIGHT
TZOFFSETFROM:-0600
TZOFFSETTO:-0500
TZNAME:CDT
DTSTART:20250309T080000
END:DAYLIGHT
BEGIN:STANDARD
TZOFFSETFROM:-0500
TZOFFSETTO:-0600
TZNAME:CST
DTSTART:20251102T070000
END:STANDARD
END:VTIMEZONE
BEGIN:VEVENT
DTSTART;TZID=America/Chicago:20250814T180000
DTEND;TZID=America/Chicago:20250814T190000
DTSTAMP:20260422T054834
CREATED:20250716T034003Z
LAST-MODIFIED:20250814T052444Z
UID:10001335-1755194400-1755198000@eaglepointseniorliving.com
SUMMARY:Bingo
DESCRIPTION:Bingo is a fun\, low-pressure game that supports cognitive skills like memory\, attention\, and pattern recognition while encouraging social interaction and emotional well-being. Its adaptability makes it accessible for various ability levels\, offering joy\, routine\, and community.
URL:https://eaglepointseniorliving.com/event-calendar/bingo-8/
LOCATION:Art Room
CATEGORIES:Assisted Living
END:VEVENT
BEGIN:VEVENT
DTSTART;TZID=America/Chicago:20250814T150000
DTEND;TZID=America/Chicago:20250814T160000
DTSTAMP:20260422T054834
CREATED:20250716T034003Z
LAST-MODIFIED:20250814T052444Z
UID:10001334-1755183600-1755187200@eaglepointseniorliving.com
SUMMARY:Sing-along
DESCRIPTION:A joyful\, interactive activity to sing familiar songs promoting social engagement\, memory recall\, and emotional well-being.
URL:https://eaglepointseniorliving.com/event-calendar/sing-along-13/
LOCATION:2nd Floor Lounge
CATEGORIES:Assisted Living
END:VEVENT
BEGIN:VEVENT
DTSTART;TZID=America/Chicago:20250814T130000
DTEND;TZID=America/Chicago:20250814T140000
DTSTAMP:20260422T054834
CREATED:20250809T051006Z
LAST-MODIFIED:20250814T052444Z
UID:10001682-1755176400-1755180000@eaglepointseniorliving.com
SUMMARY:Cornhole/Bags
DESCRIPTION:Try out this easy and active game\, easy to learn\, easy to play!
URL:https://eaglepointseniorliving.com/event-calendar/cornhole-bags-2/
LOCATION:Wellness Room
CATEGORIES:Assisted Living
END:VEVENT
BEGIN:VEVENT
DTSTART;TZID=America/Chicago:20250814T104500
DTEND;TZID=America/Chicago:20250814T113000
DTSTAMP:20260422T054834
CREATED:20250802T042503Z
LAST-MODIFIED:20250814T052444Z
UID:10001592-1755168300-1755171000@eaglepointseniorliving.com
SUMMARY:Craft: S'more treats & Decorate School Donation Boxes
DESCRIPTION:All abilities welcome!! Make treats and decorate the school supply boxes for Edison school!\nJoin us for 45 minutes of creativity\, stress reduction\, and cognitive and motor skill building.
URL:https://eaglepointseniorliving.com/event-calendar/craft-17/
LOCATION:Art Room
CATEGORIES:Assisted Living
END:VEVENT
BEGIN:VEVENT
DTSTART;TZID=America/Chicago:20250814T103000
DTEND;TZID=America/Chicago:20250814T111500
DTSTAMP:20260422T054834
CREATED:20250716T034003Z
LAST-MODIFIED:20250814T052444Z
UID:10001332-1755167400-1755170100@eaglepointseniorliving.com
SUMMARY:Empowered by Movement
DESCRIPTION:Experience the joy and fun of movement\, improve balance and coordination\, and boost your confidence through movement!
URL:https://eaglepointseniorliving.com/event-calendar/empowered-by-movement-3/
LOCATION:Wellness Room
CATEGORIES:Assisted Living
END:VEVENT
BEGIN:VEVENT
DTSTART;TZID=America/Chicago:20250814T100000
DTEND;TZID=America/Chicago:20250814T110000
DTSTAMP:20260422T054834
CREATED:20250716T034003Z
LAST-MODIFIED:20250814T052444Z
UID:10001330-1755165600-1755169200@eaglepointseniorliving.com
SUMMARY:Catholic Communion
DESCRIPTION:Corporate communion presided over by a deacon or layperson with hymns and rosary.
URL:https://eaglepointseniorliving.com/event-calendar/catholic-communion-11/
LOCATION:TH
CATEGORIES:Assisted Living
END:VEVENT
BEGIN:VEVENT
DTSTART;TZID=America/Chicago:20250814T091500
DTEND;TZID=America/Chicago:20250814T094500
DTSTAMP:20260422T054834
CREATED:20250716T034003Z
LAST-MODIFIED:20250814T052444Z
UID:10001329-1755162900-1755164700@eaglepointseniorliving.com
SUMMARY:Daily Devotions
DESCRIPTION:Chaplain Peter will lead us in morning daily devotions\, Monday-Friday
URL:https://eaglepointseniorliving.com/event-calendar/daily-devotions-65/
LOCATION:Library
CATEGORIES:Assisted Living
END:VEVENT
BEGIN:VEVENT
DTSTART;TZID=America/Chicago:20250813T150000
DTEND;TZID=America/Chicago:20250813T160000
DTSTAMP:20260422T054834
CREATED:20250715T032431Z
LAST-MODIFIED:20250813T052441Z
UID:10001319-1755097200-1755100800@eaglepointseniorliving.com
SUMMARY:Cribbage
DESCRIPTION:
URL:https://eaglepointseniorliving.com/event-calendar/cribbage-14/
LOCATION:Art Room
CATEGORIES:Assisted Living
END:VEVENT
BEGIN:VEVENT
DTSTART;TZID=America/Chicago:20250813T150000
DTEND;TZID=America/Chicago:20250813T160000
DTSTAMP:20260422T054834
CREATED:20250715T032430Z
LAST-MODIFIED:20250813T052441Z
UID:10001318-1755097200-1755100800@eaglepointseniorliving.com
SUMMARY:Church Service with Chaplain Peter
DESCRIPTION:
URL:https://eaglepointseniorliving.com/event-calendar/church-service-with-chaplain-peter-15/
LOCATION:Theater
CATEGORIES:Assisted Living
END:VEVENT
BEGIN:VEVENT
DTSTART;TZID=America/Chicago:20250813T140000
DTEND;TZID=America/Chicago:20250813T150000
DTSTAMP:20260422T054834
CREATED:20250809T051006Z
LAST-MODIFIED:20250813T052441Z
UID:10001681-1755093600-1755097200@eaglepointseniorliving.com
SUMMARY:Games in the Art Room Mahjong/Rummikub
DESCRIPTION:
URL:https://eaglepointseniorliving.com/event-calendar/games-in-the-art-room-mahjong-rummikub/
LOCATION:Art Room
CATEGORIES:Assisted Living
END:VEVENT
BEGIN:VEVENT
DTSTART;TZID=America/Chicago:20250813T130000
DTEND;TZID=America/Chicago:20250813T140000
DTSTAMP:20260422T054834
CREATED:20250715T032430Z
LAST-MODIFIED:20250813T052441Z
UID:10001317-1755090000-1755093600@eaglepointseniorliving.com
SUMMARY:Speaker: Habitat for Humanity
DESCRIPTION:John Weyenberg\, Executive Director of Habitat for Humanity\, will tell us about the history of the organization and inform us about the projects currently in progress as well as what’s in store for the future.
URL:https://eaglepointseniorliving.com/event-calendar/speaker-habitat-for-humanity/
LOCATION:Theater
CATEGORIES:Assisted Living
END:VEVENT
BEGIN:VEVENT
DTSTART;TZID=America/Chicago:20250813T104500
DTEND;TZID=America/Chicago:20250813T113000
DTSTAMP:20260422T054834
CREATED:20250715T032430Z
LAST-MODIFIED:20250813T052441Z
UID:10001316-1755081900-1755084600@eaglepointseniorliving.com
SUMMARY:Month of August New Zealand-Animals of New Zealand
DESCRIPTION:New Zealand’s past\, there are many unique types of flora and fauna native to the islands. Along with unique native species\, New Zealand is also home to many exotic types of animal species. Originally\, New Zealand had very few predator mammals\, leading to the increased evolution of flightless birds.
URL:https://eaglepointseniorliving.com/event-calendar/month-of-august-travels-to-new-zealand-2/
LOCATION:Art Room
CATEGORIES:Assisted Living
END:VEVENT
BEGIN:VEVENT
DTSTART;TZID=America/Chicago:20250813T100000
DTEND;TZID=America/Chicago:20250813T103000
DTSTAMP:20260422T054834
CREATED:20250715T032430Z
LAST-MODIFIED:20250813T052441Z
UID:10001315-1755079200-1755081000@eaglepointseniorliving.com
SUMMARY:Exercise Class: Mix
DESCRIPTION:
URL:https://eaglepointseniorliving.com/event-calendar/exercise-class-mix-9/
LOCATION:Wellness Room
CATEGORIES:Assisted Living
END:VEVENT
BEGIN:VEVENT
DTSTART;TZID=America/Chicago:20250813T091500
DTEND;TZID=America/Chicago:20250813T094500
DTSTAMP:20260422T054834
CREATED:20250715T032430Z
LAST-MODIFIED:20250813T052441Z
UID:10001314-1755076500-1755078300@eaglepointseniorliving.com
SUMMARY:Daily Devotions
DESCRIPTION:Chaplain Peter will lead us in morning daily devotions\, Monday-Friday
URL:https://eaglepointseniorliving.com/event-calendar/daily-devotions-64/
LOCATION:Library
CATEGORIES:Assisted Living
END:VEVENT
BEGIN:VEVENT
DTSTART;TZID=America/Chicago:20250812T174500
DTEND;TZID=America/Chicago:20250812T200000
DTSTAMP:20260422T054834
CREATED:20250714T032429Z
LAST-MODIFIED:20250812T052621Z
UID:10001306-1755020700-1755028800@eaglepointseniorliving.com
SUMMARY:Pierce Park Concert
DESCRIPTION:Sign up at the front desk! Be in the lobby by 5:45 PM\, bus will load and depart at 6:00 PM or earlier if all are gathered. Concert starts at 7:00 PM
URL:https://eaglepointseniorliving.com/event-calendar/pierce-park-concert-10/
LOCATION:Lobby
CATEGORIES:Assisted Living
END:VEVENT
BEGIN:VEVENT
DTSTART;TZID=America/Chicago:20250812T160000
DTEND;TZID=America/Chicago:20250812T163000
DTSTAMP:20260422T054834
CREATED:20250714T032429Z
LAST-MODIFIED:20250812T052620Z
UID:10001305-1755014400-1755016200@eaglepointseniorliving.com
SUMMARY:Fire Drill
DESCRIPTION:A fire drill will be conducted. Residents\, please stay in your apartments. If you are in a public space\, follow management directives. Thank you!
URL:https://eaglepointseniorliving.com/event-calendar/fire-drill-4/
LOCATION:Building
CATEGORIES:Assisted Living
END:VEVENT
BEGIN:VEVENT
DTSTART;TZID=America/Chicago:20250812T153000
DTEND;TZID=America/Chicago:20250812T163000
DTSTAMP:20260422T054834
CREATED:20250722T040935Z
LAST-MODIFIED:20250812T052620Z
UID:10001424-1755012600-1755016200@eaglepointseniorliving.com
SUMMARY:Famous Person of the Week-Russel Crowe
DESCRIPTION:
URL:https://eaglepointseniorliving.com/event-calendar/famous-person-of-the-week-2/
LOCATION:Art Room
CATEGORIES:Assisted Living
END:VEVENT
BEGIN:VEVENT
DTSTART;TZID=America/Chicago:20250812T143000
DTEND;TZID=America/Chicago:20250812T153000
DTSTAMP:20260422T054834
CREATED:20250714T032429Z
LAST-MODIFIED:20250812T052620Z
UID:10001303-1755009000-1755012600@eaglepointseniorliving.com
SUMMARY:Jeopardy with Ginger
DESCRIPTION:
URL:https://eaglepointseniorliving.com/event-calendar/jeopardy-with-ginger-9/
LOCATION:Art Room
CATEGORIES:Assisted Living
END:VEVENT
BEGIN:VEVENT
DTSTART;TZID=America/Chicago:20250812T140000
DTEND;TZID=America/Chicago:20250812T143000
DTSTAMP:20260422T054834
CREATED:20250714T032429Z
LAST-MODIFIED:20250812T052620Z
UID:10001302-1755007200-1755009000@eaglepointseniorliving.com
SUMMARY:Smoothie Tuesdays
DESCRIPTION:Join us each Tuesday as we make fresh protein smoothies each week in the lobby at 2:00pm. Each week will be a different flavor!
URL:https://eaglepointseniorliving.com/event-calendar/smoothie-tuesdays-14/
LOCATION:Lobby
CATEGORIES:Assisted Living
END:VEVENT
BEGIN:VEVENT
DTSTART;TZID=America/Chicago:20250812T124500
DTEND;TZID=America/Chicago:20250812T140000
DTSTAMP:20260422T054834
CREATED:20250714T032429Z
LAST-MODIFIED:20250812T052620Z
UID:10001301-1755002700-1755007200@eaglepointseniorliving.com
SUMMARY:Grip Games
DESCRIPTION:Work with your teammates to improve your grip strength which is linked to greater independence and improved overall health.
URL:https://eaglepointseniorliving.com/event-calendar/grip-games-9/
LOCATION:Wellness Room
CATEGORIES:Assisted Living
END:VEVENT
BEGIN:VEVENT
DTSTART;TZID=America/Chicago:20250812T100000
DTEND;TZID=America/Chicago:20250812T103000
DTSTAMP:20260422T054834
CREATED:20250714T032429Z
LAST-MODIFIED:20250812T052620Z
UID:10001300-1754992800-1754994600@eaglepointseniorliving.com
SUMMARY:Walk Group
DESCRIPTION:Meet in the lobby and come walk outside as a group!
URL:https://eaglepointseniorliving.com/event-calendar/walk-group-5/
LOCATION:Lobby
CATEGORIES:Assisted Living
END:VEVENT
BEGIN:VEVENT
DTSTART;TZID=America/Chicago:20250812T091500
DTEND;TZID=America/Chicago:20250812T094500
DTSTAMP:20260422T054834
CREATED:20250714T032429Z
LAST-MODIFIED:20250812T052620Z
UID:10001299-1754990100-1754991900@eaglepointseniorliving.com
SUMMARY:Daily Devotions
DESCRIPTION:Chaplain Peter will lead us in morning daily devotions\, Monday-Friday
URL:https://eaglepointseniorliving.com/event-calendar/daily-devotions-63/
LOCATION:Library
CATEGORIES:Assisted Living
END:VEVENT
BEGIN:VEVENT
DTSTART;TZID=America/Chicago:20250811T180000
DTEND;TZID=America/Chicago:20250811T203000
DTSTAMP:20260422T054834
CREATED:20250713T032512Z
LAST-MODIFIED:20250811T050952Z
UID:10001293-1754935200-1754944200@eaglepointseniorliving.com
SUMMARY:Monday Evening Movie-"Gladiator"
DESCRIPTION:
URL:https://eaglepointseniorliving.com/event-calendar/monday-evening-movie-9/
LOCATION:Theater
CATEGORIES:Assisted Living
END:VEVENT
BEGIN:VEVENT
DTSTART;TZID=America/Chicago:20250811T150000
DTEND;TZID=America/Chicago:20250811T160000
DTSTAMP:20260422T054834
CREATED:20250808T050922Z
LAST-MODIFIED:20250811T050952Z
UID:10001671-1754924400-1754928000@eaglepointseniorliving.com
SUMMARY:Current Events
DESCRIPTION:
URL:https://eaglepointseniorliving.com/event-calendar/current-events-16/
LOCATION:TH
CATEGORIES:Assisted Living
END:VEVENT
BEGIN:VEVENT
DTSTART;TZID=America/Chicago:20250811T140000
DTEND;TZID=America/Chicago:20250811T150000
DTSTAMP:20260422T054834
CREATED:20250721T041028Z
LAST-MODIFIED:20250811T050951Z
UID:10001407-1754920800-1754924400@eaglepointseniorliving.com
SUMMARY:Bocce Ball/Cornhole
DESCRIPTION:Meet outside on the Bocce Ball courts OR if it’s raining come down to the Wellness Room to play corn hole/bags.
URL:https://eaglepointseniorliving.com/event-calendar/bocce-ball-9/
LOCATION:Wellness Room
CATEGORIES:Assisted Living
END:VEVENT
BEGIN:VEVENT
DTSTART;TZID=America/Chicago:20250811T133000
DTEND;TZID=America/Chicago:20250811T143000
DTSTAMP:20260422T054834
CREATED:20250730T042424Z
LAST-MODIFIED:20250811T050951Z
UID:10001546-1754919000-1754922600@eaglepointseniorliving.com
SUMMARY:Grocery: Festival
DESCRIPTION:Sign up at the front desk. We need at least three to sign up to make the trip. Thank you!
URL:https://eaglepointseniorliving.com/event-calendar/grocery-festival/
LOCATION:Lobby
CATEGORIES:Assisted Living
END:VEVENT
BEGIN:VEVENT
DTSTART;TZID=America/Chicago:20250811T130000
DTEND;TZID=America/Chicago:20250811T140000
DTSTAMP:20260422T054834
CREATED:20250713T032512Z
LAST-MODIFIED:20250811T050951Z
UID:10001292-1754917200-1754920800@eaglepointseniorliving.com
SUMMARY:Knit Pickers Group: First Floor Alcove
DESCRIPTION:All levels and abilities are invited to attend\, whether you want to work on your own project\, or work on one of the group projects! Knitting\, crochet\, or any type of fiber art included. Location: First floor alcove.
URL:https://eaglepointseniorliving.com/event-calendar/knit-pickers-group-first-floor-alcove-2/
LOCATION:1st Floor Alcove
CATEGORIES:Assisted Living
END:VEVENT
BEGIN:VEVENT
DTSTART;TZID=America/Chicago:20250811T104500
DTEND;TZID=America/Chicago:20250811T113000
DTSTAMP:20260422T054834
CREATED:20250808T050922Z
LAST-MODIFIED:20250811T050951Z
UID:10001670-1754909100-1754911800@eaglepointseniorliving.com
SUMMARY:Tech Day: Photos-taking & storage
DESCRIPTION:Bring in your device to get changed over to the new server or come in with any questions!
URL:https://eaglepointseniorliving.com/event-calendar/tech-day/
LOCATION:Art Room
CATEGORIES:Assisted Living
END:VEVENT
BEGIN:VEVENT
DTSTART;TZID=America/Chicago:20250811T100000
DTEND;TZID=America/Chicago:20250811T103000
DTSTAMP:20260422T054834
CREATED:20250713T032512Z
LAST-MODIFIED:20250811T050951Z
UID:10001290-1754906400-1754908200@eaglepointseniorliving.com
SUMMARY:Weight Resistance Class
DESCRIPTION:A weight resistance class led by our resident Linda!
URL:https://eaglepointseniorliving.com/event-calendar/weight-resistance-class-26/
LOCATION:Wellness Room
CATEGORIES:Assisted Living
END:VEVENT
BEGIN:VEVENT
DTSTART;TZID=America/Chicago:20250811T091500
DTEND;TZID=America/Chicago:20250811T094500
DTSTAMP:20260422T054834
CREATED:20250713T032512Z
LAST-MODIFIED:20250811T050951Z
UID:10001289-1754903700-1754905500@eaglepointseniorliving.com
SUMMARY:Daily Devotions
DESCRIPTION:Chaplain Peter will lead us in morning daily devotions\, Monday-Friday
URL:https://eaglepointseniorliving.com/event-calendar/daily-devotions-62/
LOCATION:Library
CATEGORIES:Assisted Living
END:VEVENT
END:VCALENDAR