BEGIN:VCALENDAR
VERSION:2.0
PRODID:-//Eagle Point Senior Living - ECPv6.11.2.1//NONSGML v1.0//EN
CALSCALE:GREGORIAN
METHOD:PUBLISH
X-WR-CALNAME:Eagle Point Senior Living
X-ORIGINAL-URL:https://eaglepointseniorliving.com
X-WR-CALDESC:Events for Eagle Point Senior Living
REFRESH-INTERVAL;VALUE=DURATION:PT1H
X-Robots-Tag:noindex
X-PUBLISHED-TTL:PT1H
BEGIN:VTIMEZONE
TZID:America/Chicago
BEGIN:DAYLIGHT
TZOFFSETFROM:-0600
TZOFFSETTO:-0500
TZNAME:CDT
DTSTART:20250309T080000
END:DAYLIGHT
BEGIN:STANDARD
TZOFFSETFROM:-0500
TZOFFSETTO:-0600
TZNAME:CST
DTSTART:20251102T070000
END:STANDARD
END:VTIMEZONE
BEGIN:VEVENT
DTSTART;TZID=America/Chicago:20250823T093000
DTEND;TZID=America/Chicago:20250823T103000
DTSTAMP:20260419T222837
CREATED:20250725T042553Z
LAST-MODIFIED:20250823T053924Z
UID:10001465-1755941400-1755945000@eaglepointseniorliving.com
SUMMARY:Saturday Morning Chat and Coffee
DESCRIPTION:
URL:https://eaglepointseniorliving.com/event-calendar/saturday-morning-chat-and-coffee-15/
LOCATION:Lobby
CATEGORIES:Assisted Living
END:VEVENT
BEGIN:VEVENT
DTSTART;TZID=America/Chicago:20250822T150000
DTEND;TZID=America/Chicago:20250822T160000
DTSTAMP:20260419T222837
CREATED:20250815T052437Z
LAST-MODIFIED:20250822T053923Z
UID:10001765-1755874800-1755878400@eaglepointseniorliving.com
SUMMARY:Music Bingo
DESCRIPTION:
URL:https://eaglepointseniorliving.com/event-calendar/music-bingo/
LOCATION:AR
CATEGORIES:Assisted Living
END:VEVENT
BEGIN:VEVENT
DTSTART;TZID=America/Chicago:20250822T140000
DTEND;TZID=America/Chicago:20250822T150000
DTSTAMP:20260419T222837
CREATED:20250724T040934Z
LAST-MODIFIED:20250822T053923Z
UID:10001457-1755871200-1755874800@eaglepointseniorliving.com
SUMMARY:Living with Grief and Loss
DESCRIPTION:A semi-structured conversation about grief and loss\, led by Chaplain Peter.  Every month there will be topics for discussion or a short presentation\, as well as time for open discussion.
URL:https://eaglepointseniorliving.com/event-calendar/living-with-grief-and-loss-3/
LOCATION:Theater
CATEGORIES:Assisted Living
END:VEVENT
BEGIN:VEVENT
DTSTART;TZID=America/Chicago:20250822T130000
DTEND;TZID=America/Chicago:20250822T140000
DTSTAMP:20260419T222837
CREATED:20250724T040934Z
LAST-MODIFIED:20250822T053923Z
UID:10001456-1755867600-1755871200@eaglepointseniorliving.com
SUMMARY:Lifespark Games: Really Big Show
DESCRIPTION:Don’t miss the Lifespark Games Really Big Show\, where we reveal the scores and standings for all participating communities. It’s a fun way to celebrate everyone’s hard work\, cheer on your peers\, and see how our team stacks up!
URL:https://eaglepointseniorliving.com/event-calendar/lifespark-games-really-big-show-6/
LOCATION:Wellness Room
CATEGORIES:Assisted Living
END:VEVENT
BEGIN:VEVENT
DTSTART;TZID=America/Chicago:20250822T104500
DTEND;TZID=America/Chicago:20250822T120000
DTSTAMP:20260419T222837
CREATED:20250814T052444Z
LAST-MODIFIED:20250822T053923Z
UID:10001752-1755859500-1755864000@eaglepointseniorliving.com
SUMMARY:Breakfast Outing to Black Bear(Sign up at Front Desk)
DESCRIPTION:
URL:https://eaglepointseniorliving.com/event-calendar/breakfast-outing-to-black-bearsign-up-at-front-desk/
LOCATION:Lobby
CATEGORIES:Assisted Living
END:VEVENT
BEGIN:VEVENT
DTSTART;TZID=America/Chicago:20250822T100000
DTEND;TZID=America/Chicago:20250822T103000
DTSTAMP:20260419T222837
CREATED:20250724T040934Z
LAST-MODIFIED:20250822T053923Z
UID:10001454-1755856800-1755858600@eaglepointseniorliving.com
SUMMARY:Weight Resistance Class
DESCRIPTION:A weight resistance class led by our resident Linda!
URL:https://eaglepointseniorliving.com/event-calendar/weight-resistance-class-29/
LOCATION:Wellness Room
CATEGORIES:Assisted Living
END:VEVENT
BEGIN:VEVENT
DTSTART;TZID=America/Chicago:20250822T091500
DTEND;TZID=America/Chicago:20250822T094500
DTSTAMP:20260419T222837
CREATED:20250724T040934Z
LAST-MODIFIED:20250822T053923Z
UID:10001453-1755854100-1755855900@eaglepointseniorliving.com
SUMMARY:Daily Devotions
DESCRIPTION:Chaplain Peter will lead us in morning daily devotions\, Monday-Friday
URL:https://eaglepointseniorliving.com/event-calendar/daily-devotions-71/
LOCATION:Library
CATEGORIES:Assisted Living
END:VEVENT
BEGIN:VEVENT
DTSTART;TZID=America/Chicago:20250821T170000
DTEND;TZID=America/Chicago:20250821T190000
DTSTAMP:20260419T222837
CREATED:20250723T040939Z
LAST-MODIFIED:20250821T053926Z
UID:10001445-1755795600-1755802800@eaglepointseniorliving.com
SUMMARY:Outing to Dinner with Dawn at Michael's
DESCRIPTION:Sign up required at the front desk. Max 11. Dawn will load the bus promptly at 4:45 PM and depart by 5:00 PM or earlier if everyone is ready.
URL:https://eaglepointseniorliving.com/event-calendar/outing-to-dinner-with-dawn-2/
LOCATION:Lobby
CATEGORIES:Assisted Living
END:VEVENT
BEGIN:VEVENT
DTSTART;TZID=America/Chicago:20250821T150000
DTEND;TZID=America/Chicago:20250821T160000
DTSTAMP:20260419T222837
CREATED:20250723T040938Z
LAST-MODIFIED:20250821T053926Z
UID:10001444-1755788400-1755792000@eaglepointseniorliving.com
SUMMARY:Sing-along
DESCRIPTION:A joyful\, interactive activity to sing familiar songs promoting social engagement\, memory recall\, and emotional well-being.
URL:https://eaglepointseniorliving.com/event-calendar/sing-along-14/
LOCATION:2nd Floor Lounge
CATEGORIES:Assisted Living
END:VEVENT
BEGIN:VEVENT
DTSTART;TZID=America/Chicago:20250821T143000
DTEND;TZID=America/Chicago:20250821T150000
DTSTAMP:20260419T222837
CREATED:20250723T040938Z
LAST-MODIFIED:20250821T053926Z
UID:10001443-1755786600-1755788400@eaglepointseniorliving.com
SUMMARY:Food Forum
DESCRIPTION:Residents are invited to share their concerns and comments for Culinary Directory Kiaya.
URL:https://eaglepointseniorliving.com/event-calendar/food-forum-4/
LOCATION:Art Room
CATEGORIES:Assisted Living
END:VEVENT
BEGIN:VEVENT
DTSTART;TZID=America/Chicago:20250821T130000
DTEND;TZID=America/Chicago:20250821T140000
DTSTAMP:20260419T222837
CREATED:20250815T052437Z
LAST-MODIFIED:20250821T053926Z
UID:10001764-1755781200-1755784800@eaglepointseniorliving.com
SUMMARY:Clay Scentables Craft
DESCRIPTION:Join us for some crafting and aromatherapy. Create an aroma diffusing clay creation for yourself or as a gift.
URL:https://eaglepointseniorliving.com/event-calendar/clay-scentables-craft/
LOCATION:Art Room
CATEGORIES:Assisted Living
END:VEVENT
BEGIN:VEVENT
DTSTART;TZID=America/Chicago:20250821T104500
DTEND;TZID=America/Chicago:20250821T113000
DTSTAMP:20260419T222837
CREATED:20250802T042504Z
LAST-MODIFIED:20250821T053926Z
UID:10001593-1755773100-1755775800@eaglepointseniorliving.com
SUMMARY:Craft: Nature Journaling the John Muir Way!
DESCRIPTION:All abilities welcome!! Join us for 45 minutes of creativity\, stress reduction\, and cognitive and motor skill building.
URL:https://eaglepointseniorliving.com/event-calendar/craft-18/
LOCATION:Art Room
CATEGORIES:Assisted Living
END:VEVENT
BEGIN:VEVENT
DTSTART;TZID=America/Chicago:20250821T100000
DTEND;TZID=America/Chicago:20250821T110000
DTSTAMP:20260419T222837
CREATED:20250723T040938Z
LAST-MODIFIED:20250821T053926Z
UID:10001440-1755770400-1755774000@eaglepointseniorliving.com
SUMMARY:Catholic Mass
DESCRIPTION:Catholic Mass presided over by a priest.
URL:https://eaglepointseniorliving.com/event-calendar/catholic-mass-4/
LOCATION:Theater
CATEGORIES:Assisted Living
END:VEVENT
BEGIN:VEVENT
DTSTART;TZID=America/Chicago:20250821T091500
DTEND;TZID=America/Chicago:20250821T094500
DTSTAMP:20260419T222837
CREATED:20250723T040938Z
LAST-MODIFIED:20250821T053926Z
UID:10001439-1755767700-1755769500@eaglepointseniorliving.com
SUMMARY:Daily Devotions
DESCRIPTION:Chaplain Peter will lead us in morning daily devotions\, Monday-Friday
URL:https://eaglepointseniorliving.com/event-calendar/daily-devotions-70/
LOCATION:Library
CATEGORIES:Assisted Living
END:VEVENT
BEGIN:VEVENT
DTSTART;TZID=America/Chicago:20250820T150000
DTEND;TZID=America/Chicago:20250820T160000
DTSTAMP:20260419T222837
CREATED:20250722T040937Z
LAST-MODIFIED:20250820T053927Z
UID:10001430-1755702000-1755705600@eaglepointseniorliving.com
SUMMARY:Cribbage
DESCRIPTION:
URL:https://eaglepointseniorliving.com/event-calendar/cribbage-15/
LOCATION:Art Room
CATEGORIES:Assisted Living
END:VEVENT
BEGIN:VEVENT
DTSTART;TZID=America/Chicago:20250820T150000
DTEND;TZID=America/Chicago:20250820T160000
DTSTAMP:20260419T222837
CREATED:20250722T040936Z
LAST-MODIFIED:20250820T053927Z
UID:10001429-1755702000-1755705600@eaglepointseniorliving.com
SUMMARY:Church Service with Chaplain Peter
DESCRIPTION:
URL:https://eaglepointseniorliving.com/event-calendar/church-service-with-chaplain-peter-16/
LOCATION:Theater
CATEGORIES:Assisted Living
END:VEVENT
BEGIN:VEVENT
DTSTART;TZID=America/Chicago:20250820T140000
DTEND;TZID=America/Chicago:20250820T150000
DTSTAMP:20260419T222837
CREATED:20250813T052441Z
LAST-MODIFIED:20250820T053927Z
UID:10001733-1755698400-1755702000@eaglepointseniorliving.com
SUMMARY:NOTE DATE CHANGE Jeopardy with Brenda
DESCRIPTION:
URL:https://eaglepointseniorliving.com/event-calendar/note-date-change-jeopardy-with-brenda/
LOCATION:Art Room
CATEGORIES:Assisted Living
END:VEVENT
BEGIN:VEVENT
DTSTART;TZID=America/Chicago:20250820T130000
DTEND;TZID=America/Chicago:20250820T140000
DTSTAMP:20260419T222837
CREATED:20250726T042427Z
LAST-MODIFIED:20250820T053927Z
UID:10001479-1755694800-1755698400@eaglepointseniorliving.com
SUMMARY:Thoughtful Theater: Dead Poets Society
DESCRIPTION:A discussion of the film “Dead Poets Society”\, led by Chaplain Peter.
URL:https://eaglepointseniorliving.com/event-calendar/thoughtful-theater-dead-poets-society-2/
LOCATION:Theater
CATEGORIES:Assisted Living
END:VEVENT
BEGIN:VEVENT
DTSTART;TZID=America/Chicago:20250820T104500
DTEND;TZID=America/Chicago:20250820T113000
DTSTAMP:20260419T222837
CREATED:20250722T040936Z
LAST-MODIFIED:20250820T053927Z
UID:10001428-1755686700-1755689400@eaglepointseniorliving.com
SUMMARY:New Zealand-Famous New Zealanders
DESCRIPTION:Special Days for Kiwi’s and the people of New Zealand
URL:https://eaglepointseniorliving.com/event-calendar/month-of-august-travels-to-new-zealand-3/
LOCATION:Art Room
CATEGORIES:Assisted Living
END:VEVENT
BEGIN:VEVENT
DTSTART;TZID=America/Chicago:20250820T100000
DTEND;TZID=America/Chicago:20250820T103000
DTSTAMP:20260419T222837
CREATED:20250722T040936Z
LAST-MODIFIED:20250820T053927Z
UID:10001427-1755684000-1755685800@eaglepointseniorliving.com
SUMMARY:Exercise Class: Mix
DESCRIPTION:
URL:https://eaglepointseniorliving.com/event-calendar/exercise-class-mix-10/
LOCATION:Wellness Room
CATEGORIES:Assisted Living
END:VEVENT
BEGIN:VEVENT
DTSTART;TZID=America/Chicago:20250820T091500
DTEND;TZID=America/Chicago:20250820T094500
DTSTAMP:20260419T222837
CREATED:20250722T040936Z
LAST-MODIFIED:20250820T053927Z
UID:10001426-1755681300-1755683100@eaglepointseniorliving.com
SUMMARY:Daily Devotions
DESCRIPTION:Chaplain Peter will lead us in morning daily devotions\, Monday-Friday
URL:https://eaglepointseniorliving.com/event-calendar/daily-devotions-69/
LOCATION:Library
CATEGORIES:Assisted Living
END:VEVENT
BEGIN:VEVENT
DTSTART;TZID=America/Chicago:20250819T150000
DTEND;TZID=America/Chicago:20250819T160000
DTSTAMP:20260419T222837
CREATED:20250815T052436Z
LAST-MODIFIED:20250819T053945Z
UID:10001763-1755615600-1755619200@eaglepointseniorliving.com
SUMMARY:Brain Games
DESCRIPTION:Test your knowledge on a variety of topics!
URL:https://eaglepointseniorliving.com/event-calendar/brain-games-8/
LOCATION:Art Room
CATEGORIES:Assisted Living
END:VEVENT
BEGIN:VEVENT
DTSTART;TZID=America/Chicago:20250819T143000
DTEND;TZID=America/Chicago:20250819T163000
DTSTAMP:20260419T222837
CREATED:20250812T051026Z
LAST-MODIFIED:20250819T053945Z
UID:10001721-1755613800-1755621000@eaglepointseniorliving.com
SUMMARY:Two for Tuesday Outing: Wagner's & Seymour Farmer's Market
DESCRIPTION:TWO FOR TUESDAY OUTING TO SEYMOUR FARMER’S MARKET AND WAGNER’S MARKET IN BLACK CREEK.  LEAVING AT 2:30 PM-4:30 PM. IF INTERESTED\, PLEASE SIGN UP BY MONDAY AUGUST 18
URL:https://eaglepointseniorliving.com/event-calendar/two-for-tuesday-outing/
LOCATION:Lobby
CATEGORIES:Assisted Living
END:VEVENT
BEGIN:VEVENT
DTSTART;TZID=America/Chicago:20250819T140000
DTEND;TZID=America/Chicago:20250819T143000
DTSTAMP:20260419T222837
CREATED:20250721T041056Z
LAST-MODIFIED:20250819T053945Z
UID:10001411-1755612000-1755613800@eaglepointseniorliving.com
SUMMARY:Smoothie Tuesdays
DESCRIPTION:Join us each Tuesday as we make fresh protein smoothies each week in the lobby at 2:00pm. Each week will be a different flavor!
URL:https://eaglepointseniorliving.com/event-calendar/smoothie-tuesdays-15/
LOCATION:Lobby
CATEGORIES:Assisted Living
END:VEVENT
BEGIN:VEVENT
DTSTART;TZID=America/Chicago:20250819T124500
DTEND;TZID=America/Chicago:20250819T140000
DTSTAMP:20260419T222837
CREATED:20250721T041055Z
LAST-MODIFIED:20250819T053945Z
UID:10001410-1755607500-1755612000@eaglepointseniorliving.com
SUMMARY:Grip Games
DESCRIPTION:Work with your teammates to improve your grip strength which is linked to greater independence and improved overall health.
URL:https://eaglepointseniorliving.com/event-calendar/grip-games-11/
LOCATION:Wellness Room
CATEGORIES:Assisted Living
END:VEVENT
BEGIN:VEVENT
DTSTART;TZID=America/Chicago:20250819T104500
DTEND;TZID=America/Chicago:20250819T113000
DTSTAMP:20260419T222837
CREATED:20250814T052444Z
LAST-MODIFIED:20250819T053945Z
UID:10001751-1755600300-1755603000@eaglepointseniorliving.com
SUMMARY:1939: A Year of Transformation
DESCRIPTION:The beginning of WWII was just one of the many events that changed the world in 1939. Learn more!
URL:https://eaglepointseniorliving.com/event-calendar/1939-a-year-of-transformation/
LOCATION:Art Room
CATEGORIES:Assisted Living
END:VEVENT
BEGIN:VEVENT
DTSTART;TZID=America/Chicago:20250819T100000
DTEND;TZID=America/Chicago:20250819T103000
DTSTAMP:20260419T222837
CREATED:20250721T041055Z
LAST-MODIFIED:20250819T053945Z
UID:10001409-1755597600-1755599400@eaglepointseniorliving.com
SUMMARY:Walk Group
DESCRIPTION:Meet in the lobby and come walk outside as a group!
URL:https://eaglepointseniorliving.com/event-calendar/walk-group-7/
LOCATION:Lobby
CATEGORIES:Assisted Living
END:VEVENT
BEGIN:VEVENT
DTSTART;TZID=America/Chicago:20250819T091500
DTEND;TZID=America/Chicago:20250819T094500
DTSTAMP:20260419T222837
CREATED:20250721T041054Z
LAST-MODIFIED:20250819T053945Z
UID:10001408-1755594900-1755596700@eaglepointseniorliving.com
SUMMARY:Daily Devotions
DESCRIPTION:Chaplain Peter will lead us in morning daily devotions\, Monday-Friday
URL:https://eaglepointseniorliving.com/event-calendar/daily-devotions-68/
LOCATION:Library
CATEGORIES:Assisted Living
END:VEVENT
BEGIN:VEVENT
DTSTART;TZID=America/Chicago:20250818T180000
DTEND;TZID=America/Chicago:20250818T200000
DTSTAMP:20260419T222837
CREATED:20250726T042427Z
LAST-MODIFIED:20250818T053926Z
UID:10001478-1755540000-1755547200@eaglepointseniorliving.com
SUMMARY:Thoughtful Theater: Dead Poet's Society
DESCRIPTION:A new English teacher\, John Keating (Robin Williams)\, is introduced to an all-boys preparatory school that is known for its ancient traditions and high standards. He uses unorthodox methods to reach out to his students\, who face enormous pressures from their parents and the school. With Keating’s help\, students Neil Perry (Robert Sean Leonard)\, Todd Anderson (Ethan Hawke) and others learn to break out of their shells\, pursue their dreams and seize the day.
URL:https://eaglepointseniorliving.com/event-calendar/thoughtful-theater-dead-poets-society/
LOCATION:Theater
CATEGORIES:Assisted Living
END:VEVENT
BEGIN:VEVENT
DTSTART;TZID=America/Chicago:20250818T150000
DTEND;TZID=America/Chicago:20250818T160000
DTSTAMP:20260419T222837
CREATED:20250811T050952Z
LAST-MODIFIED:20250818T053926Z
UID:10001701-1755529200-1755532800@eaglepointseniorliving.com
SUMMARY:Current Events
DESCRIPTION:
URL:https://eaglepointseniorliving.com/event-calendar/current-events-17/
LOCATION:TH
CATEGORIES:Assisted Living
END:VEVENT
END:VCALENDAR