BEGIN:VCALENDAR
VERSION:2.0
PRODID:-//Eagle Point Senior Living - ECPv6.11.2.1//NONSGML v1.0//EN
CALSCALE:GREGORIAN
METHOD:PUBLISH
X-ORIGINAL-URL:https://eaglepointseniorliving.com
X-WR-CALDESC:Events for Eagle Point Senior Living
REFRESH-INTERVAL;VALUE=DURATION:PT1H
X-Robots-Tag:noindex
X-PUBLISHED-TTL:PT1H
BEGIN:VTIMEZONE
TZID:America/Chicago
BEGIN:DAYLIGHT
TZOFFSETFROM:-0600
TZOFFSETTO:-0500
TZNAME:CDT
DTSTART:20250309T080000
END:DAYLIGHT
BEGIN:STANDARD
TZOFFSETFROM:-0500
TZOFFSETTO:-0600
TZNAME:CST
DTSTART:20251102T070000
END:STANDARD
END:VTIMEZONE
BEGIN:VEVENT
DTSTART;TZID=America/Chicago:20250828T104500
DTEND;TZID=America/Chicago:20250828T113000
DTSTAMP:20260419T183100
CREATED:20250730T042428Z
LAST-MODIFIED:20250828T055443Z
UID:10001554-1756377900-1756380600@eaglepointseniorliving.com
SUMMARY:Fused Glass Decoration w/ Glenn (Sign up at the Front Desk)
DESCRIPTION:Cost will be $12 to make one garden stake or ornament of glass. Glenn will have a variety of shapes to pick from but not every shape pictured will be available. You must RSVP at the front desk!! Bring money the day of the class.
URL:https://eaglepointseniorliving.com/event-calendar/rsvp-fused-glass-decoration-w-glenn/
LOCATION:Art Room
CATEGORIES:Assisted Living
END:VEVENT
BEGIN:VEVENT
DTSTART;TZID=America/Chicago:20250828T100000
DTEND;TZID=America/Chicago:20250828T110000
DTSTAMP:20260419T183100
CREATED:20250730T042428Z
LAST-MODIFIED:20250828T055443Z
UID:10001552-1756375200-1756378800@eaglepointseniorliving.com
SUMMARY:Catholic Communion
DESCRIPTION:Corporate communion presided over by a deacon or layperson with hymns and rosary.
URL:https://eaglepointseniorliving.com/event-calendar/catholic-communion-12/
LOCATION:TH
CATEGORIES:Assisted Living
END:VEVENT
BEGIN:VEVENT
DTSTART;TZID=America/Chicago:20250828T091500
DTEND;TZID=America/Chicago:20250828T094500
DTSTAMP:20260419T183100
CREATED:20250730T042428Z
LAST-MODIFIED:20250828T055443Z
UID:10001551-1756372500-1756374300@eaglepointseniorliving.com
SUMMARY:Daily Devotions
DESCRIPTION:Chaplain Peter will lead us in morning daily devotions\, Monday-Friday
URL:https://eaglepointseniorliving.com/event-calendar/daily-devotions-75/
LOCATION:Library
CATEGORIES:Assisted Living
END:VEVENT
BEGIN:VEVENT
DTSTART;TZID=America/Chicago:20250827T150000
DTEND;TZID=America/Chicago:20250827T160000
DTSTAMP:20260419T183100
CREATED:20250729T042502Z
LAST-MODIFIED:20250827T055428Z
UID:10001531-1756306800-1756310400@eaglepointseniorliving.com
SUMMARY:Church Service with Chaplain Peter
DESCRIPTION:
URL:https://eaglepointseniorliving.com/event-calendar/church-service-with-chaplain-peter-17/
LOCATION:Theater
CATEGORIES:Assisted Living
END:VEVENT
BEGIN:VEVENT
DTSTART;TZID=America/Chicago:20250827T150000
DTEND;TZID=America/Chicago:20250827T160000
DTSTAMP:20260419T183100
CREATED:20250729T042502Z
LAST-MODIFIED:20250827T055428Z
UID:10001532-1756306800-1756310400@eaglepointseniorliving.com
SUMMARY:Cribbage
DESCRIPTION:
URL:https://eaglepointseniorliving.com/event-calendar/cribbage-16/
LOCATION:Art Room
CATEGORIES:Assisted Living
END:VEVENT
BEGIN:VEVENT
DTSTART;TZID=America/Chicago:20250827T143000
DTEND;TZID=America/Chicago:20250827T153000
DTSTAMP:20260419T183100
CREATED:20250822T053924Z
LAST-MODIFIED:20250827T055428Z
UID:10001855-1756305000-1756308600@eaglepointseniorliving.com
SUMMARY:Guess the Verdict With Hailey
DESCRIPTION:Listen to challenging court cases and guess the verdict!
URL:https://eaglepointseniorliving.com/event-calendar/guess-the-verdict-with-hailey/
LOCATION:Art Room
CATEGORIES:Assisted Living
END:VEVENT
BEGIN:VEVENT
DTSTART;TZID=America/Chicago:20250827T133000
DTEND;TZID=America/Chicago:20250827T143000
DTSTAMP:20260419T183100
CREATED:20250813T052443Z
LAST-MODIFIED:20250827T055428Z
UID:10001736-1756301400-1756305000@eaglepointseniorliving.com
SUMMARY:Fox Talks: Heart Health with Zach Gambrell
DESCRIPTION:This talk on senior heart health will cover practical ways to keep the heart strong through nutrition\, exercise\, and stress management. It will also provide helpful tips on recognizing warning signs and working with healthcare providers to maintain long-term wellness.
URL:https://eaglepointseniorliving.com/event-calendar/fox-talks-3/
LOCATION:Theater
CATEGORIES:Assisted Living
END:VEVENT
BEGIN:VEVENT
DTSTART;TZID=America/Chicago:20250827T120000
DTEND;TZID=America/Chicago:20250827T124500
DTSTAMP:20260419T183100
CREATED:20250821T053925Z
LAST-MODIFIED:20250827T055428Z
UID:10001835-1756296000-1756298700@eaglepointseniorliving.com
SUMMARY:Lunchtime Organ Recital OUTING (Sign up at the Front Desk)
DESCRIPTION:Bus will load at 11:45 AM\nJared Stellmacher will present the final 2025 Lunchtime Organ Recital at 12:15 at Memorial Presbyterian Church on the Corner of Meade Street and College Ave
URL:https://eaglepointseniorliving.com/event-calendar/lunchtime-organ-recital-outing-sign-up-at-the-front-desk/
CATEGORIES:Assisted Living
END:VEVENT
BEGIN:VEVENT
DTSTART;TZID=America/Chicago:20250827T104500
DTEND;TZID=America/Chicago:20250827T113000
DTSTAMP:20260419T183100
CREATED:20250729T042502Z
LAST-MODIFIED:20250827T055428Z
UID:10001529-1756291500-1756294200@eaglepointseniorliving.com
SUMMARY:Resident Sharing Travels to New Zealand
DESCRIPTION:Residents Sharing of Travels and Experiences
URL:https://eaglepointseniorliving.com/event-calendar/month-of-august-travels-to-new-zealand-4/
LOCATION:Art Room
CATEGORIES:Assisted Living
END:VEVENT
BEGIN:VEVENT
DTSTART;TZID=America/Chicago:20250827T100000
DTEND;TZID=America/Chicago:20250827T103000
DTSTAMP:20260419T183100
CREATED:20250729T042502Z
LAST-MODIFIED:20250827T055428Z
UID:10001528-1756288800-1756290600@eaglepointseniorliving.com
SUMMARY:Exercise Class: Mix
DESCRIPTION:
URL:https://eaglepointseniorliving.com/event-calendar/exercise-class-mix-11/
LOCATION:Wellness Room
CATEGORIES:Assisted Living
END:VEVENT
BEGIN:VEVENT
DTSTART;TZID=America/Chicago:20250827T091500
DTEND;TZID=America/Chicago:20250827T094500
DTSTAMP:20260419T183100
CREATED:20250729T042502Z
LAST-MODIFIED:20250827T055428Z
UID:10001527-1756286100-1756287900@eaglepointseniorliving.com
SUMMARY:Daily Devotions
DESCRIPTION:Chaplain Peter will lead us in morning daily devotions\, Monday-Friday
URL:https://eaglepointseniorliving.com/event-calendar/daily-devotions-74/
LOCATION:Library
CATEGORIES:Assisted Living
END:VEVENT
BEGIN:VEVENT
DTSTART;TZID=America/Chicago:20250826T143000
DTEND;TZID=America/Chicago:20250826T153000
DTSTAMP:20260419T183100
CREATED:20250728T042439Z
LAST-MODIFIED:20250826T055430Z
UID:10001501-1756218600-1756222200@eaglepointseniorliving.com
SUMMARY:Jeopardy with Ginger
DESCRIPTION:
URL:https://eaglepointseniorliving.com/event-calendar/jeopardy-with-ginger-10/
LOCATION:Art Room
CATEGORIES:Assisted Living
END:VEVENT
BEGIN:VEVENT
DTSTART;TZID=America/Chicago:20250826T140000
DTEND;TZID=America/Chicago:20250826T143000
DTSTAMP:20260419T183100
CREATED:20250728T042439Z
LAST-MODIFIED:20250826T055430Z
UID:10001500-1756216800-1756218600@eaglepointseniorliving.com
SUMMARY:Smoothie Tuesdays
DESCRIPTION:Join us each Tuesday as we make fresh protein smoothies each week in the lobby at 2:00pm. Each week will be a different flavor!
URL:https://eaglepointseniorliving.com/event-calendar/smoothie-tuesdays-16/
LOCATION:Lobby
CATEGORIES:Assisted Living
END:VEVENT
BEGIN:VEVENT
DTSTART;TZID=America/Chicago:20250826T124500
DTEND;TZID=America/Chicago:20250826T140000
DTSTAMP:20260419T183100
CREATED:20250728T042439Z
LAST-MODIFIED:20250826T055430Z
UID:10001499-1756212300-1756216800@eaglepointseniorliving.com
SUMMARY:Grip Games
DESCRIPTION:Work with your teammates to improve your grip strength which is linked to greater independence and improved overall health.
URL:https://eaglepointseniorliving.com/event-calendar/grip-games-12/
LOCATION:Wellness Room
CATEGORIES:Assisted Living
END:VEVENT
BEGIN:VEVENT
DTSTART;TZID=America/Chicago:20250826T104500
DTEND;TZID=America/Chicago:20250826T113000
DTSTAMP:20260419T183100
CREATED:20250728T042438Z
LAST-MODIFIED:20250826T055430Z
UID:10001498-1756205100-1756207800@eaglepointseniorliving.com
SUMMARY:Presentation: Caption Call w/ Rick Martinez
DESCRIPTION:Learn about the CaptionCall Landline or CaptionCall Mobile (for smart phones). These phones are no cost thanks to the American with Disabilities Act which is celebrating their 35th anniversary next week!
URL:https://eaglepointseniorliving.com/event-calendar/presentation-caption-call-w-rick-martinez/
LOCATION:Theater
CATEGORIES:Assisted Living
END:VEVENT
BEGIN:VEVENT
DTSTART;TZID=America/Chicago:20250826T100000
DTEND;TZID=America/Chicago:20250826T103000
DTSTAMP:20260419T183100
CREATED:20250728T042438Z
LAST-MODIFIED:20250826T055430Z
UID:10001497-1756202400-1756204200@eaglepointseniorliving.com
SUMMARY:Learn about Labyrinthitis with Hailey
DESCRIPTION:Learn about labyrinthitis with Hailey and why she was gone for so long!
URL:https://eaglepointseniorliving.com/event-calendar/walk-group-9/
LOCATION:Art Room
CATEGORIES:Assisted Living
END:VEVENT
BEGIN:VEVENT
DTSTART;TZID=America/Chicago:20250826T091500
DTEND;TZID=America/Chicago:20250826T094500
DTSTAMP:20260419T183100
CREATED:20250728T042438Z
LAST-MODIFIED:20250826T055430Z
UID:10001496-1756199700-1756201500@eaglepointseniorliving.com
SUMMARY:Daily Devotions
DESCRIPTION:Chaplain Peter will lead us in morning daily devotions\, Monday-Friday
URL:https://eaglepointseniorliving.com/event-calendar/daily-devotions-73/
LOCATION:Library
CATEGORIES:Assisted Living
END:VEVENT
BEGIN:VEVENT
DTSTART;TZID=America/Chicago:20250825T180000
DTEND;TZID=America/Chicago:20250825T200000
DTSTAMP:20260419T183100
CREATED:20250813T052442Z
LAST-MODIFIED:20250825T053943Z
UID:10001735-1756144800-1756152000@eaglepointseniorliving.com
SUMMARY:Monday Evening Movie-"Wind Dancer"
DESCRIPTION:When a young girl is injured by a riding accident\, she overcomes her injury with the help of her family and her beloved horse  Youtube
URL:https://eaglepointseniorliving.com/event-calendar/monday-evening-movie-wind-dancer/
LOCATION:Theater
CATEGORIES:Assisted Living
END:VEVENT
BEGIN:VEVENT
DTSTART;TZID=America/Chicago:20250825T150000
DTEND;TZID=America/Chicago:20250825T160000
DTSTAMP:20260419T183100
CREATED:20250730T042427Z
LAST-MODIFIED:20250825T053943Z
UID:10001550-1756134000-1756137600@eaglepointseniorliving.com
SUMMARY:NOTE TIME CHANGE: Grocery Outing: Meijer
DESCRIPTION:Sign up at the front desk. We need at least three to sign up to make the trip. Thank you!
URL:https://eaglepointseniorliving.com/event-calendar/grocery-outing-7/
LOCATION:Lobby
CATEGORIES:Assisted Living
END:VEVENT
BEGIN:VEVENT
DTSTART;TZID=America/Chicago:20250825T140000
DTEND;TZID=America/Chicago:20250825T153000
DTSTAMP:20260419T183100
CREATED:20250727T042430Z
LAST-MODIFIED:20250825T053943Z
UID:10001489-1756130400-1756135800@eaglepointseniorliving.com
SUMMARY:Book Club Discussion-"Lessons in Chemistry"
DESCRIPTION:Novel by Bonnie Garmus. Published in April 2022. It tells the story of Elizabeth Zott\, who becomes a beloved cooking show host in 1960s Southern California after being fired as a chemist four years earlier
URL:https://eaglepointseniorliving.com/event-calendar/book-club-discussion-lessons-in-chemistry/
LOCATION:Art Room
CATEGORIES:Assisted Living
END:VEVENT
BEGIN:VEVENT
DTSTART;TZID=America/Chicago:20250825T130000
DTEND;TZID=America/Chicago:20250825T140000
DTSTAMP:20260419T183100
CREATED:20250814T052445Z
LAST-MODIFIED:20250825T053943Z
UID:10001753-1756126800-1756130400@eaglepointseniorliving.com
SUMMARY:Presentation: John O'Boyle-Northeaster WI Land Trust
DESCRIPTION:“Pure Water\, Protected Land – Forever”\nNortheast Wisconsin Land Trust will explain how it permanently protects land in the Green Bay Estuary\, the largest freshwater estuary in the world.  It is the only entity in Northeast Wisconsin to do this year after year.
URL:https://eaglepointseniorliving.com/event-calendar/presentation-john-oboyle-northeaster-wi-land-trust/
LOCATION:Theater
CATEGORIES:Assisted Living
END:VEVENT
BEGIN:VEVENT
DTSTART;TZID=America/Chicago:20250825T104500
DTEND;TZID=America/Chicago:20250825T113000
DTSTAMP:20260419T183100
CREATED:20250727T042430Z
LAST-MODIFIED:20250825T053943Z
UID:10001488-1756118700-1756121400@eaglepointseniorliving.com
SUMMARY:Knit Pickers Group-1st Floor Alcove
DESCRIPTION:All levels and abilities are invited to attend\, whether you want to work on your own project\, or work on one of the group projects! Knitting\, crochet\, or any type of fiber art included. Location: First floor alcove.
URL:https://eaglepointseniorliving.com/event-calendar/knit-pickers-group-1st-floor-alcove-3/
LOCATION:Alcove
CATEGORIES:Assisted Living
END:VEVENT
BEGIN:VEVENT
DTSTART;TZID=America/Chicago:20250825T100000
DTEND;TZID=America/Chicago:20250825T103000
DTSTAMP:20260419T183100
CREATED:20250727T042429Z
LAST-MODIFIED:20250825T053943Z
UID:10001486-1756116000-1756117800@eaglepointseniorliving.com
SUMMARY:Weight Resistance Class
DESCRIPTION:A weight resistance class led by our resident Linda!
URL:https://eaglepointseniorliving.com/event-calendar/weight-resistance-class-30/
LOCATION:Wellness Room
CATEGORIES:Assisted Living
END:VEVENT
BEGIN:VEVENT
DTSTART;TZID=America/Chicago:20250825T091500
DTEND;TZID=America/Chicago:20250825T094500
DTSTAMP:20260419T183100
CREATED:20250727T042429Z
LAST-MODIFIED:20250825T053943Z
UID:10001485-1756113300-1756115100@eaglepointseniorliving.com
SUMMARY:Daily Devotions
DESCRIPTION:Chaplain Peter will lead us in morning daily devotions\, Monday-Friday
URL:https://eaglepointseniorliving.com/event-calendar/daily-devotions-72/
LOCATION:Library
CATEGORIES:Assisted Living
END:VEVENT
BEGIN:VEVENT
DTSTART;TZID=America/Chicago:20250824T140000
DTEND;TZID=America/Chicago:20250824T170000
DTSTAMP:20260419T183100
CREATED:20250823T053923Z
LAST-MODIFIED:20250824T053925Z
UID:10001871-1756044000-1756054800@eaglepointseniorliving.com
SUMMARY:RSVP at the front desk for September 4th Friends & Family (include number attending) Picnic
DESCRIPTION:If you haven’t already\, please RSVP at the front desk for the Friends & Family Picnic on September 4th from 4:30-7:00 PM. You will have the opportunity to buy raffle tickets ($1.00 each) for a variety of goodies and games! At 6:00 the Neenah Ambassador Band will be playing a variety of big band and swing tunes. Don’t miss out on this fun event!
URL:https://eaglepointseniorliving.com/event-calendar/rsvp-at-the-front-desk-for-september-4th-friends-family-include-number-attending-picnic/
LOCATION:Lobby
CATEGORIES:Assisted Living
END:VEVENT
BEGIN:VEVENT
DTSTART;TZID=America/Chicago:20250824T130000
DTEND;TZID=America/Chicago:20250824T142000
DTSTAMP:20260419T183100
CREATED:20250813T052442Z
LAST-MODIFIED:20250824T053925Z
UID:10001734-1756040400-1756045200@eaglepointseniorliving.com
SUMMARY:Audrey Hepburn Movie Festival: Funny Face
DESCRIPTION:Matinee showing of: Funny Face (1957) 1 hr 20 min. An impromptu fashion shoot at a book store brings about a new fashion model discovery in the shop clerk. Audrey Hepburn\, Fred Astaire\, Kay Thompson
URL:https://eaglepointseniorliving.com/event-calendar/audrey-hepburn-movie-festival-funny-face-2/
LOCATION:Theater
CATEGORIES:Assisted Living
END:VEVENT
BEGIN:VEVENT
DTSTART;TZID=America/Chicago:20250824T091500
DTEND;TZID=America/Chicago:20250824T121500
DTSTAMP:20260419T183100
CREATED:20250726T042428Z
LAST-MODIFIED:20250824T053925Z
UID:10001480-1756026900-1756037700@eaglepointseniorliving.com
SUMMARY:Immanuel Lutheran Church- Live Stream
DESCRIPTION:On line viewing of Immanuel Ev. Lutheran Church\, Greenville\, WI.\nAll denominations are invited to attend
URL:https://eaglepointseniorliving.com/event-calendar/immanuel-lutheran-church-live-stream-15/
LOCATION:Theater
CATEGORIES:Assisted Living
END:VEVENT
BEGIN:VEVENT
DTSTART;TZID=America/Chicago:20250823T150000
DTEND;TZID=America/Chicago:20250823T180000
DTSTAMP:20260419T183100
CREATED:20250819T053945Z
LAST-MODIFIED:20250823T053924Z
UID:10001803-1755961200-1755972000@eaglepointseniorliving.com
SUMMARY:Green Bay Packer Preseason Game at 3:00 PM
DESCRIPTION:Green Bay Packers vs Seattle Seahawks
URL:https://eaglepointseniorliving.com/event-calendar/green-bay-packer-preseason-game-at-300-pm/
LOCATION:Theater
CATEGORIES:Assisted Living
END:VEVENT
BEGIN:VEVENT
DTSTART;TZID=America/Chicago:20250823T150000
DTEND;TZID=America/Chicago:20250823T160000
DTSTAMP:20260419T183100
CREATED:20250725T042554Z
LAST-MODIFIED:20250823T053924Z
UID:10001467-1755961200-1755964800@eaglepointseniorliving.com
SUMMARY:Resident Sheepshead
DESCRIPTION:
URL:https://eaglepointseniorliving.com/event-calendar/resident-sheepshead-15/
LOCATION:Game Room
CATEGORIES:Assisted Living
END:VEVENT
BEGIN:VEVENT
DTSTART;TZID=America/Chicago:20250823T130000
DTEND;TZID=America/Chicago:20250823T141500
DTSTAMP:20260419T183100
CREATED:20250801T042428Z
LAST-MODIFIED:20250823T053924Z
UID:10001579-1755954000-1755958500@eaglepointseniorliving.com
SUMMARY:Saturday Afternoon Movie-"Brian's Song"
DESCRIPTION:Tubi
URL:https://eaglepointseniorliving.com/event-calendar/saturday-afternoon-movie-15/
LOCATION:Theater
CATEGORIES:Assisted Living
END:VEVENT
END:VCALENDAR