BEGIN:VCALENDAR
VERSION:2.0
PRODID:-//Eagle Point Senior Living - ECPv6.11.2.1//NONSGML v1.0//EN
CALSCALE:GREGORIAN
METHOD:PUBLISH
X-ORIGINAL-URL:https://eaglepointseniorliving.com
X-WR-CALDESC:Events for Eagle Point Senior Living
REFRESH-INTERVAL;VALUE=DURATION:PT1H
X-Robots-Tag:noindex
X-PUBLISHED-TTL:PT1H
BEGIN:VTIMEZONE
TZID:America/Chicago
BEGIN:DAYLIGHT
TZOFFSETFROM:-0600
TZOFFSETTO:-0500
TZNAME:CDT
DTSTART:20250309T080000
END:DAYLIGHT
BEGIN:STANDARD
TZOFFSETFROM:-0500
TZOFFSETTO:-0600
TZNAME:CST
DTSTART:20251102T070000
END:STANDARD
END:VTIMEZONE
BEGIN:VEVENT
DTSTART;TZID=America/Chicago:20250905T091500
DTEND;TZID=America/Chicago:20250905T094500
DTSTAMP:20260419T125422
CREATED:20250807T045429Z
LAST-MODIFIED:20250905T055437Z
UID:10001659-1757063700-1757065500@eaglepointseniorliving.com
SUMMARY:Daily Devotions
DESCRIPTION:Chaplain Peter will lead us in morning daily devotions\, Monday-Friday
URL:https://eaglepointseniorliving.com/event-calendar/daily-devotions-81/
LOCATION:Library
CATEGORIES:Assisted Living
END:VEVENT
BEGIN:VEVENT
DTSTART;TZID=America/Chicago:20250904T163000
DTEND;TZID=America/Chicago:20250904T190000
DTSTAMP:20260419T125422
CREATED:20250806T045431Z
LAST-MODIFIED:20250904T055429Z
UID:10001649-1757003400-1757012400@eaglepointseniorliving.com
SUMMARY:Summer Concert Series: Neenah Ambassador Band
DESCRIPTION:Don’t miss the Friends & Family Picnic! Weather permitting\, musicians will be playing along the riverfront just below the dining area windows. We will grill out\, enjoy a beverage\, and listen to the sounds of an 18-piece big band!
URL:https://eaglepointseniorliving.com/event-calendar/summer-concert-series-neenah-ambassador-band/
LOCATION:Waterfront: Back of Building
CATEGORIES:Assisted Living
END:VEVENT
BEGIN:VEVENT
DTSTART;TZID=America/Chicago:20250904T140000
DTEND;TZID=America/Chicago:20250904T150000
DTSTAMP:20260419T125422
CREATED:20250806T045431Z
LAST-MODIFIED:20250904T055429Z
UID:10001647-1756994400-1756998000@eaglepointseniorliving.com
SUMMARY:Lifelong Learning- Birds of Alaska
DESCRIPTION:
URL:https://eaglepointseniorliving.com/event-calendar/lifelong-learning-birds-of-alaska/
LOCATION:Theater
CATEGORIES:Assisted Living
END:VEVENT
BEGIN:VEVENT
DTSTART;TZID=America/Chicago:20250904T104500
DTEND;TZID=America/Chicago:20250904T113000
DTSTAMP:20260419T125422
CREATED:20250819T053948Z
LAST-MODIFIED:20250904T055429Z
UID:10001804-1756982700-1756985400@eaglepointseniorliving.com
SUMMARY:Treats for the Fire Department & Slot Machine Decorating!
DESCRIPTION:On September 10th we will be taking a trip to the local Fire Department. We will bring our little gift along with us. All abilities welcome!!
URL:https://eaglepointseniorliving.com/event-calendar/craft-gift-for-the-fire-department/
LOCATION:Art Room
CATEGORIES:Assisted Living
END:VEVENT
BEGIN:VEVENT
DTSTART;TZID=America/Chicago:20250904T100000
DTEND;TZID=America/Chicago:20250904T110000
DTSTAMP:20260419T125422
CREATED:20250806T045431Z
LAST-MODIFIED:20250904T055429Z
UID:10001645-1756980000-1756983600@eaglepointseniorliving.com
SUMMARY:Catholic Communion
DESCRIPTION:Corporate communion presided over by a deacon or layperson with hymns and rosary.
URL:https://eaglepointseniorliving.com/event-calendar/catholic-communion-13/
LOCATION:TH
CATEGORIES:Assisted Living
END:VEVENT
BEGIN:VEVENT
DTSTART;TZID=America/Chicago:20250904T091500
DTEND;TZID=America/Chicago:20250904T094500
DTSTAMP:20260419T125422
CREATED:20250806T045431Z
LAST-MODIFIED:20250904T055429Z
UID:10001644-1756977300-1756979100@eaglepointseniorliving.com
SUMMARY:Daily Devotions
DESCRIPTION:Chaplain Peter will lead us in morning daily devotions\, Monday-Friday
URL:https://eaglepointseniorliving.com/event-calendar/daily-devotions-80/
LOCATION:Library
CATEGORIES:Assisted Living
END:VEVENT
BEGIN:VEVENT
DTSTART;TZID=America/Chicago:20250903T150000
DTEND;TZID=America/Chicago:20250903T160000
DTSTAMP:20260419T125422
CREATED:20250805T045429Z
LAST-MODIFIED:20250903T055426Z
UID:10001637-1756911600-1756915200@eaglepointseniorliving.com
SUMMARY:Church Service with Chaplain Peter
DESCRIPTION:
URL:https://eaglepointseniorliving.com/event-calendar/church-service-with-chaplain-peter-18/
LOCATION:Theater
CATEGORIES:Assisted Living
END:VEVENT
BEGIN:VEVENT
DTSTART;TZID=America/Chicago:20250903T150000
DTEND;TZID=America/Chicago:20250903T160000
DTSTAMP:20260419T125422
CREATED:20250805T045429Z
LAST-MODIFIED:20250903T055426Z
UID:10001638-1756911600-1756915200@eaglepointseniorliving.com
SUMMARY:Cribbage
DESCRIPTION:
URL:https://eaglepointseniorliving.com/event-calendar/cribbage-17/
LOCATION:Art Room
CATEGORIES:Assisted Living
END:VEVENT
BEGIN:VEVENT
DTSTART;TZID=America/Chicago:20250903T140000
DTEND;TZID=America/Chicago:20250903T150000
DTSTAMP:20260419T125422
CREATED:20250805T045429Z
LAST-MODIFIED:20250903T055426Z
UID:10001636-1756908000-1756911600@eaglepointseniorliving.com
SUMMARY:Resident Council
DESCRIPTION:Resident Council’s primary purpose is to represent residents’ interests\, advocate for improvements in their living conditions\, and facilitate communication between residents and management.
URL:https://eaglepointseniorliving.com/event-calendar/resident-council-4/
LOCATION:TH
CATEGORIES:Assisted Living
END:VEVENT
BEGIN:VEVENT
DTSTART;TZID=America/Chicago:20250903T130000
DTEND;TZID=America/Chicago:20250903T140000
DTSTAMP:20260419T125422
CREATED:20250817T053925Z
LAST-MODIFIED:20250903T055425Z
UID:10001776-1756904400-1756908000@eaglepointseniorliving.com
SUMMARY:Multiplayer War Card Game
DESCRIPTION:
URL:https://eaglepointseniorliving.com/event-calendar/multiplayer-war-card-game/
LOCATION:Art Room
CATEGORIES:Assisted Living
END:VEVENT
BEGIN:VEVENT
DTSTART;TZID=America/Chicago:20250903T104500
DTEND;TZID=America/Chicago:20250903T113000
DTSTAMP:20260419T125422
CREATED:20250805T045428Z
LAST-MODIFIED:20250903T055425Z
UID:10001635-1756896300-1756899000@eaglepointseniorliving.com
SUMMARY:September Travels to-Philippines
DESCRIPTION:Basic overview of the largest ARCHIPELAGO(group or chain of islands) in the world\, the history\, rulers and facts
URL:https://eaglepointseniorliving.com/event-calendar/september-travels-to/
LOCATION:Art Room
CATEGORIES:Assisted Living
END:VEVENT
BEGIN:VEVENT
DTSTART;TZID=America/Chicago:20250903T100000
DTEND;TZID=America/Chicago:20250903T103000
DTSTAMP:20260419T125422
CREATED:20250805T045428Z
LAST-MODIFIED:20250903T055425Z
UID:10001634-1756893600-1756895400@eaglepointseniorliving.com
SUMMARY:Exercise Class: Mix
DESCRIPTION:
URL:https://eaglepointseniorliving.com/event-calendar/exercise-class-mix-12/
LOCATION:Wellness Room
CATEGORIES:Assisted Living
END:VEVENT
BEGIN:VEVENT
DTSTART;TZID=America/Chicago:20250903T091500
DTEND;TZID=America/Chicago:20250903T094500
DTSTAMP:20260419T125422
CREATED:20250805T045428Z
LAST-MODIFIED:20250903T055425Z
UID:10001633-1756890900-1756892700@eaglepointseniorliving.com
SUMMARY:Daily Devotions
DESCRIPTION:Chaplain Peter will lead us in morning daily devotions\, Monday-Friday
URL:https://eaglepointseniorliving.com/event-calendar/daily-devotions-79/
LOCATION:Library
CATEGORIES:Assisted Living
END:VEVENT
BEGIN:VEVENT
DTSTART;TZID=America/Chicago:20250902T153000
DTEND;TZID=America/Chicago:20250902T163000
DTSTAMP:20260419T125422
CREATED:20250804T045431Z
LAST-MODIFIED:20250902T055450Z
UID:10001623-1756827000-1756830600@eaglepointseniorliving.com
SUMMARY:NFL Football: History
DESCRIPTION:NFL Opening Day in 2025 is Thursday\, September 4\, Join us for some NFL scenes and history of both the Green Bay Packers and the Chicago Bears history and rivalry.
URL:https://eaglepointseniorliving.com/event-calendar/famous-person-of-the-week-5/
LOCATION:Art Room
CATEGORIES:Assisted Living
END:VEVENT
BEGIN:VEVENT
DTSTART;TZID=America/Chicago:20250902T143000
DTEND;TZID=America/Chicago:20250902T153000
DTSTAMP:20260419T125422
CREATED:20250804T045431Z
LAST-MODIFIED:20250902T055450Z
UID:10001622-1756823400-1756827000@eaglepointseniorliving.com
SUMMARY:Jeopardy with Brenda
DESCRIPTION:
URL:https://eaglepointseniorliving.com/event-calendar/jeopardy-with-brenda-9/
LOCATION:Art Room
CATEGORIES:Assisted Living
END:VEVENT
BEGIN:VEVENT
DTSTART;TZID=America/Chicago:20250902T140000
DTEND;TZID=America/Chicago:20250902T143000
DTSTAMP:20260419T125422
CREATED:20250804T045431Z
LAST-MODIFIED:20250902T055450Z
UID:10001621-1756821600-1756823400@eaglepointseniorliving.com
SUMMARY:Smoothie Tuesdays
DESCRIPTION:Join us each Tuesday as we make fresh protein smoothies each week in the lobby at 2:00pm. Each week will be a different flavor!
URL:https://eaglepointseniorliving.com/event-calendar/smoothie-tuesdays-17/
LOCATION:Lobby
CATEGORIES:Assisted Living
END:VEVENT
BEGIN:VEVENT
DTSTART;TZID=America/Chicago:20250902T124500
DTEND;TZID=America/Chicago:20250902T140000
DTSTAMP:20260419T125422
CREATED:20250804T045431Z
LAST-MODIFIED:20250902T055450Z
UID:10001620-1756817100-1756821600@eaglepointseniorliving.com
SUMMARY:Grip Games
DESCRIPTION:Work with your teammates to improve your grip strength which is linked to greater independence and improved overall health.
URL:https://eaglepointseniorliving.com/event-calendar/grip-games-13/
LOCATION:Wellness Room
CATEGORIES:Assisted Living
END:VEVENT
BEGIN:VEVENT
DTSTART;TZID=America/Chicago:20250902T104500
DTEND;TZID=America/Chicago:20250902T113000
DTSTAMP:20260419T125422
CREATED:20250811T050955Z
LAST-MODIFIED:20250902T055449Z
UID:10001704-1756809900-1756812600@eaglepointseniorliving.com
SUMMARY:Grandbuddy Informational Gathering
DESCRIPTION:“Grand Buddy Program” an intergenerational programs connecting seniors with children or younger individuals.  We have participated with Edison School for 3 years and look forward to another pen pal/gathering with residents and third-graders.
URL:https://eaglepointseniorliving.com/event-calendar/grandbuddy-informational-gathering/
LOCATION:Art Room
CATEGORIES:Assisted Living
END:VEVENT
BEGIN:VEVENT
DTSTART;TZID=America/Chicago:20250902T100000
DTEND;TZID=America/Chicago:20250902T103000
DTSTAMP:20260419T125422
CREATED:20250804T045431Z
LAST-MODIFIED:20250902T055449Z
UID:10001619-1756807200-1756809000@eaglepointseniorliving.com
SUMMARY:Walk Group
DESCRIPTION:Meet in the Lobby and then head out down the trail together. If it is inclement weather and we’ll walk inside!
URL:https://eaglepointseniorliving.com/event-calendar/balance-stretch-exercise/
LOCATION:Lobby
CATEGORIES:Assisted Living
END:VEVENT
BEGIN:VEVENT
DTSTART;TZID=America/Chicago:20250902T091500
DTEND;TZID=America/Chicago:20250902T094500
DTSTAMP:20260419T125422
CREATED:20250804T045431Z
LAST-MODIFIED:20250902T055449Z
UID:10001618-1756804500-1756806300@eaglepointseniorliving.com
SUMMARY:Daily Devotions
DESCRIPTION:Chaplain Peter will lead us in morning daily devotions\, Monday-Friday
URL:https://eaglepointseniorliving.com/event-calendar/daily-devotions-78/
LOCATION:Library
CATEGORIES:Assisted Living
END:VEVENT
BEGIN:VEVENT
DTSTART;TZID=America/Chicago:20250901T180000
DTEND;TZID=America/Chicago:20250901T200000
DTSTAMP:20260419T125422
CREATED:20250814T052447Z
LAST-MODIFIED:20250901T055424Z
UID:10001754-1756749600-1756756800@eaglepointseniorliving.com
SUMMARY:Monday Evening Movie-"Grapes of Wrath"
DESCRIPTION:
URL:https://eaglepointseniorliving.com/event-calendar/monday-evening-movie-residents-choice/
LOCATION:Theater
CATEGORIES:Assisted Living
END:VEVENT
BEGIN:VEVENT
DTSTART;TZID=America/Chicago:20250901T153000
DTEND;TZID=America/Chicago:20250901T163000
DTSTAMP:20260419T125422
CREATED:20250828T055442Z
LAST-MODIFIED:20250901T055424Z
UID:10001972-1756740600-1756744200@eaglepointseniorliving.com
SUMMARY:Labor Day Trivia and Game
DESCRIPTION:Pre-dinner time in the Lobby\n9 to 5 Movie Quiz and Labor Day List It Game
URL:https://eaglepointseniorliving.com/event-calendar/labor-day-trivia-and-game/
LOCATION:Lobby
CATEGORIES:Assisted Living
END:VEVENT
BEGIN:VEVENT
DTSTART;TZID=America/Chicago:20250901T133000
DTEND;TZID=America/Chicago:20250901T150000
DTSTAMP:20260419T125422
CREATED:20250828T055442Z
LAST-MODIFIED:20250901T055424Z
UID:10001971-1756733400-1756738800@eaglepointseniorliving.com
SUMMARY:Labor Day Afternoon Movie-"Labor Day"
DESCRIPTION:In 1987\, Adele Wheeler is a depressed single mother who lives in a rural home with her 13-year-old son\, Henry. While they are shopping\, a man approaches Henry and makes them take him home to look after him. The man is revealed to be Frank Chambers\, an escaped convict wanted by police\n1HR 50 Mins
URL:https://eaglepointseniorliving.com/event-calendar/labor-day-afternoon-movie-9-to-5/
LOCATION:Theater
CATEGORIES:Assisted Living
END:VEVENT
BEGIN:VEVENT
DTSTART;TZID=America/Chicago:20250901T104500
DTEND;TZID=America/Chicago:20250901T113000
DTSTAMP:20260419T125422
CREATED:20250811T050955Z
LAST-MODIFIED:20250901T055424Z
UID:10001702-1756723500-1756726200@eaglepointseniorliving.com
SUMMARY:Lifespark Theme-Talking about Generations
DESCRIPTION:Hand out\, Music and some Comedy
URL:https://eaglepointseniorliving.com/event-calendar/lifespark-monthly-theme-explore-the-outdoors/
LOCATION:Art Room
CATEGORIES:Assisted Living
END:VEVENT
BEGIN:VEVENT
DTSTART;TZID=America/Chicago:20250901T100000
DTEND;TZID=America/Chicago:20250901T103000
DTSTAMP:20260419T125422
CREATED:20250803T044222Z
LAST-MODIFIED:20250901T055424Z
UID:10001607-1756720800-1756722600@eaglepointseniorliving.com
SUMMARY:Weight Resistance Class
DESCRIPTION:A weight resistance class led by our resident Linda!
URL:https://eaglepointseniorliving.com/event-calendar/weight-resistance-class-32/
LOCATION:Wellness Room
CATEGORIES:Assisted Living
END:VEVENT
BEGIN:VEVENT
DTSTART;TZID=America/Chicago:20250831T130000
DTEND;TZID=America/Chicago:20250831T150000
DTSTAMP:20260419T125422
CREATED:20250813T052444Z
LAST-MODIFIED:20250831T055510Z
UID:10001738-1756645200-1756652400@eaglepointseniorliving.com
SUMMARY:Audrey Hepburn Movie Festival: Breakfast at Tiffanys
DESCRIPTION:Matinee showing of: Breakfast at Tiffanys (1961) 1 hr 55 min.  American romantic comedy film directed by Blake Edwards from a screenplay by George Axelrod and based on the 1958 novella by Truman Capote. It stars Audrey Hepburn\, George Peppard\, Patricia Neal\, Buddy Ebsen\, Martin Balsam\, and Mickey Rooney. In the film\, Holly Golightly (Hepburn)\, a naïve\, eccentric socialite meets Paul Varjak (Peppard)\, a struggling writer who moves into her apartment building.
URL:https://eaglepointseniorliving.com/event-calendar/audrey-hepburn-movie-festival-breakfast-at-tiffanys-2/
LOCATION:Theater
CATEGORIES:Assisted Living
END:VEVENT
BEGIN:VEVENT
DTSTART;TZID=America/Chicago:20250831T091500
DTEND;TZID=America/Chicago:20250831T121500
DTSTAMP:20260419T125422
CREATED:20250802T042507Z
LAST-MODIFIED:20250831T055510Z
UID:10001594-1756631700-1756642500@eaglepointseniorliving.com
SUMMARY:Immanuel Lutheran Church- Live Stream
DESCRIPTION:On line viewing of Immanuel Ev. Lutheran Church\, Greenville\, WI.\nAll denominations are invited to attend
URL:https://eaglepointseniorliving.com/event-calendar/immanuel-lutheran-church-live-stream-16/
LOCATION:Theater
CATEGORIES:Assisted Living
END:VEVENT
BEGIN:VEVENT
DTSTART;TZID=America/Chicago:20250830T150000
DTEND;TZID=America/Chicago:20250830T160000
DTSTAMP:20260419T125422
CREATED:20250801T042429Z
LAST-MODIFIED:20250830T055424Z
UID:10001583-1756566000-1756569600@eaglepointseniorliving.com
SUMMARY:Resident Sheepshead
DESCRIPTION:
URL:https://eaglepointseniorliving.com/event-calendar/resident-sheepshead-16/
LOCATION:Game Room
CATEGORIES:Assisted Living
END:VEVENT
BEGIN:VEVENT
DTSTART;TZID=America/Chicago:20250830T130000
DTEND;TZID=America/Chicago:20250830T150000
DTSTAMP:20260419T125422
CREATED:20250801T042429Z
LAST-MODIFIED:20250830T055424Z
UID:10001582-1756558800-1756566000@eaglepointseniorliving.com
SUMMARY:Saturday Afternoon Movie "Picnic"
DESCRIPTION:The story covers one Labor Day week-end in a small Kansas town\, and tells about the impact a virile drifter has on the lives of several women in town.
URL:https://eaglepointseniorliving.com/event-calendar/saturday-afternoon-movie-16/
LOCATION:Theater
CATEGORIES:Assisted Living
END:VEVENT
BEGIN:VEVENT
DTSTART;TZID=America/Chicago:20250830T093000
DTEND;TZID=America/Chicago:20250830T103000
DTSTAMP:20260419T125422
CREATED:20250801T042429Z
LAST-MODIFIED:20250830T055424Z
UID:10001581-1756546200-1756549800@eaglepointseniorliving.com
SUMMARY:Saturday Morning Chat and Coffee
DESCRIPTION:
URL:https://eaglepointseniorliving.com/event-calendar/saturday-morning-chat-and-coffee-16/
LOCATION:Lobby
CATEGORIES:Assisted Living
END:VEVENT
END:VCALENDAR