BEGIN:VCALENDAR
VERSION:2.0
PRODID:-//Eagle Point Senior Living - ECPv6.11.2.1//NONSGML v1.0//EN
CALSCALE:GREGORIAN
METHOD:PUBLISH
X-ORIGINAL-URL:https://eaglepointseniorliving.com
X-WR-CALDESC:Events for Eagle Point Senior Living
REFRESH-INTERVAL;VALUE=DURATION:PT1H
X-Robots-Tag:noindex
X-PUBLISHED-TTL:PT1H
BEGIN:VTIMEZONE
TZID:America/Chicago
BEGIN:DAYLIGHT
TZOFFSETFROM:-0600
TZOFFSETTO:-0500
TZNAME:CDT
DTSTART:20250309T080000
END:DAYLIGHT
BEGIN:STANDARD
TZOFFSETFROM:-0500
TZOFFSETTO:-0600
TZNAME:CST
DTSTART:20251102T070000
END:STANDARD
END:VTIMEZONE
BEGIN:VEVENT
DTSTART;TZID=America/Chicago:20250910T150000
DTEND;TZID=America/Chicago:20250910T160000
DTSTAMP:20260419T082824
CREATED:20250812T051237Z
LAST-MODIFIED:20250910T063930Z
UID:10001726-1757516400-1757520000@eaglepointseniorliving.com
SUMMARY:Church Service with Chaplain Peter
DESCRIPTION:
URL:https://eaglepointseniorliving.com/event-calendar/church-service-with-chaplain-peter-19/
LOCATION:Theater
CATEGORIES:Assisted Living
END:VEVENT
BEGIN:VEVENT
DTSTART;TZID=America/Chicago:20250910T133000
DTEND;TZID=America/Chicago:20250910T160000
DTSTAMP:20260419T082824
CREATED:20250813T052446Z
LAST-MODIFIED:20250910T063930Z
UID:10001740-1757511000-1757520000@eaglepointseniorliving.com
SUMMARY:Wednesday Wanderings to Appleton Fire Dept
DESCRIPTION:We drive past it often and we use the public services.  Join us on a outing to the Appleton Fire Department Station #1 located at 1700 N Drew St for a tour\, education\, and historical museum. Sign up at the front desk.
URL:https://eaglepointseniorliving.com/event-calendar/wednesday-wanderings-to-appleton-fire-dept/
LOCATION:Lobby
CATEGORIES:Assisted Living
END:VEVENT
BEGIN:VEVENT
DTSTART;TZID=America/Chicago:20250910T104500
DTEND;TZID=America/Chicago:20250910T113000
DTSTAMP:20260419T082824
CREATED:20250812T051237Z
LAST-MODIFIED:20250910T063929Z
UID:10001724-1757501100-1757503800@eaglepointseniorliving.com
SUMMARY:Speaker: Community Clothes Closet
DESCRIPTION:Join Meagan LaGrone\, Operations Director of the Community Clothes Closet. Learn about how they serve our community. Community Clothes Closet started in 1980 when a small church group provided a single pair of shoes to a homeless man in need. Through these humble beginnings\, we have grown to serve over 10\,000 people annually including the working poor\, students\, returning veterans\, the homeless\, older adults\, and those who have emergency clothing needs because of a fire or flood.
URL:https://eaglepointseniorliving.com/event-calendar/speaker-community-clothes-closet/
LOCATION:Theater
CATEGORIES:Assisted Living
END:VEVENT
BEGIN:VEVENT
DTSTART;TZID=America/Chicago:20250910T100000
DTEND;TZID=America/Chicago:20250910T103000
DTSTAMP:20260419T082824
CREATED:20250812T051237Z
LAST-MODIFIED:20250910T063928Z
UID:10001723-1757498400-1757500200@eaglepointseniorliving.com
SUMMARY:Exercise Class: Mix
DESCRIPTION:
URL:https://eaglepointseniorliving.com/event-calendar/exercise-class-mix-13/
LOCATION:Wellness Room
CATEGORIES:Assisted Living
END:VEVENT
BEGIN:VEVENT
DTSTART;TZID=America/Chicago:20250910T091500
DTEND;TZID=America/Chicago:20250910T094500
DTSTAMP:20260419T082824
CREATED:20250812T051237Z
LAST-MODIFIED:20250910T063927Z
UID:10001722-1757495700-1757497500@eaglepointseniorliving.com
SUMMARY:Daily Devotions
DESCRIPTION:Chaplain Peter will lead us in morning daily devotions\, Monday-Friday
URL:https://eaglepointseniorliving.com/event-calendar/daily-devotions-84/
LOCATION:Library
CATEGORIES:Assisted Living
END:VEVENT
BEGIN:VEVENT
DTSTART;TZID=America/Chicago:20250909T143000
DTEND;TZID=America/Chicago:20250909T153000
DTSTAMP:20260419T082824
CREATED:20250811T050957Z
LAST-MODIFIED:20250909T063924Z
UID:10001713-1757428200-1757431800@eaglepointseniorliving.com
SUMMARY:Jeopardy with Ginger
DESCRIPTION:
URL:https://eaglepointseniorliving.com/event-calendar/jeopardy-with-ginger-11/
LOCATION:Art Room
CATEGORIES:Assisted Living
END:VEVENT
BEGIN:VEVENT
DTSTART;TZID=America/Chicago:20250909T140000
DTEND;TZID=America/Chicago:20250909T143000
DTSTAMP:20260419T082824
CREATED:20250811T050957Z
LAST-MODIFIED:20250909T063924Z
UID:10001712-1757426400-1757428200@eaglepointseniorliving.com
SUMMARY:Smoothie Tuesdays
DESCRIPTION:Join us each Tuesday as we make fresh protein smoothies each week in the lobby at 2:00pm. Each week will be a different flavor!
URL:https://eaglepointseniorliving.com/event-calendar/smoothie-tuesdays-18/
LOCATION:Lobby
CATEGORIES:Assisted Living
END:VEVENT
BEGIN:VEVENT
DTSTART;TZID=America/Chicago:20250909T104500
DTEND;TZID=America/Chicago:20250909T113000
DTSTAMP:20260419T082824
CREATED:20250901T055426Z
LAST-MODIFIED:20250909T063924Z
UID:10002024-1757414700-1757417400@eaglepointseniorliving.com
SUMMARY:September Travels-Filipinos
DESCRIPTION:The People from the Philippines\, famous and not famous
URL:https://eaglepointseniorliving.com/event-calendar/september-travels-filipinos/
LOCATION:Art Room
CATEGORIES:Assisted Living
END:VEVENT
BEGIN:VEVENT
DTSTART;TZID=America/Chicago:20250909T100000
DTEND;TZID=America/Chicago:20250909T103000
DTSTAMP:20260419T082824
CREATED:20250811T050956Z
LAST-MODIFIED:20250909T063924Z
UID:10001709-1757412000-1757413800@eaglepointseniorliving.com
SUMMARY:Walk Group
DESCRIPTION:Meet in the Lobby and then head out down the trail together. If it is inclement weather and we’ll walk inside!
URL:https://eaglepointseniorliving.com/event-calendar/balance-stretch-exercise-2/
LOCATION:Lobby
CATEGORIES:Assisted Living
END:VEVENT
BEGIN:VEVENT
DTSTART;TZID=America/Chicago:20250909T091500
DTEND;TZID=America/Chicago:20250909T094500
DTSTAMP:20260419T082824
CREATED:20250811T050956Z
LAST-MODIFIED:20250909T063924Z
UID:10001708-1757409300-1757411100@eaglepointseniorliving.com
SUMMARY:Daily Devotions
DESCRIPTION:Chaplain Peter will lead us in morning daily devotions\, Monday-Friday
URL:https://eaglepointseniorliving.com/event-calendar/daily-devotions-83/
LOCATION:Library
CATEGORIES:Assisted Living
END:VEVENT
BEGIN:VEVENT
DTSTART;TZID=America/Chicago:20250909T090000
DTEND;TZID=America/Chicago:20250909T093000
DTSTAMP:20260419T082824
CREATED:20250811T050956Z
LAST-MODIFIED:20250909T063924Z
UID:10001707-1757408400-1757410200@eaglepointseniorliving.com
SUMMARY:FIRE DRILL: Alarm Only
DESCRIPTION:This will be an alarm only.
URL:https://eaglepointseniorliving.com/event-calendar/fire-drill-alarm-only-2/
LOCATION:Building
CATEGORIES:Assisted Living
END:VEVENT
BEGIN:VEVENT
DTSTART;TZID=America/Chicago:20250908T180000
DTEND;TZID=America/Chicago:20250908T200000
DTSTAMP:20260419T082824
CREATED:20250814T052448Z
LAST-MODIFIED:20250908T062425Z
UID:10001755-1757354400-1757361600@eaglepointseniorliving.com
SUMMARY:Monday Evening Movie-"9-5"
DESCRIPTION:Franklin Hart\, the biggest “sexist\, egotistical\, lying\, hypocritical bigot” boss on the planet. He thrills in taking advantage of his office staff.  His top assistant Violet (Lily Tomlin). Long-exhausted over his gruesome bullishness\, Violet\, alongside co-workers Doralee (Dolly Parton) and Judy (Jane Fonda) comprise comical methods of “doing him in\,” when a freak incident occurs. They then manage to kidnap Hart and trap him in his own house\, while assuming control of his department\, and productivity leaps. But just how long can they keep him tied up?
URL:https://eaglepointseniorliving.com/event-calendar/monday-evening-movie-residents-choice-2/
LOCATION:Theater
CATEGORIES:Assisted Living
END:VEVENT
BEGIN:VEVENT
DTSTART;TZID=America/Chicago:20250908T150000
DTEND;TZID=America/Chicago:20250908T160000
DTSTAMP:20260419T082824
CREATED:20250829T055426Z
LAST-MODIFIED:20250908T062425Z
UID:10001986-1757343600-1757347200@eaglepointseniorliving.com
SUMMARY:News Currents
DESCRIPTION:
URL:https://eaglepointseniorliving.com/event-calendar/news-currents-5/
LOCATION:Theater
CATEGORIES:Assisted Living
END:VEVENT
BEGIN:VEVENT
DTSTART;TZID=America/Chicago:20250908T140000
DTEND;TZID=America/Chicago:20250908T143000
DTSTAMP:20260419T082824
CREATED:20250829T055426Z
LAST-MODIFIED:20250908T062425Z
UID:10001985-1757340000-1757341800@eaglepointseniorliving.com
SUMMARY:Disc Drumming
DESCRIPTION:
URL:https://eaglepointseniorliving.com/event-calendar/disc-drumming/
LOCATION:Art Room
CATEGORIES:Assisted Living
END:VEVENT
BEGIN:VEVENT
DTSTART;TZID=America/Chicago:20250908T130000
DTEND;TZID=America/Chicago:20250908T140000
DTSTAMP:20260419T082824
CREATED:20250810T050949Z
LAST-MODIFIED:20250908T062425Z
UID:10001693-1757336400-1757340000@eaglepointseniorliving.com
SUMMARY:Knit Pickers Group: First Floor Alcove
DESCRIPTION:All levels and abilities are invited to attend\, whether you want to work on your own project\, or work on one of the group projects! Knitting\, crochet\, or any type of fiber art included. Location: First floor alcove.
URL:https://eaglepointseniorliving.com/event-calendar/knit-pickers-group-first-floor-alcove-3/
LOCATION:1st Floor Alcove
CATEGORIES:Assisted Living
END:VEVENT
BEGIN:VEVENT
DTSTART;TZID=America/Chicago:20250908T104500
DTEND;TZID=America/Chicago:20250908T113000
DTSTAMP:20260419T082824
CREATED:20250811T050956Z
LAST-MODIFIED:20250908T062425Z
UID:10001705-1757328300-1757331000@eaglepointseniorliving.com
SUMMARY:Lifespark Monthly Theme-Explore the Outdoors
DESCRIPTION:
URL:https://eaglepointseniorliving.com/event-calendar/lifespark-monthly-theme-explore-the-outdoors-2/
LOCATION:Art Room
CATEGORIES:Assisted Living
END:VEVENT
BEGIN:VEVENT
DTSTART;TZID=America/Chicago:20250908T100000
DTEND;TZID=America/Chicago:20250908T103000
DTSTAMP:20260419T082824
CREATED:20250810T050949Z
LAST-MODIFIED:20250908T062425Z
UID:10001691-1757325600-1757327400@eaglepointseniorliving.com
SUMMARY:Weight Resistance Class
DESCRIPTION:A weight resistance class led by our resident Linda!
URL:https://eaglepointseniorliving.com/event-calendar/weight-resistance-class-34/
LOCATION:Wellness Room
CATEGORIES:Assisted Living
END:VEVENT
BEGIN:VEVENT
DTSTART;TZID=America/Chicago:20250908T091500
DTEND;TZID=America/Chicago:20250908T094500
DTSTAMP:20260419T082824
CREATED:20250810T050949Z
LAST-MODIFIED:20250908T062424Z
UID:10001690-1757322900-1757324700@eaglepointseniorliving.com
SUMMARY:Daily Devotions
DESCRIPTION:Chaplain Peter will lead us in morning daily devotions\, Monday-Friday
URL:https://eaglepointseniorliving.com/event-calendar/daily-devotions-82/
LOCATION:Library
CATEGORIES:Assisted Living
END:VEVENT
BEGIN:VEVENT
DTSTART;TZID=America/Chicago:20250907T152500
DTEND;TZID=America/Chicago:20250907T182500
DTSTAMP:20260419T082824
CREATED:20250821T053928Z
LAST-MODIFIED:20250907T060939Z
UID:10001836-1757258700-1757269500@eaglepointseniorliving.com
SUMMARY:Green Bay Packer Game vs Detroit Lions
DESCRIPTION:Packers vs Detroit Lions at 3:25 PM
URL:https://eaglepointseniorliving.com/event-calendar/green-bay-packer-game-vs-detroit-lions/
LOCATION:Theater
CATEGORIES:Assisted Living
END:VEVENT
BEGIN:VEVENT
DTSTART;TZID=America/Chicago:20250907T140000
DTEND;TZID=America/Chicago:20250907T150000
DTSTAMP:20260419T082824
CREATED:20250809T051011Z
LAST-MODIFIED:20250907T060939Z
UID:10001685-1757253600-1757257200@eaglepointseniorliving.com
SUMMARY:Marisa Lemos Violinist
DESCRIPTION:The very talented Marisa Lemos will play a wonderful collection of songs to kick off National Assisted Living Week\, a unique opportunity for residents\, staff\, and the surrounding comm​​unities to recognize the role of assisted living in caring for America’s seniors and individuals with disabilities.
URL:https://eaglepointseniorliving.com/event-calendar/marisa-lemos-violinist/
LOCATION:Lobby
CATEGORIES:Assisted Living
END:VEVENT
BEGIN:VEVENT
DTSTART;TZID=America/Chicago:20250907T091500
DTEND;TZID=America/Chicago:20250907T121500
DTSTAMP:20260419T082824
CREATED:20250809T051011Z
LAST-MODIFIED:20250907T060939Z
UID:10001684-1757236500-1757247300@eaglepointseniorliving.com
SUMMARY:Immanuel Lutheran Church- Live Stream
DESCRIPTION:On line viewing of Immanuel Ev. Lutheran Church\, Greenville\, WI.\nAll denominations are invited to attend
URL:https://eaglepointseniorliving.com/event-calendar/immanuel-lutheran-church-live-stream-17/
LOCATION:Theater
CATEGORIES:Assisted Living
END:VEVENT
BEGIN:VEVENT
DTSTART;TZID=America/Chicago:20250906T130000
DTEND;TZID=America/Chicago:20250906T150000
DTSTAMP:20260419T082824
CREATED:20250808T050928Z
LAST-MODIFIED:20250906T060924Z
UID:10001676-1757163600-1757170800@eaglepointseniorliving.com
SUMMARY:Saturday Afternoon Movie-"The Education of Little Tree"
DESCRIPTION:The fictional memoirs of Forrest “Little Tree” Carter begin in the late 1920s\, when his parents die\, and he is given to the care of his part-Cherokee grandfather and his Cherokee grandmother at the age of five.
URL:https://eaglepointseniorliving.com/event-calendar/saturday-afternoon-movie-17/
LOCATION:Theater
CATEGORIES:Assisted Living
END:VEVENT
BEGIN:VEVENT
DTSTART;TZID=America/Chicago:20250906T093000
DTEND;TZID=America/Chicago:20250906T103000
DTSTAMP:20260419T082824
CREATED:20250808T050928Z
LAST-MODIFIED:20250906T060924Z
UID:10001675-1757151000-1757154600@eaglepointseniorliving.com
SUMMARY:Saturday Morning Chat and Coffee
DESCRIPTION:
URL:https://eaglepointseniorliving.com/event-calendar/saturday-morning-chat-and-coffee-17/
LOCATION:Lobby
CATEGORIES:Assisted Living
END:VEVENT
BEGIN:VEVENT
DTSTART;TZID=America/Chicago:20250905T150000
DTEND;TZID=America/Chicago:20250905T160000
DTSTAMP:20260419T082824
CREATED:20250807T045429Z
LAST-MODIFIED:20250905T055443Z
UID:10001665-1757084400-1757088000@eaglepointseniorliving.com
SUMMARY:Happy Hour
DESCRIPTION:An opportunity to socialize with other community members.
URL:https://eaglepointseniorliving.com/event-calendar/happy-hour-7/
LOCATION:Lobby
CATEGORIES:Assisted Living
END:VEVENT
BEGIN:VEVENT
DTSTART;TZID=America/Chicago:20250905T140000
DTEND;TZID=America/Chicago:20250905T150000
DTSTAMP:20260419T082824
CREATED:20250828T055443Z
LAST-MODIFIED:20250905T055441Z
UID:10001973-1757080800-1757084400@eaglepointseniorliving.com
SUMMARY:September in History {AR}
DESCRIPTION:Join us for a presentation of September history. We will explore some famous people and events\, test our knowledge and reminisce!
URL:https://eaglepointseniorliving.com/event-calendar/september-in-history/
LOCATION:Art Room
CATEGORIES:Assisted Living
END:VEVENT
BEGIN:VEVENT
DTSTART;TZID=America/Chicago:20250905T140000
DTEND;TZID=America/Chicago:20250905T150000
DTSTAMP:20260419T082824
CREATED:20250807T045429Z
LAST-MODIFIED:20250905T055442Z
UID:10001664-1757080800-1757084400@eaglepointseniorliving.com
SUMMARY:Gentlemen's Coffee and Conversation
DESCRIPTION:Join Chaplain Peter for men’s conversation over coffee and treats.
URL:https://eaglepointseniorliving.com/event-calendar/gentlemens-coffee-and-conversation-4/
LOCATION:Library
CATEGORIES:Assisted Living
END:VEVENT
BEGIN:VEVENT
DTSTART;TZID=America/Chicago:20250905T130000
DTEND;TZID=America/Chicago:20250905T140000
DTSTAMP:20260419T082824
CREATED:20250807T045429Z
LAST-MODIFIED:20250905T055440Z
UID:10001663-1757077200-1757080800@eaglepointseniorliving.com
SUMMARY:Lifespark Games: Really Big Show
DESCRIPTION:Don’t miss the Lifespark Games Really Big Show\, where we reveal the scores and standings for all participating communities. It’s a fun way to celebrate everyone’s hard work\, cheer on your peers\, and see how our team stacks up!
URL:https://eaglepointseniorliving.com/event-calendar/lifespark-games-really-big-show-8/
LOCATION:Wellness Room
CATEGORIES:Assisted Living
END:VEVENT
BEGIN:VEVENT
DTSTART;TZID=America/Chicago:20250905T104500
DTEND;TZID=America/Chicago:20250905T113000
DTSTAMP:20260419T082824
CREATED:20250807T045429Z
LAST-MODIFIED:20250905T055440Z
UID:10001662-1757069100-1757071800@eaglepointseniorliving.com
SUMMARY:Friday Food Fun-Popcorn Taste Testing
DESCRIPTION:
URL:https://eaglepointseniorliving.com/event-calendar/friday-food-fun-14/
LOCATION:Art Room
CATEGORIES:Assisted Living
END:VEVENT
BEGIN:VEVENT
DTSTART;TZID=America/Chicago:20250905T100000
DTEND;TZID=America/Chicago:20250905T110000
DTSTAMP:20260419T082824
CREATED:20250807T045429Z
LAST-MODIFIED:20250905T055439Z
UID:10001661-1757066400-1757070000@eaglepointseniorliving.com
SUMMARY:Dementia Support Group
DESCRIPTION:
URL:https://eaglepointseniorliving.com/event-calendar/dementia-support-group-4/
LOCATION:Theater
CATEGORIES:Assisted Living
END:VEVENT
BEGIN:VEVENT
DTSTART;TZID=America/Chicago:20250905T100000
DTEND;TZID=America/Chicago:20250905T103000
DTSTAMP:20260419T082824
CREATED:20250807T045429Z
LAST-MODIFIED:20250905T055438Z
UID:10001660-1757066400-1757068200@eaglepointseniorliving.com
SUMMARY:Weight Resistance Class
DESCRIPTION:A weight resistance class led by our resident Linda!
URL:https://eaglepointseniorliving.com/event-calendar/weight-resistance-class-33/
LOCATION:Wellness Room
CATEGORIES:Assisted Living
END:VEVENT
END:VCALENDAR