BEGIN:VCALENDAR
VERSION:2.0
PRODID:-//Eagle Point Senior Living - ECPv6.11.2.1//NONSGML v1.0//EN
CALSCALE:GREGORIAN
METHOD:PUBLISH
X-ORIGINAL-URL:https://eaglepointseniorliving.com
X-WR-CALDESC:Events for Eagle Point Senior Living
REFRESH-INTERVAL;VALUE=DURATION:PT1H
X-Robots-Tag:noindex
X-PUBLISHED-TTL:PT1H
BEGIN:VTIMEZONE
TZID:America/Chicago
BEGIN:DAYLIGHT
TZOFFSETFROM:-0600
TZOFFSETTO:-0500
TZNAME:CDT
DTSTART:20260308T080000
END:DAYLIGHT
BEGIN:STANDARD
TZOFFSETFROM:-0500
TZOFFSETTO:-0600
TZNAME:CST
DTSTART:20261101T070000
END:STANDARD
END:VTIMEZONE
BEGIN:VEVENT
DTSTART;TZID=America/Chicago:20260323T091500
DTEND;TZID=America/Chicago:20260323T094500
DTSTAMP:20260425T175515
CREATED:20260222T042436Z
LAST-MODIFIED:20260319T052422Z
UID:10004806-1774257300-1774259100@eaglepointseniorliving.com
SUMMARY:Daily Devotions
DESCRIPTION:Chaplain Peter will lead us in morning daily devotions\, Monday-Friday
URL:https://eaglepointseniorliving.com/event-calendar/daily-devotions-218/
LOCATION:Library (1st Floor)
CATEGORIES:Assisted Living
END:VEVENT
BEGIN:VEVENT
DTSTART;TZID=America/Chicago:20260323T100000
DTEND;TZID=America/Chicago:20260323T103000
DTSTAMP:20260425T175515
CREATED:20260222T042437Z
LAST-MODIFIED:20260319T052422Z
UID:10004807-1774260000-1774261800@eaglepointseniorliving.com
SUMMARY:Weight Resistance Class
DESCRIPTION:A weight resistance class led by Christine
URL:https://eaglepointseniorliving.com/event-calendar/weight-resistance-class-92/
LOCATION:Wellness Room (Lower Level)
CATEGORIES:Assisted Living
END:VEVENT
BEGIN:VEVENT
DTSTART;TZID=America/Chicago:20260323T104500
DTEND;TZID=America/Chicago:20260323T123000
DTSTAMP:20260425T175515
CREATED:20260222T042437Z
LAST-MODIFIED:20260319T052422Z
UID:10004808-1774262700-1774269000@eaglepointseniorliving.com
SUMMARY:Monday Morning Breakfast Outing-Black Bear(Sign up at Front Desk)
DESCRIPTION:
URL:https://eaglepointseniorliving.com/event-calendar/monday-morning-breakfast-outing-black-bearsign-up-at-front-desk/
LOCATION:Lobby (1st Floor)
CATEGORIES:Assisted Living
END:VEVENT
BEGIN:VEVENT
DTSTART;TZID=America/Chicago:20260323T130000
DTEND;TZID=America/Chicago:20260323T140000
DTSTAMP:20260425T175515
CREATED:20260222T042437Z
LAST-MODIFIED:20260319T052422Z
UID:10004809-1774270800-1774274400@eaglepointseniorliving.com
SUMMARY:Knit Pickers Fiber Arts Group-1st Floor Alcove
DESCRIPTION:All levels and abilities are invited to attend\, whether you want to work on your own project\, or work on one of the group projects! Knitting\, crochet\, or any type of fiber art included. Location: First floor alcove.
URL:https://eaglepointseniorliving.com/event-calendar/knit-pickers-fiber-arts-group-1st-floor-alcove-5/
LOCATION:Alcove
CATEGORIES:Assisted Living
END:VEVENT
BEGIN:VEVENT
DTSTART;TZID=America/Chicago:20260323T133000
DTEND;TZID=America/Chicago:20260323T143000
DTSTAMP:20260425T175515
CREATED:20260222T042437Z
LAST-MODIFIED:20260319T052423Z
UID:10004810-1774272600-1774276200@eaglepointseniorliving.com
SUMMARY:Words of Wonder; Commonly used Proverbs that Contradict\, and a few Irish Proverbs to ponder
DESCRIPTION:Commonly used Proverbs\, Proverbs that Contradict each other and other word and a few Irish Proverbs to ponder\nMarch is a good time to celebrate proverbs because it’s also Reading Month. Proverbs are short sayings that pass along practical wisdom\, values\, and life lessons across generations.
URL:https://eaglepointseniorliving.com/event-calendar/lifespark-monthly-theme-a-patchwork-of-tales-6/
LOCATION:Art Room (2nd Floor)
CATEGORIES:Assisted Living
END:VEVENT
BEGIN:VEVENT
DTSTART;TZID=America/Chicago:20260323T140000
DTEND;TZID=America/Chicago:20260323T150000
DTSTAMP:20260425T175515
CREATED:20260222T042437Z
LAST-MODIFIED:20260319T052423Z
UID:10004811-1774274400-1774278000@eaglepointseniorliving.com
SUMMARY:Book Club Discussion-The Book Thief
DESCRIPTION:
URL:https://eaglepointseniorliving.com/event-calendar/book-club-discussion-7/
LOCATION:Art Room (2nd Floor)
CATEGORIES:Assisted Living
END:VEVENT
BEGIN:VEVENT
DTSTART;TZID=America/Chicago:20260323T150000
DTEND;TZID=America/Chicago:20260323T160000
DTSTAMP:20260425T175515
CREATED:20260222T042437Z
LAST-MODIFIED:20260319T052423Z
UID:10004812-1774278000-1774281600@eaglepointseniorliving.com
SUMMARY:Current Events: Learn about the latest in science\, art\, geography\, and more!
DESCRIPTION:Current events highlight the key news\, trends\, and issues shaping our world today\, from politics and economics to art\, science and culture. Keep up-to-date\, informed\, and connected to the rapidly changing global landscape.
URL:https://eaglepointseniorliving.com/event-calendar/current-events-learn-about-the-latest-in-science-art-geography-and-more-21/
LOCATION:Theater (3rd Floor)
CATEGORIES:Assisted Living
END:VEVENT
BEGIN:VEVENT
DTSTART;TZID=America/Chicago:20260323T180000
DTEND;TZID=America/Chicago:20260323T200000
DTSTAMP:20260425T175515
CREATED:20260222T042437Z
LAST-MODIFIED:20260319T052423Z
UID:10004813-1774288800-1774296000@eaglepointseniorliving.com
SUMMARY:Monday Evening Movie-The Book Thief
DESCRIPTION:(2013) While subjected to the horrors of World War II Germany\, young Liesel finds solace by stealing books and sharing them with others. In the basement of her home\, a Jewish refugee is being protected by her adoptive parents. (DVD) 2 hrs 11 min “A masterful film about courage and hope.”
URL:https://eaglepointseniorliving.com/event-calendar/monday-evening-movie-50-first-dates-2004/
LOCATION:Theater (3rd Floor)
CATEGORIES:Assisted Living
END:VEVENT
END:VCALENDAR