BEGIN:VCALENDAR
VERSION:2.0
PRODID:-//Eagle Point Senior Living - ECPv6.11.2.1//NONSGML v1.0//EN
CALSCALE:GREGORIAN
METHOD:PUBLISH
X-ORIGINAL-URL:https://eaglepointseniorliving.com
X-WR-CALDESC:Events for Eagle Point Senior Living
REFRESH-INTERVAL;VALUE=DURATION:PT1H
X-Robots-Tag:noindex
X-PUBLISHED-TTL:PT1H
BEGIN:VTIMEZONE
TZID:America/Chicago
BEGIN:DAYLIGHT
TZOFFSETFROM:-0600
TZOFFSETTO:-0500
TZNAME:CDT
DTSTART:20260308T080000
END:DAYLIGHT
BEGIN:STANDARD
TZOFFSETFROM:-0500
TZOFFSETTO:-0600
TZNAME:CST
DTSTART:20261101T070000
END:STANDARD
END:VTIMEZONE
BEGIN:VEVENT
DTSTART;TZID=America/Chicago:20260321T093000
DTEND;TZID=America/Chicago:20260321T103000
DTSTAMP:20260425T192526
CREATED:20260220T042433Z
LAST-MODIFIED:20260319T052422Z
UID:10004788-1774085400-1774089000@eaglepointseniorliving.com
SUMMARY:Saturday Morning Chat\, Coffee\, and Simple Simon Donuts!
DESCRIPTION:Enjoy conversation and fresh donuts from Simple Simon Bakery!
URL:https://eaglepointseniorliving.com/event-calendar/saturday-morning-chat-coffee-and-simple-simon-donuts-21/
LOCATION:Lobby (1st Floor)
CATEGORIES:Assisted Living
END:VEVENT
BEGIN:VEVENT
DTSTART;TZID=America/Chicago:20260321T130000
DTEND;TZID=America/Chicago:20260321T150000
DTSTAMP:20260425T192526
CREATED:20260220T042433Z
LAST-MODIFIED:20260319T052422Z
UID:10004789-1774098000-1774105200@eaglepointseniorliving.com
SUMMARY:Saturday Afternoon Movie: Rear Window (1954)
DESCRIPTION:Rear Window is a 1954 American mystery thriller film directed by Alfred Hitchcock and written by John Michael Hayes\, based on Cornell Woolrich’s 1942 short story “It Had to Be Murder”. The film stars James Stewart\, Grace Kelly\, and Raymond Burr. Rear Window is considered by many filmgoers\, critics\, and scholars to be one of Hitchcock’s best films\, as well as one of the greatest films ever made. (DVD) 1 hr 52 min
URL:https://eaglepointseniorliving.com/event-calendar/saturday-afternoon-movie-rear-window-1954/
LOCATION:Theater (3rd Floor)
CATEGORIES:Assisted Living
END:VEVENT
BEGIN:VEVENT
DTSTART;TZID=America/Chicago:20260321T150000
DTEND;TZID=America/Chicago:20260321T160000
DTSTAMP:20260425T192526
CREATED:20260220T042433Z
LAST-MODIFIED:20260319T052422Z
UID:10004790-1774105200-1774108800@eaglepointseniorliving.com
SUMMARY:Resident Sheepshead
DESCRIPTION:
URL:https://eaglepointseniorliving.com/event-calendar/resident-sheepshead-44/
LOCATION:Game Room (1st Floor)
CATEGORIES:Assisted Living
END:VEVENT
END:VCALENDAR