BEGIN:VCALENDAR
VERSION:2.0
PRODID:-//Eagle Point Senior Living - ECPv6.11.2.1//NONSGML v1.0//EN
CALSCALE:GREGORIAN
METHOD:PUBLISH
X-ORIGINAL-URL:https://eaglepointseniorliving.com
X-WR-CALDESC:Events for Eagle Point Senior Living
REFRESH-INTERVAL;VALUE=DURATION:PT1H
X-Robots-Tag:noindex
X-PUBLISHED-TTL:PT1H
BEGIN:VTIMEZONE
TZID:America/Chicago
BEGIN:DAYLIGHT
TZOFFSETFROM:-0600
TZOFFSETTO:-0500
TZNAME:CDT
DTSTART:20260308T080000
END:DAYLIGHT
BEGIN:STANDARD
TZOFFSETFROM:-0500
TZOFFSETTO:-0600
TZNAME:CST
DTSTART:20261101T070000
END:STANDARD
END:VTIMEZONE
BEGIN:VEVENT
DTSTART;VALUE=DATE:20260320
DTEND;VALUE=DATE:20260321
DTSTAMP:20260425T173443
CREATED:20260310T043943Z
LAST-MODIFIED:20260319T052423Z
UID:10005058-1773964800-1774051199@eaglepointseniorliving.com
SUMMARY:Eid al-Fitr
DESCRIPTION:Eid al-Fitr marks the end of Ramadan\, the month-long period during which Muslims fast from dawn-to-dusk fasting\, take part in daily communal prayer\, study the Koran.  It is also the month in which the Koran is believed to have been revealed to the Islamic prophet Muhammad.
URL:https://eaglepointseniorliving.com/event-calendar/eid-al-fitr/
CATEGORIES:Assisted Living
END:VEVENT
BEGIN:VEVENT
DTSTART;TZID=America/Chicago:20260320T091500
DTEND;TZID=America/Chicago:20260320T094500
DTSTAMP:20260425T173443
CREATED:20260313T045603Z
LAST-MODIFIED:20260319T052423Z
UID:10005120-1773998100-1773999900@eaglepointseniorliving.com
SUMMARY:Daily Devotions
DESCRIPTION:
URL:https://eaglepointseniorliving.com/event-calendar/daily-devotions-238/
LOCATION:Library (1st Floor)
CATEGORIES:Assisted Living
END:VEVENT
BEGIN:VEVENT
DTSTART;TZID=America/Chicago:20260320T100000
DTEND;TZID=America/Chicago:20260320T103000
DTSTAMP:20260425T173443
CREATED:20260219T042434Z
LAST-MODIFIED:20260319T052422Z
UID:10004769-1774000800-1774002600@eaglepointseniorliving.com
SUMMARY:Weight Resistance Class
DESCRIPTION:A weight resistance class led by Christine
URL:https://eaglepointseniorliving.com/event-calendar/weight-resistance-class-91/
LOCATION:Wellness Room (Lower Level)
CATEGORIES:Assisted Living
END:VEVENT
BEGIN:VEVENT
DTSTART;TZID=America/Chicago:20260320T104500
DTEND;TZID=America/Chicago:20260320T113000
DTSTAMP:20260425T173443
CREATED:20260219T042434Z
LAST-MODIFIED:20260319T052422Z
UID:10004770-1774003500-1774006200@eaglepointseniorliving.com
SUMMARY:Kick off to National Quilt Day: Quilts for Court! Everyone invited!
DESCRIPTION:Everyone invited\, regardless of skills–you just need a big heart! We’re celebrating National Quilt Day (March 21st) with a cozy quilting bee party\, coming together to stitch beautiful quilts that will be lovingly donated to our Memory Care community. Donate your time to cut\, pin\, sew\, or just enjoy the company! The party will continue through the weekend and the following Friday\, March 27th.
URL:https://eaglepointseniorliving.com/event-calendar/kick-off-to-national-quilt-day-quilts-for-court-everyone-invited/
LOCATION:Art Room (2nd Floor)
CATEGORIES:Assisted Living
END:VEVENT
BEGIN:VEVENT
DTSTART;TZID=America/Chicago:20260320T104500
DTEND;TZID=America/Chicago:20260320T114500
DTSTAMP:20260425T173443
CREATED:20260219T042435Z
LAST-MODIFIED:20260319T052422Z
UID:10004771-1774003500-1774007100@eaglepointseniorliving.com
SUMMARY:Parkinson's Support Group: Speech & Swallow Therapy
DESCRIPTION:The Parkinson’s support group provides emotional support and shared experiences\, helping individuals feel less isolated in their journey.
URL:https://eaglepointseniorliving.com/event-calendar/parkinsons-support-group-10/
LOCATION:Theater (3rd Floor)
CATEGORIES:Assisted Living
END:VEVENT
BEGIN:VEVENT
DTSTART;TZID=America/Chicago:20260320T130000
DTEND;TZID=America/Chicago:20260320T140000
DTSTAMP:20260425T173443
CREATED:20260226T042635Z
LAST-MODIFIED:20260319T052422Z
UID:10004886-1774011600-1774015200@eaglepointseniorliving.com
SUMMARY:Spring Bingo!
DESCRIPTION:Let’s celebrate the first day of spring with some Spring Bingo!
URL:https://eaglepointseniorliving.com/event-calendar/spring-bingo/
LOCATION:Theater (3rd Floor)
CATEGORIES:Assisted Living
END:VEVENT
BEGIN:VEVENT
DTSTART;TZID=America/Chicago:20260320T130000
DTEND;TZID=America/Chicago:20260320T150000
DTSTAMP:20260425T173443
CREATED:20260219T042435Z
LAST-MODIFIED:20260319T052422Z
UID:10004772-1774011600-1774018800@eaglepointseniorliving.com
SUMMARY:Bridge in the Art Room
DESCRIPTION:PLEASE SIGN UP IN THE ART ROOM!! For more information to join a table of 4 or to be a sub\, please come to the Art Room or contact Sylvia Glanz.
URL:https://eaglepointseniorliving.com/event-calendar/bridge-in-the-art-room-25/
LOCATION:Art Room (2nd Floor)
CATEGORIES:Assisted Living
END:VEVENT
BEGIN:VEVENT
DTSTART;TZID=America/Chicago:20260320T150000
DTEND;TZID=America/Chicago:20260320T160000
DTSTAMP:20260425T173443
CREATED:20260219T042435Z
LAST-MODIFIED:20260319T052422Z
UID:10004774-1774018800-1774022400@eaglepointseniorliving.com
SUMMARY:Happy Hour with Jim & Nancy
DESCRIPTION:Jim ‘n’ Nancy performed over 1000 gigs in their 15 years together. Audiences of all ages love them for their personable\, energetic and fun performances. They’ll get you moving with an extensive song list covering all genres and eras.
URL:https://eaglepointseniorliving.com/event-calendar/happy-hour-with-jim-nancy/
LOCATION:Lobby (1st Floor)
CATEGORIES:Assisted Living
END:VEVENT
END:VCALENDAR