BEGIN:VCALENDAR
VERSION:2.0
PRODID:-//Eagle Point Senior Living - ECPv6.11.2.1//NONSGML v1.0//EN
CALSCALE:GREGORIAN
METHOD:PUBLISH
X-WR-CALNAME:Eagle Point Senior Living
X-ORIGINAL-URL:https://eaglepointseniorliving.com
X-WR-CALDESC:Events for Eagle Point Senior Living
REFRESH-INTERVAL;VALUE=DURATION:PT1H
X-Robots-Tag:noindex
X-PUBLISHED-TTL:PT1H
BEGIN:VTIMEZONE
TZID:America/Chicago
BEGIN:DAYLIGHT
TZOFFSETFROM:-0600
TZOFFSETTO:-0500
TZNAME:CDT
DTSTART:20260308T080000
END:DAYLIGHT
BEGIN:STANDARD
TZOFFSETFROM:-0500
TZOFFSETTO:-0600
TZNAME:CST
DTSTART:20261101T070000
END:STANDARD
END:VTIMEZONE
BEGIN:VEVENT
DTSTART;TZID=America/Chicago:20260317T091500
DTEND;TZID=America/Chicago:20260317T094500
DTSTAMP:20260425T192618
CREATED:20260313T045502Z
LAST-MODIFIED:20260317T052424Z
UID:10005116-1773738900-1773740700@eaglepointseniorliving.com
SUMMARY:Daily Devotions
DESCRIPTION:
URL:https://eaglepointseniorliving.com/event-calendar/daily-devotions-234/
LOCATION:Library (1st Floor)
CATEGORIES:Assisted Living
END:VEVENT
BEGIN:VEVENT
DTSTART;TZID=America/Chicago:20260317T100000
DTEND;TZID=America/Chicago:20260317T103000
DTSTAMP:20260425T192618
CREATED:20260216T042434Z
LAST-MODIFIED:20260317T052424Z
UID:10004720-1773741600-1773743400@eaglepointseniorliving.com
SUMMARY:Gentle Flow and Mindful Minutes: 20 minutes of easy movement and 10 minutes of mindfulness
DESCRIPTION:Twenty minutes of slow and easy yoga moves and stretches followed by 10 minutes of mindful breathing.
URL:https://eaglepointseniorliving.com/event-calendar/gentle-flow-and-mindful-minutes-20-minutes-of-easy-movement-and-10-minutes-of-mindfulness-6/
LOCATION:Wellness Room (Lower Level)
CATEGORIES:Assisted Living
END:VEVENT
BEGIN:VEVENT
DTSTART;TZID=America/Chicago:20260317T104500
DTEND;TZID=America/Chicago:20260317T113000
DTSTAMP:20260425T192618
CREATED:20260216T042434Z
LAST-MODIFIED:20260317T052424Z
UID:10004721-1773744300-1773747000@eaglepointseniorliving.com
SUMMARY:Resident of the Month-Dick L
DESCRIPTION:Dick will be 100 years old on April 19th. He will share his life story; memories of a century of life\, including historical events witnessed\, personal milestones\, lessons learned\, and changes in society over time.
URL:https://eaglepointseniorliving.com/event-calendar/resident-of-the-month-dick-l/
LOCATION:Art Room (2nd Floor)
CATEGORIES:Assisted Living
END:VEVENT
BEGIN:VEVENT
DTSTART;TZID=America/Chicago:20260317T124500
DTEND;TZID=America/Chicago:20260317T134500
DTSTAMP:20260425T192618
CREATED:20260304T042427Z
LAST-MODIFIED:20260317T052424Z
UID:10004969-1773751500-1773755100@eaglepointseniorliving.com
SUMMARY:TRYathlon: Final Four
DESCRIPTION:All residents are invited to participate in the Lifespark TRYathlon! The competition is held on Tuesdays and Thursdays at 1:00 PM. We compete against other Lifespark communities in a fun challenge of walking (all abilities welcome)\, arm crank\, and leg crank. Fridays at 1:00 we watch The Really Big Show to find out our standings in the competition.
URL:https://eaglepointseniorliving.com/event-calendar/tryathlon-final-four-2/
LOCATION:Lobby (1st Floor)
CATEGORIES:Assisted Living
END:VEVENT
BEGIN:VEVENT
DTSTART;TZID=America/Chicago:20260317T133000
DTEND;TZID=America/Chicago:20260317T143000
DTSTAMP:20260425T192618
CREATED:20260216T042434Z
LAST-MODIFIED:20260317T052425Z
UID:10004725-1773754200-1773757800@eaglepointseniorliving.com
SUMMARY:NOTE TIME CHANGE! Jeopardy with Brenda
DESCRIPTION:
URL:https://eaglepointseniorliving.com/event-calendar/jeopardy-with-brenda-23/
LOCATION:Art Room (2nd Floor)
CATEGORIES:Assisted Living
END:VEVENT
BEGIN:VEVENT
DTSTART;TZID=America/Chicago:20260317T140000
DTEND;TZID=America/Chicago:20260317T143000
DTSTAMP:20260425T192618
CREATED:20260216T042434Z
LAST-MODIFIED:20260317T052425Z
UID:10004724-1773756000-1773757800@eaglepointseniorliving.com
SUMMARY:Smoothie Tuesdays: Your Favorite Flavors in a Nutritious Drink
DESCRIPTION:Join us each Tuesday as we make fresh protein smoothies each week in the lobby at 2:00pm. Each week will be a different flavor!
URL:https://eaglepointseniorliving.com/event-calendar/smoothie-tuesdays-your-favorite-flavors-in-a-nutritious-drink-12/
LOCATION:Lobby (1st Floor)
CATEGORIES:Assisted Living
END:VEVENT
BEGIN:VEVENT
DTSTART;TZID=America/Chicago:20260317T153000
DTEND;TZID=America/Chicago:20260317T163000
DTSTAMP:20260425T192618
CREATED:20260216T042434Z
LAST-MODIFIED:20260317T052425Z
UID:10004726-1773761400-1773765000@eaglepointseniorliving.com
SUMMARY:Happy St. Patrick's Day with Mark Tully playing Irish and Celtic Tunes
DESCRIPTION:Mark Tully has been playing music for 45 years. He specialized in historical music and has pulled out his songbook of Irish and Celtic tunes. He will tell us the history and lore surrounding some of these lovely tunes! Enjoy a special St. Patty’s Day treat and beverages.
URL:https://eaglepointseniorliving.com/event-calendar/happy-st-patricks-day-with-mark-tully-playing-irish-and-celtic-tunes/
LOCATION:Lobby (1st Floor)
CATEGORIES:Assisted Living
END:VEVENT
END:VCALENDAR