BEGIN:VCALENDAR
VERSION:2.0
PRODID:-//Eagle Point Senior Living - ECPv6.11.2.1//NONSGML v1.0//EN
CALSCALE:GREGORIAN
METHOD:PUBLISH
X-ORIGINAL-URL:https://eaglepointseniorliving.com
X-WR-CALDESC:Events for Eagle Point Senior Living
REFRESH-INTERVAL;VALUE=DURATION:PT1H
X-Robots-Tag:noindex
X-PUBLISHED-TTL:PT1H
BEGIN:VTIMEZONE
TZID:America/Chicago
BEGIN:DAYLIGHT
TZOFFSETFROM:-0600
TZOFFSETTO:-0500
TZNAME:CDT
DTSTART:20260308T080000
END:DAYLIGHT
BEGIN:STANDARD
TZOFFSETFROM:-0500
TZOFFSETTO:-0600
TZNAME:CST
DTSTART:20261101T070000
END:STANDARD
END:VTIMEZONE
BEGIN:VEVENT
DTSTART;VALUE=DATE:20260309
DTEND;VALUE=DATE:20260317
DTSTAMP:20260425T175514
CREATED:20260305T042428Z
LAST-MODIFIED:20260316T052423Z
UID:10004991-1773014400-1773705599@eaglepointseniorliving.com
SUMMARY:St Patty's Day Coin Hunt!
DESCRIPTION:Be on the lookout! Find 4 coins and you’ll be able to turn them in for a treat on Tuesday\, March 17th during our St. Patty’s Day party. If you find the bonus glass shamrock\, you’ll get a special prize. Limit 4 coins and 1 glass shamrock per person (only 7 glass shamrocks available). Bring your coins or shamrock to the party on March 17th to redeem your prize!
URL:https://eaglepointseniorliving.com/event-calendar/st-pattys-day-coin-hunt/
LOCATION:Building
CATEGORIES:Assisted Living
END:VEVENT
BEGIN:VEVENT
DTSTART;TZID=America/Chicago:20260312T091500
DTEND;TZID=America/Chicago:20260312T094500
DTSTAMP:20260425T175514
CREATED:20260211T042434Z
LAST-MODIFIED:20260312T043931Z
UID:10004649-1773306900-1773308700@eaglepointseniorliving.com
SUMMARY:Daily Devotions
DESCRIPTION:Chaplain Peter will lead us in morning daily devotions\, Monday-Friday
URL:https://eaglepointseniorliving.com/event-calendar/daily-devotions-211/
LOCATION:Library (1st Floor)
CATEGORIES:Assisted Living
END:VEVENT
BEGIN:VEVENT
DTSTART;TZID=America/Chicago:20260312T100000
DTEND;TZID=America/Chicago:20260312T110000
DTSTAMP:20260425T175514
CREATED:20260211T042434Z
LAST-MODIFIED:20260312T043933Z
UID:10004650-1773309600-1773313200@eaglepointseniorliving.com
SUMMARY:Catholic Communion
DESCRIPTION:Corporate communion presided over by a deacon or layperson with hymns and rosary.
URL:https://eaglepointseniorliving.com/event-calendar/catholic-communion-34/
LOCATION:Theater (3rd Floor)
CATEGORIES:Assisted Living
END:VEVENT
BEGIN:VEVENT
DTSTART;TZID=America/Chicago:20260312T103000
DTEND;TZID=America/Chicago:20260312T113000
DTSTAMP:20260425T175514
CREATED:20260211T042434Z
LAST-MODIFIED:20260312T043935Z
UID:10004651-1773311400-1773315000@eaglepointseniorliving.com
SUMMARY:Empowered by Movement-OPEN TO ALL!
DESCRIPTION:Experience the joy and fun of movement\, improve balance and coordination\, and boost your confidence through movement to music! Everyone invited to attend\, whatever your abilities!
URL:https://eaglepointseniorliving.com/event-calendar/empowered-by-movement-open-to-all-6/
LOCATION:Wellness Room (Lower Level)
CATEGORIES:Assisted Living
END:VEVENT
BEGIN:VEVENT
DTSTART;TZID=America/Chicago:20260312T130000
DTEND;TZID=America/Chicago:20260312T140000
DTSTAMP:20260425T175514
CREATED:20260214T042429Z
LAST-MODIFIED:20260312T043937Z
UID:10004694-1773320400-1773324000@eaglepointseniorliving.com
SUMMARY:Diamond Art Projects
DESCRIPTION:Join in for revisiting Diamond Art! All abilities are welcome! This is a fun and easy to do craft.
URL:https://eaglepointseniorliving.com/event-calendar/diamond-art-projects/
LOCATION:Art Room (2nd Floor)
CATEGORIES:Assisted Living
END:VEVENT
BEGIN:VEVENT
DTSTART;TZID=America/Chicago:20260312T140000
DTEND;TZID=America/Chicago:20260312T150000
DTSTAMP:20260425T175514
CREATED:20260306T042436Z
LAST-MODIFIED:20260312T043939Z
UID:10005011-1773324000-1773327600@eaglepointseniorliving.com
SUMMARY:These dogs are REALLY good boys! Learn how dogs sniff out cancer\, electronics\, and more!
DESCRIPTION:Discover the amazing abilities of dogs that are specially trained to detect things humans can’t—like certain cancers\, oncoming seizures\, and even hidden electronics. This fascinating program explores how these highly skilled canine noses are helping people in medical\, safety\, and investigative fields
URL:https://eaglepointseniorliving.com/event-calendar/these-dogs-are-really-good-boys-learn-how-dogs-sniff-out-cancer-electronics-and-more/
LOCATION:Theater (3rd Floor)
CATEGORIES:Assisted Living
END:VEVENT
BEGIN:VEVENT
DTSTART;TZID=America/Chicago:20260312T150000
DTEND;TZID=America/Chicago:20260312T160000
DTSTAMP:20260425T175514
CREATED:20260211T042434Z
LAST-MODIFIED:20260312T043941Z
UID:10004654-1773327600-1773331200@eaglepointseniorliving.com
SUMMARY:Sing-along to favorite songs!
DESCRIPTION:A joyful\, interactive activity to sing familiar songs promoting social engagement\, memory recall\, and emotional well-being.
URL:https://eaglepointseniorliving.com/event-calendar/sing-along-to-favorite-songs-15/
LOCATION:Art Room (2nd Floor)
CATEGORIES:Assisted Living
END:VEVENT
BEGIN:VEVENT
DTSTART;TZID=America/Chicago:20260312T180000
DTEND;TZID=America/Chicago:20260312T190000
DTSTAMP:20260425T175514
CREATED:20260211T042434Z
LAST-MODIFIED:20260312T043943Z
UID:10004655-1773338400-1773342000@eaglepointseniorliving.com
SUMMARY:CANCELED: Bingo with Dawn
DESCRIPTION:Sorry\, BINGO is cancelled tonight.
URL:https://eaglepointseniorliving.com/event-calendar/cancelled-bingo-with-dawn/
LOCATION:Theater (3rd Floor)
CATEGORIES:Assisted Living
END:VEVENT
END:VCALENDAR