BEGIN:VCALENDAR
VERSION:2.0
PRODID:-//Eagle Point Senior Living - ECPv6.11.2.1//NONSGML v1.0//EN
CALSCALE:GREGORIAN
METHOD:PUBLISH
X-WR-CALNAME:Eagle Point Senior Living
X-ORIGINAL-URL:https://eaglepointseniorliving.com
X-WR-CALDESC:Events for Eagle Point Senior Living
REFRESH-INTERVAL;VALUE=DURATION:PT1H
X-Robots-Tag:noindex
X-PUBLISHED-TTL:PT1H
BEGIN:VTIMEZONE
TZID:America/Chicago
BEGIN:DAYLIGHT
TZOFFSETFROM:-0600
TZOFFSETTO:-0500
TZNAME:CDT
DTSTART:20260308T080000
END:DAYLIGHT
BEGIN:STANDARD
TZOFFSETFROM:-0500
TZOFFSETTO:-0600
TZNAME:CST
DTSTART:20261101T070000
END:STANDARD
END:VTIMEZONE
BEGIN:VEVENT
DTSTART;TZID=America/Chicago:20260304T091500
DTEND;TZID=America/Chicago:20260304T094500
DTSTAMP:20260425T174232
CREATED:20260203T032430Z
LAST-MODIFIED:20260304T042423Z
UID:10004525-1772615700-1772617500@eaglepointseniorliving.com
SUMMARY:Daily Devotions
DESCRIPTION:Chaplain Peter will lead us in morning daily devotions\, Monday-Friday
URL:https://eaglepointseniorliving.com/event-calendar/daily-devotions-205/
LOCATION:Library (1st Floor)
CATEGORIES:Assisted Living
END:VEVENT
BEGIN:VEVENT
DTSTART;TZID=America/Chicago:20260304T100000
DTEND;TZID=America/Chicago:20260304T103000
DTSTAMP:20260425T174232
CREATED:20260203T032431Z
LAST-MODIFIED:20260304T042423Z
UID:10004526-1772618400-1772620200@eaglepointseniorliving.com
SUMMARY:Exercise Mix: Weights\, Resistance Bands\, and Ball Exercises
DESCRIPTION:
URL:https://eaglepointseniorliving.com/event-calendar/exercise-mix-weights-resistance-bands-and-ball-exercises-11/
LOCATION:Wellness Room (Lower Level)
CATEGORIES:Assisted Living
END:VEVENT
BEGIN:VEVENT
DTSTART;TZID=America/Chicago:20260304T104500
DTEND;TZID=America/Chicago:20260304T113000
DTSTAMP:20260425T174232
CREATED:20260217T042439Z
LAST-MODIFIED:20260304T042423Z
UID:10004735-1772621100-1772623800@eaglepointseniorliving.com
SUMMARY:Disc Drumming
DESCRIPTION:Drumming involves playing a rubber disc with sticks while sitting in a chair\, emphasizing proper posture\, wrist movement\, and varied playing surfaces for different tones. Enjoyable music and exercise activity. All are welcome!
URL:https://eaglepointseniorliving.com/event-calendar/disc-drumming-14/
LOCATION:Art Room (2nd Floor)
CATEGORIES:Assisted Living
END:VEVENT
BEGIN:VEVENT
DTSTART;TZID=America/Chicago:20260304T123000
DTEND;TZID=America/Chicago:20260304T133000
DTSTAMP:20260425T174232
CREATED:20260203T032431Z
LAST-MODIFIED:20260304T042423Z
UID:10004527-1772627400-1772631000@eaglepointseniorliving.com
SUMMARY:Lawrence Music Students Perform: Bassoons
DESCRIPTION:The very talented Lawrence University music students (bassoons) will perform for us.
URL:https://eaglepointseniorliving.com/event-calendar/lawrence-music-students-perform-bassoons/
LOCATION:Lobby (1st Floor)
CATEGORIES:Assisted Living
END:VEVENT
BEGIN:VEVENT
DTSTART;TZID=America/Chicago:20260304T140000
DTEND;TZID=America/Chicago:20260304T150000
DTSTAMP:20260425T174232
CREATED:20260203T032431Z
LAST-MODIFIED:20260304T042423Z
UID:10004529-1772632800-1772636400@eaglepointseniorliving.com
SUMMARY:Resident Council: An opportunity to share ideas\, address concerns\, and help improve community life.
DESCRIPTION:Resident Council’s primary purpose is to represent residents’ interests\, advocate for improvements in their living conditions\, and facilitate communication between residents and management.
URL:https://eaglepointseniorliving.com/event-calendar/resident-council-an-opportunity-to-share-ideas-address-concerns-and-help-improve-community-life-4/
LOCATION:Theater (3rd Floor)
CATEGORIES:Assisted Living
END:VEVENT
BEGIN:VEVENT
DTSTART;TZID=America/Chicago:20260304T150000
DTEND;TZID=America/Chicago:20260304T160000
DTSTAMP:20260425T174232
CREATED:20260203T032431Z
LAST-MODIFIED:20260304T042423Z
UID:10004530-1772636400-1772640000@eaglepointseniorliving.com
SUMMARY:Church Service with Chaplain Peter
DESCRIPTION:
URL:https://eaglepointseniorliving.com/event-calendar/church-service-with-chaplain-peter-43/
LOCATION:Theater (3rd Floor)
CATEGORIES:Assisted Living
END:VEVENT
BEGIN:VEVENT
DTSTART;TZID=America/Chicago:20260304T150000
DTEND;TZID=America/Chicago:20260304T160000
DTSTAMP:20260425T174232
CREATED:20260203T032431Z
LAST-MODIFIED:20260304T042423Z
UID:10004531-1772636400-1772640000@eaglepointseniorliving.com
SUMMARY:Cribbage
DESCRIPTION:
URL:https://eaglepointseniorliving.com/event-calendar/cribbage-43/
LOCATION:Art Room (2nd Floor)
CATEGORIES:Assisted Living
END:VEVENT
BEGIN:VEVENT
DTSTART;TZID=America/Chicago:20260304T153000
DTEND;TZID=America/Chicago:20260304T163000
DTSTAMP:20260425T174232
CREATED:20260217T042439Z
LAST-MODIFIED:20260304T042423Z
UID:10004736-1772638200-1772641800@eaglepointseniorliving.com
SUMMARY:Game Time-Family Feud
DESCRIPTION:
URL:https://eaglepointseniorliving.com/event-calendar/game-time-family-feud-4/
LOCATION:Art Room (2nd Floor)
CATEGORIES:Assisted Living
END:VEVENT
BEGIN:VEVENT
DTSTART;TZID=America/Chicago:20260304T183000
DTEND;TZID=America/Chicago:20260304T193000
DTSTAMP:20260425T174232
CREATED:20260220T042428Z
LAST-MODIFIED:20260304T042423Z
UID:10004785-1772649000-1772652600@eaglepointseniorliving.com
SUMMARY:Wednesday Lent Online Service 6:30 PM
DESCRIPTION:
URL:https://eaglepointseniorliving.com/event-calendar/wednesday-lent-online-service-630-pm-2/
LOCATION:Theater (3rd Floor)
CATEGORIES:Assisted Living
END:VEVENT
END:VCALENDAR