BEGIN:VCALENDAR
VERSION:2.0
PRODID:-//Eagle Point Senior Living - ECPv6.11.2.1//NONSGML v1.0//EN
CALSCALE:GREGORIAN
METHOD:PUBLISH
X-WR-CALNAME:Eagle Point Senior Living
X-ORIGINAL-URL:https://eaglepointseniorliving.com
X-WR-CALDESC:Events for Eagle Point Senior Living
REFRESH-INTERVAL;VALUE=DURATION:PT1H
X-Robots-Tag:noindex
X-PUBLISHED-TTL:PT1H
BEGIN:VTIMEZONE
TZID:America/Chicago
BEGIN:DAYLIGHT
TZOFFSETFROM:-0600
TZOFFSETTO:-0500
TZNAME:CDT
DTSTART:20260308T080000
END:DAYLIGHT
BEGIN:STANDARD
TZOFFSETFROM:-0500
TZOFFSETTO:-0600
TZNAME:CST
DTSTART:20261101T070000
END:STANDARD
END:VTIMEZONE
BEGIN:VEVENT
DTSTART;TZID=America/Chicago:20260110T093000
DTEND;TZID=America/Chicago:20260110T103000
DTSTAMP:20260425T223723
CREATED:20251212T002436Z
LAST-MODIFIED:20260110T015437Z
UID:10003595-1768037400-1768041000@eaglepointseniorliving.com
SUMMARY:Saturday Morning Chat\, Coffee\, and Simple Simon Donuts!
DESCRIPTION:Enjoy conversation with treats!
URL:https://eaglepointseniorliving.com/event-calendar/saturday-morning-chat-coffee-and-simple-simon-donuts-12/
LOCATION:Lobby
CATEGORIES:Assisted Living
END:VEVENT
BEGIN:VEVENT
DTSTART;TZID=America/Chicago:20260110T130000
DTEND;TZID=America/Chicago:20260110T150000
DTSTAMP:20260425T223723
CREATED:20251224T010927Z
LAST-MODIFIED:20260110T015437Z
UID:10003742-1768050000-1768057200@eaglepointseniorliving.com
SUMMARY:Saturday Afternoon Movie: Adams Rib (1949)
DESCRIPTION:Domestic and professional tensions mount when a husband and wife work as opposing lawyers in a case involving a woman who shot her husband. Spencer Tracy and Katherine Hepburn (1949). 1 hr 41 min. (DVD)
URL:https://eaglepointseniorliving.com/event-calendar/saturday-afternoon-movie-37/
LOCATION:Theater (3rd Floor)
CATEGORIES:Assisted Living
END:VEVENT
BEGIN:VEVENT
DTSTART;TZID=America/Chicago:20260110T140000
DTEND;TZID=America/Chicago:20260110T150000
DTSTAMP:20260425T223723
CREATED:20251212T002437Z
LAST-MODIFIED:20260110T015437Z
UID:10003597-1768053600-1768057200@eaglepointseniorliving.com
SUMMARY:Open Art Room-Residents are encouraged to use the 2nd Floor AR for Art/Crafts/Card Games of Choice
DESCRIPTION:
URL:https://eaglepointseniorliving.com/event-calendar/open-art-room-residents-are-encouraged-to-use-the-2nd-floor-ar-for-art-crafts-card-games-of-choice-6/
LOCATION:Art Room (2nd Floor)
CATEGORIES:Assisted Living
END:VEVENT
BEGIN:VEVENT
DTSTART;TZID=America/Chicago:20260110T143000
DTEND;TZID=America/Chicago:20260110T150000
DTSTAMP:20260425T223723
CREATED:20251231T010933Z
LAST-MODIFIED:20260110T015437Z
UID:10003903-1768055400-1768057200@eaglepointseniorliving.com
SUMMARY:Mount Olive Church Choir Singing
DESCRIPTION:Join Mount Olive church choir for an extended season of caroling. The adult choir is sure to please\, singing many of your favorite songs from the holiday season.
URL:https://eaglepointseniorliving.com/event-calendar/mount-olive-church-choir-caroling/
LOCATION:Lobby
CATEGORIES:Assisted Living
END:VEVENT
BEGIN:VEVENT
DTSTART;TZID=America/Chicago:20260110T150000
DTEND;TZID=America/Chicago:20260110T160000
DTSTAMP:20260425T223723
CREATED:20260104T013951Z
LAST-MODIFIED:20260110T015437Z
UID:10004010-1768057200-1768060800@eaglepointseniorliving.com
SUMMARY:Resident Sheepshead
DESCRIPTION:
URL:https://eaglepointseniorliving.com/event-calendar/resident-sheepshead-34/
LOCATION:Game Room (1st Floor)
CATEGORIES:Assisted Living
END:VEVENT
BEGIN:VEVENT
DTSTART;TZID=America/Chicago:20260110T190000
DTEND;TZID=America/Chicago:20260110T220000
DTSTAMP:20260425T223723
CREATED:20260110T015437Z
LAST-MODIFIED:20260110T015437Z
UID:10004110-1768071600-1768082400@eaglepointseniorliving.com
SUMMARY:Saturday Night NFC North Playoff Game Chicago Bears(1st Place) vs Green Bay Packers(2nd Place)
DESCRIPTION:
URL:https://eaglepointseniorliving.com/event-calendar/saturday-night-nfc-north-playoff-game-chicago-bears1st-place-vs-green-bay-packers2nd-place/
LOCATION:Theater (3rd Floor)
CATEGORIES:Assisted Living
END:VEVENT
BEGIN:VEVENT
DTSTART;TZID=America/Chicago:20260110T190000
DTEND;TZID=America/Chicago:20260110T220000
DTSTAMP:20260425T223723
CREATED:20260110T015437Z
LAST-MODIFIED:20260111T015424Z
UID:10004111-1768071600-1768082400@eaglepointseniorliving.com
SUMMARY:Saturday Night NFC North Playoff Game Chicago Bears(1st Place) vs Green Bay Packers(2nd Place)
DESCRIPTION:
URL:https://eaglepointseniorliving.com/event-calendar/saturday-night-nfc-north-playoff-game-chicago-bears1st-place-vs-green-bay-packers2nd-place-2/
LOCATION:Theater (3rd Floor)
CATEGORIES:Assisted Living
END:VEVENT
END:VCALENDAR