BEGIN:VCALENDAR
VERSION:2.0
PRODID:-//Eagle Point Senior Living - ECPv6.11.2.1//NONSGML v1.0//EN
CALSCALE:GREGORIAN
METHOD:PUBLISH
X-ORIGINAL-URL:https://eaglepointseniorliving.com
X-WR-CALDESC:Events for Eagle Point Senior Living
REFRESH-INTERVAL;VALUE=DURATION:PT1H
X-Robots-Tag:noindex
X-PUBLISHED-TTL:PT1H
BEGIN:VTIMEZONE
TZID:America/Chicago
BEGIN:DAYLIGHT
TZOFFSETFROM:-0600
TZOFFSETTO:-0500
TZNAME:CDT
DTSTART:20260308T080000
END:DAYLIGHT
BEGIN:STANDARD
TZOFFSETFROM:-0500
TZOFFSETTO:-0600
TZNAME:CST
DTSTART:20261101T070000
END:STANDARD
END:VTIMEZONE
BEGIN:VEVENT
DTSTART;TZID=America/Chicago:20260105T091500
DTEND;TZID=America/Chicago:20260105T094500
DTSTAMP:20260425T205554
CREATED:20251207T002430Z
LAST-MODIFIED:20260105T013929Z
UID:10003533-1767604500-1767606300@eaglepointseniorliving.com
SUMMARY:Daily Devotions
DESCRIPTION:Chaplain Peter will lead us in morning daily devotions\, Monday-Friday
URL:https://eaglepointseniorliving.com/event-calendar/daily-devotions-163/
LOCATION:Library (1st Floor)
CATEGORIES:Assisted Living
END:VEVENT
BEGIN:VEVENT
DTSTART;TZID=America/Chicago:20260105T100000
DTEND;TZID=America/Chicago:20260105T103000
DTSTAMP:20260425T205554
CREATED:20251207T002430Z
LAST-MODIFIED:20260105T013929Z
UID:10003534-1767607200-1767609000@eaglepointseniorliving.com
SUMMARY:Weight Resistance Class
DESCRIPTION:A weight resistance class led by our resident Linda!
URL:https://eaglepointseniorliving.com/event-calendar/weight-resistance-class-70/
LOCATION:Wellness Room (Lower Level)
CATEGORIES:Assisted Living
END:VEVENT
BEGIN:VEVENT
DTSTART;TZID=America/Chicago:20260105T104500
DTEND;TZID=America/Chicago:20260105T113000
DTSTAMP:20260425T205554
CREATED:20251217T005434Z
LAST-MODIFIED:20260105T013929Z
UID:10003659-1767609900-1767612600@eaglepointseniorliving.com
SUMMARY:"Mischief Finds Mitch Mitchell" Read A Long Short Story and Discussion
DESCRIPTION:We board a downtown bank elevator and travel back in time to the fall of 1972. It is a little more than three years after the first moon landing by the Apollo 11 crew. As part of this and subsequent missions\, moon rocks had been collected and brought back to Earth. During the ’70s\, NASA initiated a public relations program—a traveling exhibit of moon rock samples for public viewing. When one of these exhibits comes to the bank where Andy Peters and Mitch Mitchell work\, shenanigans get underway.
URL:https://eaglepointseniorliving.com/event-calendar/lifespark-monthly-theme-4/
LOCATION:Art Room (2nd Floor)
CATEGORIES:Assisted Living
END:VEVENT
BEGIN:VEVENT
DTSTART;TZID=America/Chicago:20260105T130000
DTEND;TZID=America/Chicago:20260105T140000
DTSTAMP:20260425T205554
CREATED:20251207T002430Z
LAST-MODIFIED:20260105T013929Z
UID:10003536-1767618000-1767621600@eaglepointseniorliving.com
SUMMARY:Grocery Outing: Meijer (Sign up at Front Desk)
DESCRIPTION:Sign up at the front desk. Please arrive in the lobby by 12:50 PM so we can load and leave by 1:00 PM. We need at least three to sign up to make the trip. Thank you!
URL:https://eaglepointseniorliving.com/event-calendar/grocery-outing-12/
LOCATION:Lobby
CATEGORIES:Assisted Living
END:VEVENT
BEGIN:VEVENT
DTSTART;TZID=America/Chicago:20260105T133000
DTEND;TZID=America/Chicago:20260105T143000
DTSTAMP:20260425T205554
CREATED:20251207T002430Z
LAST-MODIFIED:20260105T013929Z
UID:10003537-1767619800-1767623400@eaglepointseniorliving.com
SUMMARY:Resident Sharing & Caring-Workplace and Jobs
DESCRIPTION:$5-a-Day Anniversary – On this day in 1914\, the Ford Motor Company doubled workers’ pay to $5 per day and reduced shifts to eight hours. Henry Ford’s groundbreaking move improved morale\, productivity\, and loyalty—and helped shape the modern workweek. Ford also introduced employee profit-sharing and offered benefits that encouraged stability and family life.
URL:https://eaglepointseniorliving.com/event-calendar/todays-special-8/
LOCATION:Art Room (2nd Floor)
CATEGORIES:Assisted Living
END:VEVENT
BEGIN:VEVENT
DTSTART;TZID=America/Chicago:20260105T150000
DTEND;TZID=America/Chicago:20260105T160000
DTSTAMP:20260425T205554
CREATED:20251207T002430Z
LAST-MODIFIED:20260105T013929Z
UID:10003538-1767625200-1767628800@eaglepointseniorliving.com
SUMMARY:Current Events: Learn about the latest in science\, art\, geography\, and more!
DESCRIPTION:Current events highlight the key news\, trends\, and issues shaping our world today\, from politics and economics to art\, science and culture. Keep up-to-date\, informed\, and connected to the rapidly changing global landscape.
URL:https://eaglepointseniorliving.com/event-calendar/current-events-learn-about-the-latest-in-science-art-geography-and-more-10/
LOCATION:Theater (3rd Floor)
CATEGORIES:Assisted Living
END:VEVENT
BEGIN:VEVENT
DTSTART;TZID=America/Chicago:20260105T180000
DTEND;TZID=America/Chicago:20260105T200000
DTSTAMP:20260425T205554
CREATED:20251207T002430Z
LAST-MODIFIED:20260106T015508Z
UID:10003539-1767636000-1767643200@eaglepointseniorliving.com
SUMMARY:Monday Evening Movie-JULIA ROBERTS SERIES: Mona Lisa Smile
DESCRIPTION:Katherine Watson (Julia Roberts) teaches art history in 1953 at the respectable all-female Wellesley College. She encourages her conservative students to question and disregard the outdated societal mores for women. (2003 DVD  1hr 57 min)
URL:https://eaglepointseniorliving.com/event-calendar/monday-evening-movie-20/
LOCATION:Theater (3rd Floor)
CATEGORIES:Assisted Living
END:VEVENT
END:VCALENDAR