BEGIN:VCALENDAR
VERSION:2.0
PRODID:-//Eagle Point Senior Living - ECPv6.11.2.1//NONSGML v1.0//EN
CALSCALE:GREGORIAN
METHOD:PUBLISH
X-WR-CALNAME:Eagle Point Senior Living
X-ORIGINAL-URL:https://eaglepointseniorliving.com
X-WR-CALDESC:Events for Eagle Point Senior Living
REFRESH-INTERVAL;VALUE=DURATION:PT1H
X-Robots-Tag:noindex
X-PUBLISHED-TTL:PT1H
BEGIN:VTIMEZONE
TZID:America/Chicago
BEGIN:DAYLIGHT
TZOFFSETFROM:-0600
TZOFFSETTO:-0500
TZNAME:CDT
DTSTART:20260308T080000
END:DAYLIGHT
BEGIN:STANDARD
TZOFFSETFROM:-0500
TZOFFSETTO:-0600
TZNAME:CST
DTSTART:20261101T070000
END:STANDARD
END:VTIMEZONE
BEGIN:VEVENT
DTSTART;TZID=America/Chicago:20260104T091500
DTEND;TZID=America/Chicago:20260104T103000
DTSTAMP:20260425T223650
CREATED:20251206T002453Z
LAST-MODIFIED:20260104T013950Z
UID:10003527-1767518100-1767522600@eaglepointseniorliving.com
SUMMARY:Immanuel Lutheran Church- Live Stream
DESCRIPTION:On line viewing of Immanuel Ev. Lutheran Church\, Greenville\, WI.\nAll denominations are invited to attend
URL:https://eaglepointseniorliving.com/event-calendar/immanuel-lutheran-church-live-stream-34/
LOCATION:Theater (3rd Floor)
CATEGORIES:Assisted Living
END:VEVENT
BEGIN:VEVENT
DTSTART;TZID=America/Chicago:20260104T120000
DTEND;TZID=America/Chicago:20260104T150000
DTSTAMP:20260425T223650
CREATED:20251230T010927Z
LAST-MODIFIED:20260104T013950Z
UID:10003879-1767528000-1767538800@eaglepointseniorliving.com
SUMMARY:NFL Football-Packers vs Vikings
DESCRIPTION:CBS
URL:https://eaglepointseniorliving.com/event-calendar/nfl-football-packers-vs-vikings/
LOCATION:Theater (3rd Floor)
CATEGORIES:Assisted Living
END:VEVENT
BEGIN:VEVENT
DTSTART;TZID=America/Chicago:20260104T152000
DTEND;TZID=America/Chicago:20260104T180000
DTSTAMP:20260425T223650
CREATED:20251230T010927Z
LAST-MODIFIED:20260104T013950Z
UID:10003880-1767540000-1767549600@eaglepointseniorliving.com
SUMMARY:NFL Football-Chicago Bears vs Detroit Lions
DESCRIPTION:FOX
URL:https://eaglepointseniorliving.com/event-calendar/nfl-football-chicago-bears-vs-detroit-lions/
LOCATION:Theater (3rd Floor)
CATEGORIES:Assisted Living
END:VEVENT
END:VCALENDAR