BEGIN:VCALENDAR
VERSION:2.0
PRODID:-//Eagle Point Senior Living - ECPv6.11.2.1//NONSGML v1.0//EN
CALSCALE:GREGORIAN
METHOD:PUBLISH
X-WR-CALNAME:Eagle Point Senior Living
X-ORIGINAL-URL:https://eaglepointseniorliving.com
X-WR-CALDESC:Events for Eagle Point Senior Living
REFRESH-INTERVAL;VALUE=DURATION:PT1H
X-Robots-Tag:noindex
X-PUBLISHED-TTL:PT1H
BEGIN:VTIMEZONE
TZID:America/Chicago
BEGIN:DAYLIGHT
TZOFFSETFROM:-0600
TZOFFSETTO:-0500
TZNAME:CDT
DTSTART:20260308T080000
END:DAYLIGHT
BEGIN:STANDARD
TZOFFSETFROM:-0500
TZOFFSETTO:-0600
TZNAME:CST
DTSTART:20261101T070000
END:STANDARD
END:VTIMEZONE
BEGIN:VEVENT
DTSTART;TZID=America/Chicago:20260421T090000
DTEND;TZID=America/Chicago:20260421T100000
DTSTAMP:20260421T015910
CREATED:20260417T075429Z
LAST-MODIFIED:20260420T075445Z
UID:10005501-1776762000-1776765600@eaglepointseniorliving.com
SUMMARY:Chair Yoga Dance
DESCRIPTION:
URL:https://eaglepointseniorliving.com/event-calendar/chair-yoga-dance-7/
CATEGORIES:Memory Care
END:VEVENT
BEGIN:VEVENT
DTSTART;TZID=America/Chicago:20260421T100000
DTEND;TZID=America/Chicago:20260421T110000
DTSTAMP:20260421T015910
CREATED:20260323T062533Z
LAST-MODIFIED:20260420T075446Z
UID:10005263-1776765600-1776769200@eaglepointseniorliving.com
SUMMARY:Spirit Spark
DESCRIPTION:Various spiritual topics and activities with Chaplain Peter.
URL:https://eaglepointseniorliving.com/event-calendar/daily-spirit-spark-127/
LOCATION:Activity room
CATEGORIES:Memory Care
END:VEVENT
BEGIN:VEVENT
DTSTART;TZID=America/Chicago:20260421T110000
DTEND;TZID=America/Chicago:20260421T120000
DTSTAMP:20260421T015910
CREATED:20260417T075429Z
LAST-MODIFIED:20260420T075446Z
UID:10005502-1776769200-1776772800@eaglepointseniorliving.com
SUMMARY:Morning Crafter
DESCRIPTION:
URL:https://eaglepointseniorliving.com/event-calendar/morning-crafter/
LOCATION:Activity room
CATEGORIES:Memory Care
END:VEVENT
BEGIN:VEVENT
DTSTART;TZID=America/Chicago:20260421T130000
DTEND;TZID=America/Chicago:20260421T140000
DTSTAMP:20260421T015910
CREATED:20260418T075422Z
LAST-MODIFIED:20260420T075445Z
UID:10005541-1776776400-1776780000@eaglepointseniorliving.com
SUMMARY:Bowling with Griper Balls
DESCRIPTION:
URL:https://eaglepointseniorliving.com/event-calendar/bowling-with-griper-balls/
LOCATION:Activity room
CATEGORIES:Memory Care
END:VEVENT
BEGIN:VEVENT
DTSTART;TZID=America/Chicago:20260421T150000
DTEND;TZID=America/Chicago:20260421T160000
DTSTAMP:20260421T015910
CREATED:20260418T075423Z
LAST-MODIFIED:20260420T075445Z
UID:10005542-1776783600-1776787200@eaglepointseniorliving.com
SUMMARY:Game Time
DESCRIPTION:
URL:https://eaglepointseniorliving.com/event-calendar/game-time-29/
LOCATION:Activity room
CATEGORIES:Memory Care
END:VEVENT
BEGIN:VEVENT
DTSTART;TZID=America/Chicago:20260421T190000
DTEND;TZID=America/Chicago:20260421T191500
DTSTAMP:20260421T015910
CREATED:20260323T062533Z
LAST-MODIFIED:20260420T075445Z
UID:10005268-1776798000-1776798900@eaglepointseniorliving.com
SUMMARY:Snack Pass
DESCRIPTION:
URL:https://eaglepointseniorliving.com/event-calendar/snack-pass-241/
LOCATION:Dining Room
CATEGORIES:Memory Care
END:VEVENT
END:VCALENDAR